BEGIN:VCALENDAR
VERSION:2.0
PRODID:-//Wynwood Business Improvement District -- Miami, Florida - ECPv6.15.16//NONSGML v1.0//EN
CALSCALE:GREGORIAN
METHOD:PUBLISH
X-WR-CALNAME:Wynwood Business Improvement District -- Miami, Florida
X-ORIGINAL-URL:https://wynwoodmiami.com
X-WR-CALDESC:Events for Wynwood Business Improvement District -- Miami, Florida
REFRESH-INTERVAL;VALUE=DURATION:PT1H
X-Robots-Tag:noindex
X-PUBLISHED-TTL:PT1H
BEGIN:VTIMEZONE
TZID:America/New_York
BEGIN:DAYLIGHT
TZOFFSETFROM:-0500
TZOFFSETTO:-0400
TZNAME:EDT
DTSTART:20250309T070000
END:DAYLIGHT
BEGIN:STANDARD
TZOFFSETFROM:-0400
TZOFFSETTO:-0500
TZNAME:EST
DTSTART:20251102T060000
END:STANDARD
BEGIN:DAYLIGHT
TZOFFSETFROM:-0500
TZOFFSETTO:-0400
TZNAME:EDT
DTSTART:20260308T070000
END:DAYLIGHT
BEGIN:STANDARD
TZOFFSETFROM:-0400
TZOFFSETTO:-0500
TZNAME:EST
DTSTART:20261101T060000
END:STANDARD
BEGIN:DAYLIGHT
TZOFFSETFROM:-0500
TZOFFSETTO:-0400
TZNAME:EDT
DTSTART:20270314T070000
END:DAYLIGHT
BEGIN:STANDARD
TZOFFSETFROM:-0400
TZOFFSETTO:-0500
TZNAME:EST
DTSTART:20271107T060000
END:STANDARD
END:VTIMEZONE
BEGIN:VEVENT
DTSTART;TZID=America/New_York:20260417T160000
DTEND;TZID=America/New_York:20260615T233000
DTSTAMP:20260422T164746
CREATED:20260422T150353Z
LAST-MODIFIED:20260422T165555Z
UID:74863-1776441600-1781566200@wynwoodmiami.com
SUMMARY:Where to Watch NBA Playoffs in Wynwood Miami (Best Watch Party) | Grails
DESCRIPTION:If you’re trying to figure out where to watch the NBA Playoffs in Wynwood\, Miami\, Grails is one of the spots people end up once the games actually start to matter. \nTables start filling early\, the crowd builds throughout the night\, and most groups stay for multiple games instead of bouncing around. \nFor anyone nearby looking for a sports bar in Wynwood during the NBA Playoffs\, this is one of the easier places to settle in and actually watch the game. Reserve for tonight’s game at Wywnood’s best sports bar! \n🔥 NBA Playoffs at Grails Miami \nPlayoff basketball at Grails isn’t background noise — it’s the reason people are there. \n70+ TVs across the venue\nLarge projector for marquee matchups\nIndoor seating + outdoor patio\nMultiple games on at once\nBuilt for full-night viewing\nFrom early tip-offs to late-night finishes\, the energy builds with each game. \n📍 Where to Watch NBA Playoffs in Wynwood \nNot every bar is set up for playoff basketball. \nSome places have the game on.\nOthers actually feel like a watch party. \nGrails is one of the more consistent spots in Wynwood for NBA Playoffs watch parties\, especially for people who want: \nFull game sound\nA crowd that’s locked in\nSpace to stay for multiple games \nIndoor and outdoor seating \n🍗 Food\, Drinks & Game Day Setup \nOnce you’re locked into a playoff game\, you’re not leaving after one quarter. \nAt Grails: \nWing Wednesday specials\nBeer buckets & pitchers\nSignature sneaker cocktails\nFull kitchen (wings\, burgers\, tacos)\nIt’s built for people staying through the full slate. \n📍 Location \nGrails Miami\n2800 N Miami Ave\nMiami\, FL 33127\nWynwood \nGame Day Hours & When to Go \nDuring the NBA Playoffs\, timing matters—especially for bigger matchups. \nGrails is open throughout the week\, with extended hours on weekends when the crowd builds earlier and stays later for multiple games. \nHours: \nMonday – Thursday: 4 PM – 12 AM\nFriday: 12 PM – 1 AM\nSaturday: 11 AM – 1 AM\nSunday: 11 AM – 12 AM\nWeekday Happy Hour: 4 PM – 7 PM\nWeekend Brunch: Saturday & Sunday\, 11 AM – 4 PM \nFor marquee games\, most people arrive early and stay through multiple matchups rather than bouncing between spots. \n⚠️ Plan Ahead \nPlayoff games bring consistent traffic to Wynwood. \nGroups tend to arrive early and stay for multiple matchups — especially as the series heats up. \n🧠 Final Take \nIf you’re deciding where to watch the NBA Playoffs in Wynwood\, it comes down to one thing: \n👉 Are you just catching the game\, or actually watching it? \nAt Grails\, it’s the reason people pull up.
URL:https://wynwoodmiami.com/event/where-to-watch-nba-playoffs-in-wynwood-miami-best-sports-bar-for-every-game/
LOCATION:Grails Sports Bar\, 2800 North Miami Avenue\, Miami\, FL\, 33127\, United States
CATEGORIES:Food + Drink,Sports
ATTACH;FMTTYPE=image/jpeg:https://wynwoodmiami.com/wp-content/uploads/nba-playoffs-watch-party-wynwood-miami-crowd-reaction-1.jpg-1-scaled.jpg
ORGANIZER;CN="Grails Sports Bar":MAILTO:hello@grailssportsbar.com
GEO:25.803195;-80.1952
X-APPLE-STRUCTURED-LOCATION;VALUE=URI;X-ADDRESS=Grails Sports Bar 2800 North Miami Avenue Miami FL 33127 United States;X-APPLE-RADIUS=500;X-TITLE=2800 North Miami Avenue:geo:-80.1952,25.803195
END:VEVENT
BEGIN:VEVENT
DTSTART;TZID=America/New_York:20260501T120000
DTEND;TZID=America/New_York:20260503T233000
DTSTAMP:20260422T164746
CREATED:20260422T172427Z
LAST-MODIFIED:20260422T172427Z
UID:74878-1777636800-1777851000@wynwoodmiami.com
SUMMARY:Where to Watch the F1 Miami Grand Prix in Wynwood (Full Race Weekend at Grails)
DESCRIPTION:If you’re trying to figure out where to watch the F1 Miami Grand Prix in Miami — especially in Wynwood — the difference usually comes down to this: \nAre you actually watching the race… or just somewhere that happens to have it on? \nA lot of places during race weekend feel more like a party with TVs in the background.\nOthers are set up so you don’t miss a single lap. \nGrails is one of the spots people lock into once the weekend starts. \n🏎 The Problem With Watching F1 in Most Places \nYou’ve probably seen it before: \n• TVs on\, but no real focus on the race\n• Sound competing with music (or completely off)\n• People coming and going with no one really following what’s happening \nIt’s fine if you’re casually watching. \nNot if you actually care about qualifying\, strategy\, or how the race unfolds. \n🔥 What Makes Grails Different on Race Weekend \nAt Grails\, the setup doesn’t change depending on the moment — the race is the priority the entire weekend. \nFrom the first practice session to Sunday’s Grand Prix\, people are actually watching\, reacting\, and staying through multiple sessions. \nYou’re not checking your phone to keep up — everything is happening in front of you. \n🏁 Full F1 Miami Grand Prix Weekend Coverage \nYou don’t have to bounce between spots or guess what’s being shown. \nThe full schedule is covered across the venue: \nFriday\, May 1\nPractice sessions live \nSaturday\, May 2\nQualifying rounds \nSunday\, May 3\nF1 Miami Grand Prix Watch Party – 4 pm \nIf you’re looking for where to watch Formula 1 in Miami this weekend\, this is one of the places you can actually follow everything from start to finish. \n🔊 What It Feels Like Inside \nBy qualifying and race day\, the room fills in — groups settle in\, drinks are flowing\, and people are locked into the screens. \n• 70+ TVs across the venue\n• Massive projector for key race moments\n• Full sound when it matters\n• Indoor Sneaker Lounge + outdoor patio\n• Crowd that stays for multiple sessions \nYou’re not stuck watching a corner TV with no sound — the whole room is tuned into the race. \n🍾 Race Weekend in Wynwood (Before & After the Track) \nWhether you’re coming from the track or already out in Wynwood\, this is one of those places that keeps going throughout the day. \n• DJs throughout the weekend\n• Bottomless brunch during daytime hours\n• Full kitchen (wings\, tacos\, burgers\, shareables)\n• Beer buckets\, pitchers\, and sneaker cocktails \nYou can show up for one session… and end up staying through the next. \n📍 Already in Wynwood? \nIf you’re out and deciding where to watch the race without overthinking it\, this is one of the easier moves. \nYou walk in\, the race is already on\, people are actually paying attention\, and you don’t feel like you picked the wrong spot. \n⚠️ When to Arrive \nRace weekend fills up — especially for qualifying and Sunday. \n👉 Arrive early or plan ahead \nLate arrivals usually end up waiting once the race crowd builds. \n📍 Location \nGrails Miami\n2800 N Miami Ave\nMiami\, FL 33127\nWynwood \n🧠 Final Take \nIf you’re just looking for somewhere with TVs during the F1 weekend\, you’ve got options. \nIf you want to actually follow the race\, hear it\, and be around people who are paying attention\, this is where people end up. \n🇪🇸 Dónde ver el F1 Miami Grand Prix en Wynwood \nSi estás buscando dónde ver la Fórmula 1 en Miami o “F1 cerca de mí”\, muchos lugares tienen las pantallas prendidas\, pero el ambiente no está enfocado en la carrera. \nEn Grails es diferente. \n• Todas las sesiones: práctica\, qualy y carrera\n• Más de 70 pantallas + proyector grande\n• Sonido completo durante los momentos importantes\n• Ambiente que empieza temprano y se llena para la carrera\n• Espacio indoor y patio en Wynwood \nSi estás en Wynwood y quieres un lugar donde realmente se sienta la carrera\, este es uno de los spots donde entras y te quedas. \nBook online at https://grailsmiami.com/event/f1-watch-parties/
URL:https://wynwoodmiami.com/event/where-to-watch-the-f1-miami-grand-prix-in-wynwood-full-race-weekend-at-grails/
LOCATION:Grails Sports Bar\, 2800 North Miami Avenue\, Miami\, FL\, 33127\, United States
CATEGORIES:Food + Drink,Music + Dance,Sports
ATTACH;FMTTYPE=image/png:https://wynwoodmiami.com/wp-content/uploads/c.png
ORGANIZER;CN="Grails Sports Bar":MAILTO:hello@grailssportsbar.com
GEO:25.803195;-80.1952
X-APPLE-STRUCTURED-LOCATION;VALUE=URI;X-ADDRESS=Grails Sports Bar 2800 North Miami Avenue Miami FL 33127 United States;X-APPLE-RADIUS=500;X-TITLE=2800 North Miami Avenue:geo:-80.1952,25.803195
END:VEVENT
BEGIN:VEVENT
DTSTART;TZID=America/New_York:20260506T160000
DTEND;TZID=America/New_York:20260506T230000
DTSTAMP:20260422T164746
CREATED:20260422T134939Z
LAST-MODIFIED:20260422T134939Z
UID:74838-1778083200-1778108400@wynwoodmiami.com
SUMMARY:Wing Wednesday in Wynwood Miami | $1 Wings at Grails
DESCRIPTION:If you’re trying to figure out where to go on a Wednesday in Wynwood — or just searching “Wing Wednesday near me” — you’ve probably noticed most spots are either too quiet midweek or the deal isn’t worth staying for. \nYou grab food… and then you leave. \nGrails is one of the places people actually end up staying. \n\n🍗 $1 Wings (All Day — No Catch)\nAt Grails\, Wing Wednesday keeps it simple: \n• $1 wings all day• Mix and match any flavors• Full menu still available• Indoor and outdoor seating• Easy to start early\, but builds into the night \nYou’re not locked into one style either. You can switch it up as you go: \nHouse Buffalo • Lemon Pepper • Wet Mix • Korean BBQ • Hot Honey • Jamaican Jerk • Garlic Parmesan • Sweet Chili • Naked • Carolina Gold BBQ \nIt’s the kind of setup where you come in for a quick bite and end up ordering a few more rounds without thinking about it. \n\n📍 Where to Go for Wing Wednesday in Wynwood\nIf you’re already in Wynwood and deciding where to eat\, this is one of those spots people naturally drift into once they start walking around. \nNot just because of the price — but because it actually feels like something is happening. \nIf you’ve been looking up: \n\nWing Wednesday in Miami\nFood deals in Wynwood\nCheap eats near me\n\nThis is one of the more reliable answers. \n\n🔥 What Wednesdays Feel Like at Grails\nThis isn’t a quiet midweek dinner. \nIt starts laid-back\, then the room fills in. More people walk in\, drinks start flowing\, and it shifts into a real crowd. \n• 70+ TVs across the venue• Massive projector for games• Full sound when it matters• Indoor Sneaker Lounge + outdoor patio• Music and a steady flow of people \nYou’re not stuck watching something on a random screen with no sound — the whole place is actually tuned into what’s on. \n\n📍 Details\nEvent: Wing WednesdaySpecial: $1 WingsWhen: Every WednesdayWhere: Grails Miami (Wynwood)Address: 2800 N Miami Ave\, Miami\, FL 33127 \n\n⚠️ When to Go\nEarlier = easier seatingLater = more energy \nWednesdays build as the night goes on\, especially once people start coming out in Wynwood. \n\n🧠 Already in Wynwood?\nIf you’re out and trying to decide where to go without overthinking it\, this is one of the easiest moves. \nYou walk in\, wings are already going\, TVs are on everywhere\, and it doesn’t feel like you picked the wrong spot. \n\n🏁 Final Take\nIf you just want cheap wings\, you’ve got options. \nIf you want somewhere you can actually hang out\, watch a game\, and let the night build — this is where people end up. \n\n🇪🇸 Dónde ir para Wing Wednesday en Wynwood\nSi estás buscando dónde comer un miércoles en Miami o “Wing Wednesday cerca de mí”\, muchos lugares se sienten vacíos o no valen la pena. \nEn Grails es diferente. \n• Alitas a $1 todo el día• Puedes escoger y mezclar sabores• Buffalo • Lemon Pepper • Korean BBQ • Hot Honey • Garlic Parmesan y más• Ambiente que empieza tranquilo y se llena en la noche• Pantallas por todo el lugar y patio en Wynwood \nSi ya estás en Wynwood y quieres algo fácil que no falle\, este es uno de esos lugares donde entras y te quedas.
URL:https://wynwoodmiami.com/event/wing-wednesday-in-wynwood-miami-1-wings-at-grails-2/2026-05-06/
LOCATION:Grails Sports Bar\, 2800 North Miami Avenue\, Miami\, FL\, 33127\, United States
CATEGORIES:Food + Drink
ATTACH;FMTTYPE=image/jpeg:https://wynwoodmiami.com/wp-content/uploads/JQYXGxIg.jpeg
ORGANIZER;CN="Grails Sports Bar":MAILTO:hello@grailssportsbar.com
GEO:25.803195;-80.1952
X-APPLE-STRUCTURED-LOCATION;VALUE=URI;X-ADDRESS=Grails Sports Bar 2800 North Miami Avenue Miami FL 33127 United States;X-APPLE-RADIUS=500;X-TITLE=2800 North Miami Avenue:geo:-80.1952,25.803195
END:VEVENT
BEGIN:VEVENT
DTSTART;TZID=America/New_York:20260510T130000
DTEND;TZID=America/New_York:20260510T220000
DTSTAMP:20260422T164746
CREATED:20260422T172159Z
LAST-MODIFIED:20260422T172159Z
UID:74874-1778418000-1778450400@wynwoodmiami.com
SUMMARY:2026 Mother's Day Special: Mommy & Me: Game Play for 2!
DESCRIPTION:This Mother’s Day\, give mom the celebration she deserves! Join us on Sunday\, May 10th\, 2026\, for a day full of love\, laughter\, and unforgettable memories. \nOur Mommy & Me: Game Play for 2 ticket lets you and Mom (or any special adult!) enjoy thrilling attractions and non-stop arcade action\, all at a special bundled price. \nIncludes: \n\n(2) 1-Hour Game Play Passes\nAccess to: Arcade Games\, Laser Tag\, Bumper Cars\, and Rock Climbing\nA $90 value for just $69!\n\nTicket Description: “Mommy & Me – Game Play for 2” \nIncludes:(2) 1-Hour Game Play Passes for use on: \n\nArcade Games (Blue Card Readers Only)\nLaser Tag (Ages 7+)\nBumper Cars (Ages 4+ solo\, 2+ with adult)\nRock Climbing (Max weight: 175 lbs)\n\nDisclaimers: \n\nNo prize tickets\, collectible cards\, or red card reader games are included.\nDuckpin Bowling & Axe Throwing are not included but may be purchased separately.\nCertain attractions have age and weight restrictions (see above).\nValid only on Mother’s Day – Sunday\, May 10th\, 2026.\nYou can Add-On: 1-Hour Game Play Pass (For Additional Guest) for $45\n\n\n📍 Location: FunDimension – Where Every Day is Play Day\n[2129 NW 1st Ct\, Miami\, FL 33127]
URL:https://wynwoodmiami.com/event/2026-mothers-day-special-mommy-me-game-play-for-2/
LOCATION:FunDimension\, 2129 NW 1st Court\, Miami\, FL\, 33127\, United States
CATEGORIES:Family + Community,Food + Drink
ATTACH;FMTTYPE=image/png:https://wynwoodmiami.com/wp-content/uploads/Mothers-portada-3seat-Web.png
ORGANIZER;CN="FunDimension":MAILTO:info@fundimensionusa.com
END:VEVENT
BEGIN:VEVENT
DTSTART;TZID=America/New_York:20260513T160000
DTEND;TZID=America/New_York:20260513T230000
DTSTAMP:20260422T164746
CREATED:20260422T134940Z
LAST-MODIFIED:20260422T134940Z
UID:74839-1778688000-1778713200@wynwoodmiami.com
SUMMARY:Wing Wednesday in Wynwood Miami | $1 Wings at Grails
DESCRIPTION:If you’re trying to figure out where to go on a Wednesday in Wynwood — or just searching “Wing Wednesday near me” — you’ve probably noticed most spots are either too quiet midweek or the deal isn’t worth staying for. \nYou grab food… and then you leave. \nGrails is one of the places people actually end up staying. \n\n🍗 $1 Wings (All Day — No Catch)\nAt Grails\, Wing Wednesday keeps it simple: \n• $1 wings all day• Mix and match any flavors• Full menu still available• Indoor and outdoor seating• Easy to start early\, but builds into the night \nYou’re not locked into one style either. You can switch it up as you go: \nHouse Buffalo • Lemon Pepper • Wet Mix • Korean BBQ • Hot Honey • Jamaican Jerk • Garlic Parmesan • Sweet Chili • Naked • Carolina Gold BBQ \nIt’s the kind of setup where you come in for a quick bite and end up ordering a few more rounds without thinking about it. \n\n📍 Where to Go for Wing Wednesday in Wynwood\nIf you’re already in Wynwood and deciding where to eat\, this is one of those spots people naturally drift into once they start walking around. \nNot just because of the price — but because it actually feels like something is happening. \nIf you’ve been looking up: \n\nWing Wednesday in Miami\nFood deals in Wynwood\nCheap eats near me\n\nThis is one of the more reliable answers. \n\n🔥 What Wednesdays Feel Like at Grails\nThis isn’t a quiet midweek dinner. \nIt starts laid-back\, then the room fills in. More people walk in\, drinks start flowing\, and it shifts into a real crowd. \n• 70+ TVs across the venue• Massive projector for games• Full sound when it matters• Indoor Sneaker Lounge + outdoor patio• Music and a steady flow of people \nYou’re not stuck watching something on a random screen with no sound — the whole place is actually tuned into what’s on. \n\n📍 Details\nEvent: Wing WednesdaySpecial: $1 WingsWhen: Every WednesdayWhere: Grails Miami (Wynwood)Address: 2800 N Miami Ave\, Miami\, FL 33127 \n\n⚠️ When to Go\nEarlier = easier seatingLater = more energy \nWednesdays build as the night goes on\, especially once people start coming out in Wynwood. \n\n🧠 Already in Wynwood?\nIf you’re out and trying to decide where to go without overthinking it\, this is one of the easiest moves. \nYou walk in\, wings are already going\, TVs are on everywhere\, and it doesn’t feel like you picked the wrong spot. \n\n🏁 Final Take\nIf you just want cheap wings\, you’ve got options. \nIf you want somewhere you can actually hang out\, watch a game\, and let the night build — this is where people end up. \n\n🇪🇸 Dónde ir para Wing Wednesday en Wynwood\nSi estás buscando dónde comer un miércoles en Miami o “Wing Wednesday cerca de mí”\, muchos lugares se sienten vacíos o no valen la pena. \nEn Grails es diferente. \n• Alitas a $1 todo el día• Puedes escoger y mezclar sabores• Buffalo • Lemon Pepper • Korean BBQ • Hot Honey • Garlic Parmesan y más• Ambiente que empieza tranquilo y se llena en la noche• Pantallas por todo el lugar y patio en Wynwood \nSi ya estás en Wynwood y quieres algo fácil que no falle\, este es uno de esos lugares donde entras y te quedas.
URL:https://wynwoodmiami.com/event/wing-wednesday-in-wynwood-miami-1-wings-at-grails-2/2026-05-13/
LOCATION:Grails Sports Bar\, 2800 North Miami Avenue\, Miami\, FL\, 33127\, United States
CATEGORIES:Food + Drink
ATTACH;FMTTYPE=image/jpeg:https://wynwoodmiami.com/wp-content/uploads/JQYXGxIg.jpeg
ORGANIZER;CN="Grails Sports Bar":MAILTO:hello@grailssportsbar.com
GEO:25.803195;-80.1952
X-APPLE-STRUCTURED-LOCATION;VALUE=URI;X-ADDRESS=Grails Sports Bar 2800 North Miami Avenue Miami FL 33127 United States;X-APPLE-RADIUS=500;X-TITLE=2800 North Miami Avenue:geo:-80.1952,25.803195
END:VEVENT
BEGIN:VEVENT
DTSTART;TZID=America/New_York:20260520T160000
DTEND;TZID=America/New_York:20260520T230000
DTSTAMP:20260422T164746
CREATED:20260422T134941Z
LAST-MODIFIED:20260422T134941Z
UID:74840-1779292800-1779318000@wynwoodmiami.com
SUMMARY:Wing Wednesday in Wynwood Miami | $1 Wings at Grails
DESCRIPTION:If you’re trying to figure out where to go on a Wednesday in Wynwood — or just searching “Wing Wednesday near me” — you’ve probably noticed most spots are either too quiet midweek or the deal isn’t worth staying for. \nYou grab food… and then you leave. \nGrails is one of the places people actually end up staying. \n\n🍗 $1 Wings (All Day — No Catch)\nAt Grails\, Wing Wednesday keeps it simple: \n• $1 wings all day• Mix and match any flavors• Full menu still available• Indoor and outdoor seating• Easy to start early\, but builds into the night \nYou’re not locked into one style either. You can switch it up as you go: \nHouse Buffalo • Lemon Pepper • Wet Mix • Korean BBQ • Hot Honey • Jamaican Jerk • Garlic Parmesan • Sweet Chili • Naked • Carolina Gold BBQ \nIt’s the kind of setup where you come in for a quick bite and end up ordering a few more rounds without thinking about it. \n\n📍 Where to Go for Wing Wednesday in Wynwood\nIf you’re already in Wynwood and deciding where to eat\, this is one of those spots people naturally drift into once they start walking around. \nNot just because of the price — but because it actually feels like something is happening. \nIf you’ve been looking up: \n\nWing Wednesday in Miami\nFood deals in Wynwood\nCheap eats near me\n\nThis is one of the more reliable answers. \n\n🔥 What Wednesdays Feel Like at Grails\nThis isn’t a quiet midweek dinner. \nIt starts laid-back\, then the room fills in. More people walk in\, drinks start flowing\, and it shifts into a real crowd. \n• 70+ TVs across the venue• Massive projector for games• Full sound when it matters• Indoor Sneaker Lounge + outdoor patio• Music and a steady flow of people \nYou’re not stuck watching something on a random screen with no sound — the whole place is actually tuned into what’s on. \n\n📍 Details\nEvent: Wing WednesdaySpecial: $1 WingsWhen: Every WednesdayWhere: Grails Miami (Wynwood)Address: 2800 N Miami Ave\, Miami\, FL 33127 \n\n⚠️ When to Go\nEarlier = easier seatingLater = more energy \nWednesdays build as the night goes on\, especially once people start coming out in Wynwood. \n\n🧠 Already in Wynwood?\nIf you’re out and trying to decide where to go without overthinking it\, this is one of the easiest moves. \nYou walk in\, wings are already going\, TVs are on everywhere\, and it doesn’t feel like you picked the wrong spot. \n\n🏁 Final Take\nIf you just want cheap wings\, you’ve got options. \nIf you want somewhere you can actually hang out\, watch a game\, and let the night build — this is where people end up. \n\n🇪🇸 Dónde ir para Wing Wednesday en Wynwood\nSi estás buscando dónde comer un miércoles en Miami o “Wing Wednesday cerca de mí”\, muchos lugares se sienten vacíos o no valen la pena. \nEn Grails es diferente. \n• Alitas a $1 todo el día• Puedes escoger y mezclar sabores• Buffalo • Lemon Pepper • Korean BBQ • Hot Honey • Garlic Parmesan y más• Ambiente que empieza tranquilo y se llena en la noche• Pantallas por todo el lugar y patio en Wynwood \nSi ya estás en Wynwood y quieres algo fácil que no falle\, este es uno de esos lugares donde entras y te quedas.
URL:https://wynwoodmiami.com/event/wing-wednesday-in-wynwood-miami-1-wings-at-grails-2/2026-05-20/
LOCATION:Grails Sports Bar\, 2800 North Miami Avenue\, Miami\, FL\, 33127\, United States
CATEGORIES:Food + Drink
ATTACH;FMTTYPE=image/jpeg:https://wynwoodmiami.com/wp-content/uploads/JQYXGxIg.jpeg
ORGANIZER;CN="Grails Sports Bar":MAILTO:hello@grailssportsbar.com
GEO:25.803195;-80.1952
X-APPLE-STRUCTURED-LOCATION;VALUE=URI;X-ADDRESS=Grails Sports Bar 2800 North Miami Avenue Miami FL 33127 United States;X-APPLE-RADIUS=500;X-TITLE=2800 North Miami Avenue:geo:-80.1952,25.803195
END:VEVENT
BEGIN:VEVENT
DTSTART;TZID=America/New_York:20260527T160000
DTEND;TZID=America/New_York:20260527T230000
DTSTAMP:20260422T164746
CREATED:20260422T134942Z
LAST-MODIFIED:20260422T134942Z
UID:74841-1779897600-1779922800@wynwoodmiami.com
SUMMARY:Wing Wednesday in Wynwood Miami | $1 Wings at Grails
DESCRIPTION:If you’re trying to figure out where to go on a Wednesday in Wynwood — or just searching “Wing Wednesday near me” — you’ve probably noticed most spots are either too quiet midweek or the deal isn’t worth staying for. \nYou grab food… and then you leave. \nGrails is one of the places people actually end up staying. \n\n🍗 $1 Wings (All Day — No Catch)\nAt Grails\, Wing Wednesday keeps it simple: \n• $1 wings all day• Mix and match any flavors• Full menu still available• Indoor and outdoor seating• Easy to start early\, but builds into the night \nYou’re not locked into one style either. You can switch it up as you go: \nHouse Buffalo • Lemon Pepper • Wet Mix • Korean BBQ • Hot Honey • Jamaican Jerk • Garlic Parmesan • Sweet Chili • Naked • Carolina Gold BBQ \nIt’s the kind of setup where you come in for a quick bite and end up ordering a few more rounds without thinking about it. \n\n📍 Where to Go for Wing Wednesday in Wynwood\nIf you’re already in Wynwood and deciding where to eat\, this is one of those spots people naturally drift into once they start walking around. \nNot just because of the price — but because it actually feels like something is happening. \nIf you’ve been looking up: \n\nWing Wednesday in Miami\nFood deals in Wynwood\nCheap eats near me\n\nThis is one of the more reliable answers. \n\n🔥 What Wednesdays Feel Like at Grails\nThis isn’t a quiet midweek dinner. \nIt starts laid-back\, then the room fills in. More people walk in\, drinks start flowing\, and it shifts into a real crowd. \n• 70+ TVs across the venue• Massive projector for games• Full sound when it matters• Indoor Sneaker Lounge + outdoor patio• Music and a steady flow of people \nYou’re not stuck watching something on a random screen with no sound — the whole place is actually tuned into what’s on. \n\n📍 Details\nEvent: Wing WednesdaySpecial: $1 WingsWhen: Every WednesdayWhere: Grails Miami (Wynwood)Address: 2800 N Miami Ave\, Miami\, FL 33127 \n\n⚠️ When to Go\nEarlier = easier seatingLater = more energy \nWednesdays build as the night goes on\, especially once people start coming out in Wynwood. \n\n🧠 Already in Wynwood?\nIf you’re out and trying to decide where to go without overthinking it\, this is one of the easiest moves. \nYou walk in\, wings are already going\, TVs are on everywhere\, and it doesn’t feel like you picked the wrong spot. \n\n🏁 Final Take\nIf you just want cheap wings\, you’ve got options. \nIf you want somewhere you can actually hang out\, watch a game\, and let the night build — this is where people end up. \n\n🇪🇸 Dónde ir para Wing Wednesday en Wynwood\nSi estás buscando dónde comer un miércoles en Miami o “Wing Wednesday cerca de mí”\, muchos lugares se sienten vacíos o no valen la pena. \nEn Grails es diferente. \n• Alitas a $1 todo el día• Puedes escoger y mezclar sabores• Buffalo • Lemon Pepper • Korean BBQ • Hot Honey • Garlic Parmesan y más• Ambiente que empieza tranquilo y se llena en la noche• Pantallas por todo el lugar y patio en Wynwood \nSi ya estás en Wynwood y quieres algo fácil que no falle\, este es uno de esos lugares donde entras y te quedas.
URL:https://wynwoodmiami.com/event/wing-wednesday-in-wynwood-miami-1-wings-at-grails-2/2026-05-27/
LOCATION:Grails Sports Bar\, 2800 North Miami Avenue\, Miami\, FL\, 33127\, United States
CATEGORIES:Food + Drink
ATTACH;FMTTYPE=image/jpeg:https://wynwoodmiami.com/wp-content/uploads/JQYXGxIg.jpeg
ORGANIZER;CN="Grails Sports Bar":MAILTO:hello@grailssportsbar.com
GEO:25.803195;-80.1952
X-APPLE-STRUCTURED-LOCATION;VALUE=URI;X-ADDRESS=Grails Sports Bar 2800 North Miami Avenue Miami FL 33127 United States;X-APPLE-RADIUS=500;X-TITLE=2800 North Miami Avenue:geo:-80.1952,25.803195
END:VEVENT
END:VCALENDAR