BEGIN:VCALENDAR
VERSION:2.0
PRODID:-//Wynwood Business Improvement District -- Miami, Florida - ECPv6.15.16//NONSGML v1.0//EN
CALSCALE:GREGORIAN
METHOD:PUBLISH
X-WR-CALNAME:Wynwood Business Improvement District -- Miami, Florida
X-ORIGINAL-URL:https://wynwoodmiami.com
X-WR-CALDESC:Events for Wynwood Business Improvement District -- Miami, Florida
REFRESH-INTERVAL;VALUE=DURATION:PT1H
X-Robots-Tag:noindex
X-PUBLISHED-TTL:PT1H
BEGIN:VTIMEZONE
TZID:America/New_York
BEGIN:DAYLIGHT
TZOFFSETFROM:-0500
TZOFFSETTO:-0400
TZNAME:EDT
DTSTART:20240310T070000
END:DAYLIGHT
BEGIN:STANDARD
TZOFFSETFROM:-0400
TZOFFSETTO:-0500
TZNAME:EST
DTSTART:20241103T060000
END:STANDARD
BEGIN:DAYLIGHT
TZOFFSETFROM:-0500
TZOFFSETTO:-0400
TZNAME:EDT
DTSTART:20250309T070000
END:DAYLIGHT
BEGIN:STANDARD
TZOFFSETFROM:-0400
TZOFFSETTO:-0500
TZNAME:EST
DTSTART:20251102T060000
END:STANDARD
BEGIN:DAYLIGHT
TZOFFSETFROM:-0500
TZOFFSETTO:-0400
TZNAME:EDT
DTSTART:20260308T070000
END:DAYLIGHT
BEGIN:STANDARD
TZOFFSETFROM:-0400
TZOFFSETTO:-0500
TZNAME:EST
DTSTART:20261101T060000
END:STANDARD
END:VTIMEZONE
BEGIN:VEVENT
DTSTART;TZID=America/New_York:20250924T153000
DTEND;TZID=America/New_York:20251231T230000
DTSTAMP:20260424T014214
CREATED:20250924T194831Z
LAST-MODIFIED:20250924T194831Z
UID:72182-1758727800-1767222000@wynwoodmiami.com
SUMMARY:Fall Special: 2 x 1 on Laser Tag!
DESCRIPTION:🍂 The Fall Special has arrived! 🍂\nCome and have fun with us this season. \nThe wait is over\, now enjoy our 2×1 Laser Tag deal!\nBuy 1 Laser Tag game for just $15 and get a second game FREE (per participant). \n🎟️ How it works: \n\nPrice: $15 per participant.\nBuy one game and receive the second game FREE.\nSame-day use.\nGame card activation fee applies.\nPresent your ticket at the front desk to redeem.\n\n⚡ Terms & Conditions: \n\nValid for participants 7 years and older.\nCannot be combined with other specials\, discounts\, or promotions.\nOffer valid during the Fall Special period: September 24 – December 31\, 2025.\nNon-transferable.\n\n*This promotion is valid every day; however\, blackout dates may apply. To be sure\, please check our operating hours on our website before visiting and booking. \nThis ticket is valid for one Laser Tag game for the holder and entitles them to a second game free for themselves or a companion \nGet ready for double the fun this Fall!
URL:https://wynwoodmiami.com/event/fall-special-2-x-1-on-laser-tag/
LOCATION:FunDimension\, 2129 NW 1st Court\, Miami\, FL\, 33127\, United States
CATEGORIES:Family + Community,Food + Drink,Sports
ATTACH;FMTTYPE=image/png:https://wynwoodmiami.com/wp-content/uploads/FALL-DEAL-2025-2160-x-1080-px-3.png
ORGANIZER;CN="FunDimension":MAILTO:info@fundimensionusa.com
END:VEVENT
BEGIN:VEVENT
DTSTART;TZID=America/New_York:20251004T120000
DTEND;TZID=America/New_York:20251004T233000
DTSTAMP:20260424T014214
CREATED:20250910T164808Z
LAST-MODIFIED:20250910T164808Z
UID:72125-1759579200-1759620600@wynwoodmiami.com
SUMMARY:OKTOBERFIESTA!
DESCRIPTION:Prost\, cheers\, salud! Cervecería La Tropical’s Oktoberfiesta is back on October 4th\, 2025. \nKick things off with our ceremonial beer barrel tapping (hosted by a special guest 👀). Snag the unlimited beer package and you’ll be first in line—plus take home a commemorative Oktoberfiesta mug (20oz or upgrade to the 1.3 L boot). \n\n\n\n\n\n\n\n\n\n\n\nAll day long\, enjoy: \n\n🍺 2 specialty Oktoberfest beers in addition to our selection of 10+ craft beers\n🎶 Live music & DJs (headliner MayDay)\n🎯 Classic Oktoberfest games: stein-holding\, barrel rolling\, pretzel toss & more\n🌭 Limited-time Oktoberfest bites\n📸 Fun photo opportunities\n\nTickets & Packages: \n\n🎟 Free entry\n🍻 Unlimited Beer + 20oz Mug Package: $60 presale (upgrade to 1.3 L boot +$15)\n🍺 All You Can Drink Beer Table Package (8 people): $500
URL:https://wynwoodmiami.com/event/oktoberfiesta/
LOCATION:Cerveceria La Tropical\, 42 NE 25th Street\, Miami\, FL\, 33127\, United States
CATEGORIES:Festivals + Markets,Food + Drink,Music + Dance
ATTACH;FMTTYPE=image/png:https://wynwoodmiami.com/wp-content/uploads/Oktoberfest2025-02-2.png
ORGANIZER;CN="Cerveceria La Tropical":MAILTO:hello@cervecerialatropical.com
END:VEVENT
BEGIN:VEVENT
DTSTART;TZID=America/New_York:20251016T190000
DTEND;TZID=America/New_York:20251016T210000
DTSTAMP:20260424T014214
CREATED:20251006T191349Z
LAST-MODIFIED:20251006T191349Z
UID:72296-1760641200-1760648400@wynwoodmiami.com
SUMMARY:Sips & Scents Candle-Making Class at The Wynwood Shop
DESCRIPTION:Come craft your own custom scented candle while sipping on delicious drinks! \nWelcome to Little Local’s Sips & Scents Candle-Making Class\, featuring Simply Bails Co. at Wynwood Shop! \nJoin us for a fun-filled evening of creativity as you learn how to craft your own unique candles while enjoying delicious alcoholic beverages. This in-person event is the perfect opportunity to unwind and get crafty with friends. No experience necessary! Our expert instructor – bartender and candle-maker Bailey Adam – will guide you through the process step by step. \nWhat You Get with Your Ticket: \n\nA custom 8oz candle made by YOU\nCandle-making instruction\nOne alcoholic beverage of your choice (wine or beer)\n\n 
URL:https://wynwoodmiami.com/event/sips-scents-candle-making-class-at-the-wynwood-shop/
LOCATION:The Wynwood Shop\, 181 NW 25th Street\, Miami\, FL\, 33127\, United States
ATTACH;FMTTYPE=image/png:https://wynwoodmiami.com/wp-content/uploads/SS-W.-SIMPLY-BAILS.png
ORGANIZER;CN="Wynwood Shop":MAILTO:info@wynwoodshop.com
GEO:25.800816;-80.198627
X-APPLE-STRUCTURED-LOCATION;VALUE=URI;X-ADDRESS=The Wynwood Shop 181 NW 25th Street Miami FL 33127 United States;X-APPLE-RADIUS=500;X-TITLE=181 NW 25th Street:geo:-80.198627,25.800816
END:VEVENT
END:VCALENDAR