BEGIN:VCALENDAR
VERSION:2.0
PRODID:-//Wynwood Business Improvement District -- Miami, Florida - ECPv6.15.16//NONSGML v1.0//EN
CALSCALE:GREGORIAN
METHOD:PUBLISH
X-ORIGINAL-URL:https://wynwoodmiami.com
X-WR-CALDESC:Events for Wynwood Business Improvement District -- Miami, Florida
REFRESH-INTERVAL;VALUE=DURATION:PT1H
X-Robots-Tag:noindex
X-PUBLISHED-TTL:PT1H
BEGIN:VTIMEZONE
TZID:America/New_York
BEGIN:DAYLIGHT
TZOFFSETFROM:-0500
TZOFFSETTO:-0400
TZNAME:EDT
DTSTART:20250309T070000
END:DAYLIGHT
BEGIN:STANDARD
TZOFFSETFROM:-0400
TZOFFSETTO:-0500
TZNAME:EST
DTSTART:20251102T060000
END:STANDARD
BEGIN:DAYLIGHT
TZOFFSETFROM:-0500
TZOFFSETTO:-0400
TZNAME:EDT
DTSTART:20260308T070000
END:DAYLIGHT
BEGIN:STANDARD
TZOFFSETFROM:-0400
TZOFFSETTO:-0500
TZNAME:EST
DTSTART:20261101T060000
END:STANDARD
BEGIN:DAYLIGHT
TZOFFSETFROM:-0500
TZOFFSETTO:-0400
TZNAME:EDT
DTSTART:20270314T070000
END:DAYLIGHT
BEGIN:STANDARD
TZOFFSETFROM:-0400
TZOFFSETTO:-0500
TZNAME:EST
DTSTART:20271107T060000
END:STANDARD
END:VTIMEZONE
BEGIN:VEVENT
DTSTART;TZID=America/New_York:20260521T050000
DTEND;TZID=America/New_York:20260521T190000
DTSTAMP:20260423T103309
CREATED:20260402T141834Z
LAST-MODIFIED:20260422T140412Z
UID:74454-1779339600-1779390000@wynwoodmiami.com
SUMMARY: Wynwood Music Series at Panther Coffee
DESCRIPTION: Wynwood Music Series at Panther Coffee \nJoin us for an afternoon of live music\, coffee\, and community at Panther Coffee as part of the Wynwood Music Series. Featuring Shira Lee with Rey Rodriguez\, this special performance blends American and Latin American sounds for the perfect mid-afternoon vibe. \nRelax with a coffee\, enjoy great music\, and experience Wynwood’s creative energy in an intimate setting. \n On May 21st from 5 PM – 7 PM at Panther Coffee – 2390 NW 2nd Ave\, Miami\, FL. \nCome by\, grab a seat\, and let the music take over your afternoon.
URL:https://wynwoodmiami.com/event/wynwood-music-series-at-panther-coffee/
LOCATION:Panther Coffee\, 2390 NW 2nd Avenue\, Miami\, FL\, 33127\, United States
CATEGORIES:Food + Drink
ATTACH;FMTTYPE=image/jpeg:https://wynwoodmiami.com/wp-content/uploads/IMG_0845.jpeg
ORGANIZER;CN="Panther Coffee":MAILTO:info@panthercoffee.com
END:VEVENT
END:VCALENDAR