BEGIN:VCALENDAR
VERSION:2.0
PRODID:-//Wynwood Business Improvement District -- Miami, Florida - ECPv6.15.16//NONSGML v1.0//EN
CALSCALE:GREGORIAN
METHOD:PUBLISH
X-WR-CALNAME:Wynwood Business Improvement District -- Miami, Florida
X-ORIGINAL-URL:https://wynwoodmiami.com
X-WR-CALDESC:Events for Wynwood Business Improvement District -- Miami, Florida
REFRESH-INTERVAL;VALUE=DURATION:PT1H
X-Robots-Tag:noindex
X-PUBLISHED-TTL:PT1H
BEGIN:VTIMEZONE
TZID:America/New_York
BEGIN:DAYLIGHT
TZOFFSETFROM:-0500
TZOFFSETTO:-0400
TZNAME:EDT
DTSTART:20240310T070000
END:DAYLIGHT
BEGIN:STANDARD
TZOFFSETFROM:-0400
TZOFFSETTO:-0500
TZNAME:EST
DTSTART:20241103T060000
END:STANDARD
BEGIN:DAYLIGHT
TZOFFSETFROM:-0500
TZOFFSETTO:-0400
TZNAME:EDT
DTSTART:20250309T070000
END:DAYLIGHT
BEGIN:STANDARD
TZOFFSETFROM:-0400
TZOFFSETTO:-0500
TZNAME:EST
DTSTART:20251102T060000
END:STANDARD
BEGIN:DAYLIGHT
TZOFFSETFROM:-0500
TZOFFSETTO:-0400
TZNAME:EDT
DTSTART:20260308T070000
END:DAYLIGHT
BEGIN:STANDARD
TZOFFSETFROM:-0400
TZOFFSETTO:-0500
TZNAME:EST
DTSTART:20261101T060000
END:STANDARD
END:VTIMEZONE
BEGIN:VEVENT
DTSTART;TZID=America/New_York:20250419T110000
DTEND;TZID=America/New_York:20250419T180000
DTSTAMP:20260422T090011
CREATED:20250409T183651Z
LAST-MODIFIED:20250409T183651Z
UID:71243-1745060400-1745085600@wynwoodmiami.com
SUMMARY:Wynwood Bunny Brunch and Roll
DESCRIPTION:📅 Saturday\, April 19 | 🕚 11 AM – 6 PM\n📍 The Wynwood Marketplace | 2250 NW 2nd Ave\, Miami\, FL 33127\n🎟️ Free Entry | Family-Friendly | Easter Activities\, Skating\, Brunch & More! \nHop into Easter fun at the first annual Bunny Brunch & Roll at The Wynwood Marketplace! Bring the whole family for a full day of festive activities\, delicious eats\, and springtime cheer. \n🐰 Easter Fun for All Ages:\n\nEaster Bunny Meet & Greet\nEaster Egg Hunt + Bubbles Playground\nSkate with the Easter Bunny at Wynwood Skate (tickets via Bucketlisters)\nBrunch by Pink Paloma | 12 PM – 4 PM\nFood Hall with 4+ eateries & bars\nLive DJ + Family Entertainment\n\n\n✨ Kid Experience Ticket – Only $5! (Available on Eventbrite and valid for the first 200 guests to redeem)\n\nTicket includes… \n🍬 Goodie bag filled with Easter treats and toys \n🐣 Kid zone \n🎶 Kids entertianment/concert \n\n🛼🐰 Lace up and roll with the Easter Bunny at Wynwood Skate\, Miami’s coolest outdoor rink! Enjoy a live DJ spinning the vibes while you skate the day away\n\n🎟️(Skating tickets can be purchased through bucketlisters.com or at the venue) \n🌯Pink Paloma\, a local favorite will be serving mouthwatering brunch items and refreshing drinks for the kids and adults. \nSavor Easter brunch favorites\, like: \nBreakfast Quesadilla – eggs\, gouda\, mozzarella\, parmesan\, and pico de gallo \nHuevos Rancheros – flour tortilla\, fried egg\, salsa verde\, cheese & cilantro \n🍹 Drinks for the Grown-Ups (21+):\nMargaritas (classic\, strawberry\, or mango)\, Micheladas\, craft beers — or go bottomless with $25 mimosas from 12–3 PM. \nBring your family\, friends\, and best skating moves for a one-of-a-kind Easter experience!
URL:https://wynwoodmiami.com/event/wynwood-bunny-brunch-and-roll/
LOCATION:Wynwood Marketplace\, 2250 NW 2nd Ave\, Miami\, 33127\, United States
CATEGORIES:Family + Community,Food + Drink
ATTACH;FMTTYPE=image/png:https://wynwoodmiami.com/wp-content/uploads/Wynwood-Bunny-Bash-1080x1920-1.png
END:VEVENT
END:VCALENDAR