BEGIN:VCALENDAR
VERSION:2.0
PRODID:-//Wynwood Business Improvement District -- Miami, Florida - ECPv6.15.16//NONSGML v1.0//EN
CALSCALE:GREGORIAN
METHOD:PUBLISH
X-WR-CALNAME:Wynwood Business Improvement District -- Miami, Florida
X-ORIGINAL-URL:https://wynwoodmiami.com
X-WR-CALDESC:Events for Wynwood Business Improvement District -- Miami, Florida
REFRESH-INTERVAL;VALUE=DURATION:PT1H
X-Robots-Tag:noindex
X-PUBLISHED-TTL:PT1H
BEGIN:VTIMEZONE
TZID:America/New_York
BEGIN:DAYLIGHT
TZOFFSETFROM:-0500
TZOFFSETTO:-0400
TZNAME:EDT
DTSTART:20250309T070000
END:DAYLIGHT
BEGIN:STANDARD
TZOFFSETFROM:-0400
TZOFFSETTO:-0500
TZNAME:EST
DTSTART:20251102T060000
END:STANDARD
BEGIN:DAYLIGHT
TZOFFSETFROM:-0500
TZOFFSETTO:-0400
TZNAME:EDT
DTSTART:20260308T070000
END:DAYLIGHT
BEGIN:STANDARD
TZOFFSETFROM:-0400
TZOFFSETTO:-0500
TZNAME:EST
DTSTART:20261101T060000
END:STANDARD
BEGIN:DAYLIGHT
TZOFFSETFROM:-0500
TZOFFSETTO:-0400
TZNAME:EDT
DTSTART:20270314T070000
END:DAYLIGHT
BEGIN:STANDARD
TZOFFSETFROM:-0400
TZOFFSETTO:-0500
TZNAME:EST
DTSTART:20271107T060000
END:STANDARD
END:VTIMEZONE
BEGIN:VEVENT
DTSTART;TZID=America/New_York:20260515T180000
DTEND;TZID=America/New_York:20260515T210000
DTSTAMP:20260423T143049
CREATED:20260423T125734Z
LAST-MODIFIED:20260423T125734Z
UID:74882-1778868000-1778878800@wynwoodmiami.com
SUMMARY:GeN3 Magazine — Miami as a Global Stage for Culture\, Tech & Innovation
DESCRIPTION:​Technology\, Culture & Miami’s Creative Future | May 15 \n​On May 15 at 6pm\, ​GeN3 Magazine​ is inviting Miami’s creative community to ​The Wall Art Gallery ​in Wynwood for an evening gathering exploring how technology is influencing the industries shaping our future. \n​The evening will include a panel discussion\, light entertainment\, drinks\, and a special guest to be announced—along with voices driving Miami’s evolution across art\, design\, technology\, and beyond. \n​This is an RSVP-only event and will be documented across GeN3 platforms\, including GeN3 Magazine. \n​We hope you’ll join us. \n​gen3mag.com \nLOCATION: The Wall Art Gallery 50 NW 27th St\, Miami\, FL 33127
URL:https://wynwoodmiami.com/event/gen3-magazine-miami-as-a-global-stage-for-culture-tech-innovation/
CATEGORIES:Art,Learning + Enrichment
ATTACH;FMTTYPE=image/png:https://wynwoodmiami.com/wp-content/uploads/Screenshot-2026-04-22-at-15.23.55.png
ORGANIZER;CN="Adoratherapy":MAILTO:engagelife365@gmail.com
END:VEVENT
END:VCALENDAR