BEGIN:VCALENDAR
VERSION:2.0
PRODID:-//Wynwood Business Improvement District -- Miami, Florida - ECPv6.15.16//NONSGML v1.0//EN
CALSCALE:GREGORIAN
METHOD:PUBLISH
X-ORIGINAL-URL:https://wynwoodmiami.com
X-WR-CALDESC:Events for Wynwood Business Improvement District -- Miami, Florida
REFRESH-INTERVAL;VALUE=DURATION:PT1H
X-Robots-Tag:noindex
X-PUBLISHED-TTL:PT1H
BEGIN:VTIMEZONE
TZID:America/New_York
BEGIN:DAYLIGHT
TZOFFSETFROM:-0500
TZOFFSETTO:-0400
TZNAME:EDT
DTSTART:20250309T070000
END:DAYLIGHT
BEGIN:STANDARD
TZOFFSETFROM:-0400
TZOFFSETTO:-0500
TZNAME:EST
DTSTART:20251102T060000
END:STANDARD
BEGIN:DAYLIGHT
TZOFFSETFROM:-0500
TZOFFSETTO:-0400
TZNAME:EDT
DTSTART:20260308T070000
END:DAYLIGHT
BEGIN:STANDARD
TZOFFSETFROM:-0400
TZOFFSETTO:-0500
TZNAME:EST
DTSTART:20261101T060000
END:STANDARD
BEGIN:DAYLIGHT
TZOFFSETFROM:-0500
TZOFFSETTO:-0400
TZNAME:EDT
DTSTART:20270314T070000
END:DAYLIGHT
BEGIN:STANDARD
TZOFFSETFROM:-0400
TZOFFSETTO:-0500
TZNAME:EST
DTSTART:20271107T060000
END:STANDARD
END:VTIMEZONE
BEGIN:VEVENT
DTSTART;TZID=America/New_York:20260516T100000
DTEND;TZID=America/New_York:20260927T200000
DTSTAMP:20260421T214455
CREATED:20260421T155729Z
LAST-MODIFIED:20260421T155944Z
UID:74793-1778925600-1790539200@wynwoodmiami.com
SUMMARY:BALLOON MUSEUM - POP AIR
DESCRIPTION:POP AIR – Art is Inflatable arrives in Miami\nAfter captivating over 7 million visitors worldwide\, Balloon Museum lands at Mana Wynwood. \nStep into monumental inflatable installations\, interactive environments\, and a multisensory journey designed to amaze all ages. \n📍 Mana Wynwood Convention Center\n 📅 May 16 – September 27 \n🎟 Buy your tickets now \nPop Air – Art is inflatable | Miami
URL:https://wynwoodmiami.com/event/balloon-museum-pop-air/
LOCATION:Mana Wynwood\, 318 NW 23rd St\, Miami\, FL\, 33127\, United States
CATEGORIES:Art,Family + Community
ATTACH;FMTTYPE=image/jpeg:https://wynwoodmiami.com/wp-content/uploads/IMG_0841.jpeg
GEO:25.7982206;-80.2019551
X-APPLE-STRUCTURED-LOCATION;VALUE=URI;X-ADDRESS=Mana Wynwood 318 NW 23rd St Miami FL 33127 United States;X-APPLE-RADIUS=500;X-TITLE=318 NW 23rd St:geo:-80.2019551,25.7982206
END:VEVENT
END:VCALENDAR