BEGIN:VCALENDAR
VERSION:2.0
PRODID:-//Wynwood Business Improvement District -- Miami, Florida - ECPv6.15.16//NONSGML v1.0//EN
CALSCALE:GREGORIAN
METHOD:PUBLISH
X-WR-CALNAME:Wynwood Business Improvement District -- Miami, Florida
X-ORIGINAL-URL:https://wynwoodmiami.com
X-WR-CALDESC:Events for Wynwood Business Improvement District -- Miami, Florida
REFRESH-INTERVAL;VALUE=DURATION:PT1H
X-Robots-Tag:noindex
X-PUBLISHED-TTL:PT1H
BEGIN:VTIMEZONE
TZID:America/New_York
BEGIN:DAYLIGHT
TZOFFSETFROM:-0500
TZOFFSETTO:-0400
TZNAME:EDT
DTSTART:20240310T070000
END:DAYLIGHT
BEGIN:STANDARD
TZOFFSETFROM:-0400
TZOFFSETTO:-0500
TZNAME:EST
DTSTART:20241103T060000
END:STANDARD
BEGIN:DAYLIGHT
TZOFFSETFROM:-0500
TZOFFSETTO:-0400
TZNAME:EDT
DTSTART:20250309T070000
END:DAYLIGHT
BEGIN:STANDARD
TZOFFSETFROM:-0400
TZOFFSETTO:-0500
TZNAME:EST
DTSTART:20251102T060000
END:STANDARD
BEGIN:DAYLIGHT
TZOFFSETFROM:-0500
TZOFFSETTO:-0400
TZNAME:EDT
DTSTART:20260308T070000
END:DAYLIGHT
BEGIN:STANDARD
TZOFFSETFROM:-0400
TZOFFSETTO:-0500
TZNAME:EST
DTSTART:20261101T060000
END:STANDARD
END:VTIMEZONE
BEGIN:VEVENT
DTSTART;TZID=America/New_York:20251205T150000
DTEND;TZID=America/New_York:20251205T210000
DTSTAMP:20260422T023247
CREATED:20251111T165211Z
LAST-MODIFIED:20251111T165211Z
UID:72538-1764946800-1764968400@wynwoodmiami.com
SUMMARY:Ancestral Art of the Amazon - Olinda Silvano
DESCRIPTION:Wynwood Shop is honored to present Olinda Silvano for Miami Art Week. A unique art form that preserves the Amazonian culture and its influence in today’s world. For the Shipibo people\, Kene Art stands as a symbol of identity\, resistance and sustainability. More than just decoration her art embodies deep worldview\, drawing inspiration from nature and incorporating medicinal plants for healing. On her journey and that of the Shipibo art there is always a commitment to sustainibility and therefore using environmentally friendly practices that honor her connection to nature. In recognition to her work she was awarded in 2022 the National Award for Women Artisans in the Leading Artisan category and Meritorious Cultural Personality in 2018 by the Peruvian Ministry of Culture. \nCome and join us for an evening full of discovery on Olinda’s Art and explore Amazon roots in her work. \nWe look forward to see you on December 5th\, 2025 from 3pm to 9pm. \n  \n 
URL:https://wynwoodmiami.com/event/ancestral-art-of-the-amazon-olinda-silvano/
LOCATION:The Wynwood Shop\, 181 NW 25th Street\, Miami\, FL\, 33127\, United States
CATEGORIES:Art,Family + Community,Festivals + Markets,Learning + Enrichment
ATTACH;FMTTYPE=image/png:https://wynwoodmiami.com/wp-content/uploads/Lilac-Minimalist-Inspirational-Polaroid-Photo-Frame-Instagram-Post-4.png
ORGANIZER;CN="Wynwood Shop":MAILTO:info@wynwoodshop.com
GEO:25.800816;-80.198627
X-APPLE-STRUCTURED-LOCATION;VALUE=URI;X-ADDRESS=The Wynwood Shop 181 NW 25th Street Miami FL 33127 United States;X-APPLE-RADIUS=500;X-TITLE=181 NW 25th Street:geo:-80.198627,25.800816
END:VEVENT
END:VCALENDAR