BEGIN:VCALENDAR
VERSION:2.0
PRODID:-//Wynwood Business Improvement District -- Miami, Florida - ECPv6.15.16//NONSGML v1.0//EN
CALSCALE:GREGORIAN
METHOD:PUBLISH
X-WR-CALNAME:Wynwood Business Improvement District -- Miami, Florida
X-ORIGINAL-URL:https://wynwoodmiami.com
X-WR-CALDESC:Events for Wynwood Business Improvement District -- Miami, Florida
REFRESH-INTERVAL;VALUE=DURATION:PT1H
X-Robots-Tag:noindex
X-PUBLISHED-TTL:PT1H
BEGIN:VTIMEZONE
TZID:America/New_York
BEGIN:DAYLIGHT
TZOFFSETFROM:-0500
TZOFFSETTO:-0400
TZNAME:EDT
DTSTART:20230312T070000
END:DAYLIGHT
BEGIN:STANDARD
TZOFFSETFROM:-0400
TZOFFSETTO:-0500
TZNAME:EST
DTSTART:20231105T060000
END:STANDARD
BEGIN:DAYLIGHT
TZOFFSETFROM:-0500
TZOFFSETTO:-0400
TZNAME:EDT
DTSTART:20240310T070000
END:DAYLIGHT
BEGIN:STANDARD
TZOFFSETFROM:-0400
TZOFFSETTO:-0500
TZNAME:EST
DTSTART:20241103T060000
END:STANDARD
BEGIN:DAYLIGHT
TZOFFSETFROM:-0500
TZOFFSETTO:-0400
TZNAME:EDT
DTSTART:20250309T070000
END:DAYLIGHT
BEGIN:STANDARD
TZOFFSETFROM:-0400
TZOFFSETTO:-0500
TZNAME:EST
DTSTART:20251102T060000
END:STANDARD
END:VTIMEZONE
BEGIN:VEVENT
DTSTART;TZID=America/New_York:20240420T120000
DTEND;TZID=America/New_York:20240421T233000
DTSTAMP:20260422T122005
CREATED:20240418T180555Z
LAST-MODIFIED:20240418T180555Z
UID:51975-1713614400-1713742200@wynwoodmiami.com
SUMMARY:wegx
DESCRIPTION:Dive into South Florida’s dynamic film scene at WEGx 2024\, happening this weekend (April 20-21) at Mana Wynwood. \nWEGx is a film industry-centered event with a mission to elevate\, celebrate and spark in-depth discussions about South Florida’s impact on the modern film landscape. Drawing from the region’s critically acclaimed cinematic traditions and cultural influences\, WEGx brings together local filmmakers\, media artists\, industry leaders and national figures for a series of engaging programs. \nAttendees can look forward to: \nProject Pitches: Aspiring directors share their creative visions with industry experts.\nDiscussion Panels: Dive into hot topics and trends shaping the film industry.\nOpen Forums: Participate in lively debates about the future of cinema.\nCommunity Conversations: Connect with local filmmakers and enthusiasts to share experiences and insights.\nWEGx challenges existing notions of South Florida’s place in the film industry and aims to redefine the region’s unique narrative on a national and global scale. This event is a collaborative effort\, showcasing South Florida as a cultural\, artistic and industrial force in the broader cinematic community.
URL:https://wynwoodmiami.com/event/wegx/
LOCATION:Mana Wynwood Convention Center\, 318 NW 23RD STREET\, MIAMI\, FL\, 33127\, United States
CATEGORIES:Family + Community,Theater + Film
ATTACH;FMTTYPE=image/jpeg:https://wynwoodmiami.com/wp-content/uploads/WEGX-1920X1080.jpg
END:VEVENT
END:VCALENDAR