BEGIN:VCALENDAR
VERSION:2.0
PRODID:-//Wynwood Business Improvement District -- Miami, Florida - ECPv6.15.16//NONSGML v1.0//EN
CALSCALE:GREGORIAN
METHOD:PUBLISH
X-ORIGINAL-URL:https://wynwoodmiami.com
X-WR-CALDESC:Events for Wynwood Business Improvement District -- Miami, Florida
REFRESH-INTERVAL;VALUE=DURATION:PT1H
X-Robots-Tag:noindex
X-PUBLISHED-TTL:PT1H
BEGIN:VTIMEZONE
TZID:America/New_York
BEGIN:DAYLIGHT
TZOFFSETFROM:-0500
TZOFFSETTO:-0400
TZNAME:EDT
DTSTART:20200308T070000
END:DAYLIGHT
BEGIN:STANDARD
TZOFFSETFROM:-0400
TZOFFSETTO:-0500
TZNAME:EST
DTSTART:20201101T060000
END:STANDARD
BEGIN:DAYLIGHT
TZOFFSETFROM:-0500
TZOFFSETTO:-0400
TZNAME:EDT
DTSTART:20210314T070000
END:DAYLIGHT
BEGIN:STANDARD
TZOFFSETFROM:-0400
TZOFFSETTO:-0500
TZNAME:EST
DTSTART:20211107T060000
END:STANDARD
BEGIN:DAYLIGHT
TZOFFSETFROM:-0500
TZOFFSETTO:-0400
TZNAME:EDT
DTSTART:20220313T070000
END:DAYLIGHT
BEGIN:STANDARD
TZOFFSETFROM:-0400
TZOFFSETTO:-0500
TZNAME:EST
DTSTART:20221106T060000
END:STANDARD
END:VTIMEZONE
BEGIN:VEVENT
DTSTART;TZID=America/New_York:20210918T190000
DTEND;TZID=America/New_York:20210918T210000
DTSTAMP:20260424T073705
CREATED:20210825T135007Z
LAST-MODIFIED:20210825T135007Z
UID:43586-1631991600-1631998800@wynwoodmiami.com
SUMMARY:Film Screening - Dash Snow Documentary
DESCRIPTION:Dash Snow rejected a life of privilege to make his own way as an artist on the streets of downtown New York City in the late 1990s. Developing from a notorious graffiti tagger into an international art star\, he documented his drug- and alcohol-fueled nights with the surrogate family he formed with friends and fellow artists Ryan McGinley and Dan Colen before his death by heroin overdose in 2009. Drawing from Snow’s unforgettable body of work and involving archival footage\, Cheryl Dunn’s exceptional portrait captures his all-too-brief life of reckless excess and creativity. \nFor tickets\, click here.
URL:https://wynwoodmiami.com/event/film-screening-dash-snow-documentary/
LOCATION:Museum of Graffiti\, 276 NW 26th Street\, Miami\, FL\, 33127\, United States
CATEGORIES:Theater + Film
ATTACH;FMTTYPE=image/jpeg:https://wynwoodmiami.com/wp-content/uploads/File-2500_medium.jpeg
ORGANIZER;CN="Museum of Graffiti":MAILTO:hey@museumofgraffiti.com
GEO:25.801352591042;-80.200624831512
X-APPLE-STRUCTURED-LOCATION;VALUE=URI;X-ADDRESS=Museum of Graffiti 276 NW 26th Street Miami FL 33127 United States;X-APPLE-RADIUS=500;X-TITLE=276 NW 26th Street:geo:-80.200624831512,25.801352591042
END:VEVENT
END:VCALENDAR