BEGIN:VCALENDAR
VERSION:2.0
PRODID:-//Wynwood Business Improvement District -- Miami, Florida - ECPv6.15.16//NONSGML v1.0//EN
CALSCALE:GREGORIAN
METHOD:PUBLISH
X-ORIGINAL-URL:https://wynwoodmiami.com
X-WR-CALDESC:Events for Wynwood Business Improvement District -- Miami, Florida
REFRESH-INTERVAL;VALUE=DURATION:PT1H
X-Robots-Tag:noindex
X-PUBLISHED-TTL:PT1H
BEGIN:VTIMEZONE
TZID:America/New_York
BEGIN:DAYLIGHT
TZOFFSETFROM:-0500
TZOFFSETTO:-0400
TZNAME:EDT
DTSTART:20200308T070000
END:DAYLIGHT
BEGIN:STANDARD
TZOFFSETFROM:-0400
TZOFFSETTO:-0500
TZNAME:EST
DTSTART:20201101T060000
END:STANDARD
BEGIN:DAYLIGHT
TZOFFSETFROM:-0500
TZOFFSETTO:-0400
TZNAME:EDT
DTSTART:20210314T070000
END:DAYLIGHT
BEGIN:STANDARD
TZOFFSETFROM:-0400
TZOFFSETTO:-0500
TZNAME:EST
DTSTART:20211107T060000
END:STANDARD
BEGIN:DAYLIGHT
TZOFFSETFROM:-0500
TZOFFSETTO:-0400
TZNAME:EDT
DTSTART:20220313T070000
END:DAYLIGHT
BEGIN:STANDARD
TZOFFSETFROM:-0400
TZOFFSETTO:-0500
TZNAME:EST
DTSTART:20221106T060000
END:STANDARD
END:VTIMEZONE
BEGIN:VEVENT
DTSTART;TZID=America/New_York:20210328T190000
DTEND;TZID=America/New_York:20210328T220000
DTSTAMP:20260424T154227
CREATED:20210311T193401Z
LAST-MODIFIED:20210311T193401Z
UID:41493-1616958000-1616968800@wynwoodmiami.com
SUMMARY:Film Screening: “Martha: A Picture Story”
DESCRIPTION:Jim Beam presents “Martha: A Picture Story”. Join us on the last Sunday of every month for Museum of Graffiti’s film series under the stars! Movie tickets include admission to the Museum along with complimentary spirits. Guests will grab a chair and are required to place it 6 feet away from the next party. Do not miss this month’s movie Martha: A Picture Story\, a documentary about Martha Cooper\, a legend in the graffiti world thanks to her ground-breaking book Subway Art and how she now finds her place in a new world driven by social media. MUST purchase tickets through our website.
URL:https://wynwoodmiami.com/event/film-screening-martha-a-picture-story/
LOCATION:Museum of Graffiti\, 276 NW 26th Street\, Miami\, FL\, 33127\, United States
CATEGORIES:Art,Family + Community,Food + Drink,Theater + Film,Wynwood Pride
ATTACH;FMTTYPE=image/jpeg:https://wynwoodmiami.com/wp-content/uploads/EG-J7fUwAAVA1e.jpg
ORGANIZER;CN="Museum of Graffiti":MAILTO:hey@museumofgraffiti.com
GEO:25.801352591042;-80.200624831512
X-APPLE-STRUCTURED-LOCATION;VALUE=URI;X-ADDRESS=Museum of Graffiti 276 NW 26th Street Miami FL 33127 United States;X-APPLE-RADIUS=500;X-TITLE=276 NW 26th Street:geo:-80.200624831512,25.801352591042
END:VEVENT
END:VCALENDAR