BEGIN:VCALENDAR
VERSION:2.0
PRODID:-//Wynwood Business Improvement District -- Miami, Florida - ECPv6.15.16//NONSGML v1.0//EN
CALSCALE:GREGORIAN
METHOD:PUBLISH
X-WR-CALNAME:Wynwood Business Improvement District -- Miami, Florida
X-ORIGINAL-URL:https://wynwoodmiami.com
X-WR-CALDESC:Events for Wynwood Business Improvement District -- Miami, Florida
REFRESH-INTERVAL;VALUE=DURATION:PT1H
X-Robots-Tag:noindex
X-PUBLISHED-TTL:PT1H
BEGIN:VTIMEZONE
TZID:America/New_York
BEGIN:DAYLIGHT
TZOFFSETFROM:-0500
TZOFFSETTO:-0400
TZNAME:EDT
DTSTART:20200308T070000
END:DAYLIGHT
BEGIN:STANDARD
TZOFFSETFROM:-0400
TZOFFSETTO:-0500
TZNAME:EST
DTSTART:20201101T060000
END:STANDARD
BEGIN:DAYLIGHT
TZOFFSETFROM:-0500
TZOFFSETTO:-0400
TZNAME:EDT
DTSTART:20210314T070000
END:DAYLIGHT
BEGIN:STANDARD
TZOFFSETFROM:-0400
TZOFFSETTO:-0500
TZNAME:EST
DTSTART:20211107T060000
END:STANDARD
BEGIN:DAYLIGHT
TZOFFSETFROM:-0500
TZOFFSETTO:-0400
TZNAME:EDT
DTSTART:20220313T070000
END:DAYLIGHT
BEGIN:STANDARD
TZOFFSETFROM:-0400
TZOFFSETTO:-0500
TZNAME:EST
DTSTART:20221106T060000
END:STANDARD
END:VTIMEZONE
BEGIN:VEVENT
DTSTART;TZID=America/New_York:20210115T190000
DTEND;TZID=America/New_York:20210123T170000
DTSTAMP:20260424T185019
CREATED:20210113T162125Z
LAST-MODIFIED:20210113T162125Z
UID:39424-1610737200-1611421200@wynwoodmiami.com
SUMMARY:ScreenDance Miami Festival
DESCRIPTION:ScreenDance Miami highlights choreographers and directors who are working with emerging and new concepts in movement and dance on film and dance on camera. The festival has been created to support professionals in this field and to support the development of dance created for the camera. ScreenDance Miami seeks to engage the public and bring to light an understanding of this adventuresome\, exciting art form. \nProgram Schedule \n\n\nFri\, Jan 15 | New World Center’s Projection Wall at Soundscape Park \n          7pm – Projection Wall Screening of Invited Shorts + Open Call Documentary \n          RSVP \nTues\, Jan 19 | Virtual \n          5pm – Dance in a Pandemic Landscape: Taking Stock and Moving Forward \n          RSVP \n          7pm – Screening of Open Call Shorts: Those Were the Days\, Pre-Pandemic \n          RSVP \nThurs\, Jan 21 | Virtual \n          10am – How Can You\, As A Dancer\, Direct Your Own Dance Film? \n          RSVP \nThurs\, Jan 21 | North Beach Bandshell \n          7pm – Screening of Open Call Shorts: Pandemic\, Mood + Feature Film: Uprooted \n          RSVP \nFri\, Jan 22 | New World Center’s Projection Wall at Soundscape Park \n          7pm – Projection Wall Screening of Miami Light Project Commissions + Films That Need to be Big! \n          RSVP \nSat\, Jan 23 | Virtual \n          10am – Introduction to Mobile Movement Film Making: Directing Camera & Movement \n          RSVP \n          12pm – Screening of Open Call Shorts: Pandemic\, Party of One \n          RSVP \n          2pm – Screening of Open Call Shorts: Pandemic\, Fresh Air \n          RSVP \n          4pm – Screening of Open Call Shorts: Pandemic\, Reflections \n          RSVP \nFri\, Jan 15 – Sat\, Jan 23 | Virtual \n          On-Demand Screenings of Moving Body-Moving Image Festival Films \n         WATCH
URL:https://wynwoodmiami.com/event/screendance-miami-festival/
LOCATION:Virtual\, Miami\, FL\, United States
CATEGORIES:Art,Music + Dance,Theater + Film
ATTACH;FMTTYPE=image/png:https://wynwoodmiami.com/wp-content/uploads/MLP-ScreenDance-Miami-2021-Poster-–-3-1.png
ORGANIZER;CN="Miami Light Project":MAILTO:info@miamilightproject.com
END:VEVENT
END:VCALENDAR