BEGIN:VCALENDAR
VERSION:2.0
PRODID:-//Wynwood Business Improvement District -- Miami, Florida - ECPv6.15.16//NONSGML v1.0//EN
CALSCALE:GREGORIAN
METHOD:PUBLISH
X-WR-CALNAME:Wynwood Business Improvement District -- Miami, Florida
X-ORIGINAL-URL:https://wynwoodmiami.com
X-WR-CALDESC:Events for Wynwood Business Improvement District -- Miami, Florida
REFRESH-INTERVAL;VALUE=DURATION:PT1H
X-Robots-Tag:noindex
X-PUBLISHED-TTL:PT1H
BEGIN:VTIMEZONE
TZID:America/New_York
BEGIN:DAYLIGHT
TZOFFSETFROM:-0500
TZOFFSETTO:-0400
TZNAME:EDT
DTSTART:20190310T070000
END:DAYLIGHT
BEGIN:STANDARD
TZOFFSETFROM:-0400
TZOFFSETTO:-0500
TZNAME:EST
DTSTART:20191103T060000
END:STANDARD
BEGIN:DAYLIGHT
TZOFFSETFROM:-0500
TZOFFSETTO:-0400
TZNAME:EDT
DTSTART:20200308T070000
END:DAYLIGHT
BEGIN:STANDARD
TZOFFSETFROM:-0400
TZOFFSETTO:-0500
TZNAME:EST
DTSTART:20201101T060000
END:STANDARD
BEGIN:DAYLIGHT
TZOFFSETFROM:-0500
TZOFFSETTO:-0400
TZNAME:EDT
DTSTART:20210314T070000
END:DAYLIGHT
BEGIN:STANDARD
TZOFFSETFROM:-0400
TZOFFSETTO:-0500
TZNAME:EST
DTSTART:20211107T060000
END:STANDARD
END:VTIMEZONE
BEGIN:VEVENT
DTSTART;TZID=America/New_York:20201204T190000
DTEND;TZID=America/New_York:20201204T210000
DTSTAMP:20260424T202425
CREATED:20201202T164117Z
LAST-MODIFIED:20201202T164117Z
UID:39048-1607108400-1607115600@wynwoodmiami.com
SUMMARY:Miami Light Project Presents Here & Now: 2020
DESCRIPTION:See Miami Light Project’s signature commission program for Miami-based artists – Here & Now! Filmed and presented virtually for the first time\, the program features newly commissioned short work from Miami’s freshest and most exciting emerging artists\, who are working across disciplines to define contemporary performance in Miami. \nMaya Billig – Brink\nBrink is a contemporary dance work inspired by Orson Welles’s radio broadcast of “War of the Worlds” from 1938. \nLoren Davidson & Britney Tokumoto – the invitation.\nThe Invitation is a new dance work that was created out of curiosity and a series of scores. Intention\, loyalty\, and willingness to show up for one another became a series of conversations around healing\, connection\, and experimentation. \nLiony Garcia – Corporeal Decorum\nCorporeal Decorum is a multimedia performance piece rooted in greater Miami that reimagines the relationship between cultural preservation and creative expression. \nChadwick Gaspard – B.M.M.O.\nB.M.M.O. is a dance performance that tackles toxic masculinity through the lens of the black male and how this affects their development and ways of navigating through the world. \nMaria “Mercy” Lopez – You Never Had U.S.\nYou Never Had U.S. is a choreographic work which speaks to the betrayal of Hispanic soldiers after sacrificing their lives for the United States Armed Forces. \nSeth “Brimstone” Schere – RiDDLA\nRiDDLA is a Hip Hop audioplay that utilizes the artistic elements of Hip Hop culture and includes rapping\, DJ’ing\, breakdancing and Urban “graffiti” Art. \nPANEL DISCUSSION WITH ARTISTS + VIRTUAL SCREENING\nWe’re so glad you’re joining us for Miami Light Project’s signature commission program for Miami-based artists\, Here & Now: 2020\, presented in collaboration with Wynwood Mural Fest. \nAfter RSVP’ing you will be emailed on December 4 with instructions on how to view the Here & Now: 2020 performances and panel discussion with the commissioned artists and special guests artists including Teo Castellanos\, Rosie Herrera and Rudi Goblen. \nTo RSVP for Here & Now\, click here. Performances will be accessible via the link provided on December 4 and streamed live on Miami Light Project’s Facebook page in addition to Wynwood Mural Fest’s Facebook and YouTube. We recommend you start watching at 7pm to be part of the live viewing experience. The panel discussion will precede the Here & Now performances.
URL:https://wynwoodmiami.com/event/miami-light-project-presents-here-now-2020/
LOCATION:Virtual\, Miami\, FL\, United States
CATEGORIES:Art,Music + Dance,Theater + Film
ATTACH;FMTTYPE=image/jpeg:https://wynwoodmiami.com/wp-content/uploads/MLP.jpeg
ORGANIZER;CN="Miami Light Project":MAILTO:info@miamilightproject.com
END:VEVENT
END:VCALENDAR