BEGIN:VCALENDAR
VERSION:2.0
PRODID:-//Wynwood Business Improvement District -- Miami, Florida - ECPv6.15.16//NONSGML v1.0//EN
CALSCALE:GREGORIAN
METHOD:PUBLISH
X-WR-CALNAME:Wynwood Business Improvement District -- Miami, Florida
X-ORIGINAL-URL:https://wynwoodmiami.com
X-WR-CALDESC:Events for Wynwood Business Improvement District -- Miami, Florida
REFRESH-INTERVAL;VALUE=DURATION:PT1H
X-Robots-Tag:noindex
X-PUBLISHED-TTL:PT1H
BEGIN:VTIMEZONE
TZID:America/New_York
BEGIN:DAYLIGHT
TZOFFSETFROM:-0500
TZOFFSETTO:-0400
TZNAME:EDT
DTSTART:20180311T070000
END:DAYLIGHT
BEGIN:STANDARD
TZOFFSETFROM:-0400
TZOFFSETTO:-0500
TZNAME:EST
DTSTART:20181104T060000
END:STANDARD
BEGIN:DAYLIGHT
TZOFFSETFROM:-0500
TZOFFSETTO:-0400
TZNAME:EDT
DTSTART:20190310T070000
END:DAYLIGHT
BEGIN:STANDARD
TZOFFSETFROM:-0400
TZOFFSETTO:-0500
TZNAME:EST
DTSTART:20191103T060000
END:STANDARD
BEGIN:DAYLIGHT
TZOFFSETFROM:-0500
TZOFFSETTO:-0400
TZNAME:EDT
DTSTART:20200308T070000
END:DAYLIGHT
BEGIN:STANDARD
TZOFFSETFROM:-0400
TZOFFSETTO:-0500
TZNAME:EST
DTSTART:20201101T060000
END:STANDARD
END:VTIMEZONE
BEGIN:VEVENT
DTSTART;TZID=America/New_York:20191229T200000
DTEND;TZID=America/New_York:20191229T220000
DTSTAMP:20260425T142241
CREATED:20191119T213011Z
LAST-MODIFIED:20191228T180623Z
UID:28439-1577649600-1577656800@wynwoodmiami.com
SUMMARY:Wynwood Film Series - Home Alone
DESCRIPTION:Popular independent film theater O Cinema is returning to Wynwood with the Wynwood Film Series\, monthly pop-up screenings throughout the neighborhood in partnership with the Wynwood Business Improvement District (BID). The showings will take place on the last Sunday of each month at different venues throughout the arts district. \nJoin us at GROwynwood\, behind The Wynwood Marketplace\, on December 29 for a special holiday screening of Home Alone. \nSynopsis: \nAn eight-year-old troublemaker must protect his house from a pair of burglars when he is accidentally left home alone by his family during Christmas vacation. \nTickets are free and available on Eventbrite. Seating is first-come\, first-served.
URL:https://wynwoodmiami.com/event/wynwood-film-series-home-alone/
LOCATION:Miami\, 33127\, United States
CATEGORIES:Family + Community,Festivals + Markets,Food + Drink,Theater + Film
ATTACH;FMTTYPE=image/jpeg:https://wynwoodmiami.com/wp-content/uploads/Home-Alone.jpg
END:VEVENT
END:VCALENDAR