BEGIN:VCALENDAR
VERSION:2.0
PRODID:-//Wynwood Business Improvement District -- Miami, Florida - ECPv6.15.16//NONSGML v1.0//EN
CALSCALE:GREGORIAN
METHOD:PUBLISH
X-WR-CALNAME:Wynwood Business Improvement District -- Miami, Florida
X-ORIGINAL-URL:https://wynwoodmiami.com
X-WR-CALDESC:Events for Wynwood Business Improvement District -- Miami, Florida
REFRESH-INTERVAL;VALUE=DURATION:PT1H
X-Robots-Tag:noindex
X-PUBLISHED-TTL:PT1H
BEGIN:VTIMEZONE
TZID:America/New_York
BEGIN:DAYLIGHT
TZOFFSETFROM:-0500
TZOFFSETTO:-0400
TZNAME:EDT
DTSTART:20180311T070000
END:DAYLIGHT
BEGIN:STANDARD
TZOFFSETFROM:-0400
TZOFFSETTO:-0500
TZNAME:EST
DTSTART:20181104T060000
END:STANDARD
BEGIN:DAYLIGHT
TZOFFSETFROM:-0500
TZOFFSETTO:-0400
TZNAME:EDT
DTSTART:20190310T070000
END:DAYLIGHT
BEGIN:STANDARD
TZOFFSETFROM:-0400
TZOFFSETTO:-0500
TZNAME:EST
DTSTART:20191103T060000
END:STANDARD
BEGIN:DAYLIGHT
TZOFFSETFROM:-0500
TZOFFSETTO:-0400
TZNAME:EDT
DTSTART:20200308T070000
END:DAYLIGHT
BEGIN:STANDARD
TZOFFSETFROM:-0400
TZOFFSETTO:-0500
TZNAME:EST
DTSTART:20201101T060000
END:STANDARD
END:VTIMEZONE
BEGIN:VEVENT
DTSTART;TZID=America/New_York:20191015T160000
DTEND;TZID=America/New_York:20191016T000000
DTSTAMP:20260425T171517
CREATED:20191009T203414Z
LAST-MODIFIED:20191009T203414Z
UID:27807-1571155200-1571184000@wynwoodmiami.com
SUMMARY:Rooftop Cinema
DESCRIPTION:Join us every Tuesday night for a movie on the rooftop! \nWe will have cocktails\, movie snacks or a dinner box available for purchase. The dinner box includes a sandwich\, salad\, and a cocktail pitcher (serves 2) or 2 mini Champagne bottles for $40 per person. \nEntrance is complimentary and the movie will begin at sundown. Check out our upcoming schedule below. We can’t wait for you to join us! \nMovie Schedule: \nOctober 15: Night on Elm Street \nOctober 22: The Shining \nOctober 29: Rocky Horror Picture Show
URL:https://wynwoodmiami.com/event/rooftop-cinema/2019-10-15/
LOCATION:No. 3 Social\, 50 Northwest 24 Street\, Miami\, FL\, 33127\, United States
CATEGORIES:Family + Community,Food + Drink,Theater + Film
ATTACH;FMTTYPE=image/jpeg:https://wynwoodmiami.com/wp-content/uploads/No3-Social-IG-Rooftop-Movie-Nights-B.jpg
END:VEVENT
BEGIN:VEVENT
DTSTART;TZID=America/New_York:20191027T190000
DTEND;TZID=America/New_York:20191027T213000
DTSTAMP:20260425T171517
CREATED:20191017T163156Z
LAST-MODIFIED:20191017T163156Z
UID:27931-1572202800-1572211800@wynwoodmiami.com
SUMMARY:Wynwood Film Series - Beetlejuice
DESCRIPTION:Popular independent film theater O Cinema is returning to Wynwood with the Wynwood Film Series\, monthly pop-up screenings throughout the neighborhood in partnership with the Wynwood Business Improvement District (BID). The showings will take place on the last Sunday of each month at different venues throughout the arts district. \nJoin us at Gramps on October 27 for a special screening of Beetlejuice.
URL:https://wynwoodmiami.com/event/wynwood-film-series-beetlejuice/
LOCATION:Gramps\, 176 NW 24 Street\, Miami\, FL\, 33127\, United States
CATEGORIES:Food + Drink,Theater + Film
ATTACH;FMTTYPE=image/jpeg:https://wynwoodmiami.com/wp-content/uploads/Gramps.jpg
END:VEVENT
END:VCALENDAR