BEGIN:VCALENDAR
VERSION:2.0
PRODID:-//Wynwood Business Improvement District -- Miami, Florida - ECPv6.15.16//NONSGML v1.0//EN
CALSCALE:GREGORIAN
METHOD:PUBLISH
X-ORIGINAL-URL:https://wynwoodmiami.com
X-WR-CALDESC:Events for Wynwood Business Improvement District -- Miami, Florida
REFRESH-INTERVAL;VALUE=DURATION:PT1H
X-Robots-Tag:noindex
X-PUBLISHED-TTL:PT1H
BEGIN:VTIMEZONE
TZID:America/New_York
BEGIN:DAYLIGHT
TZOFFSETFROM:-0500
TZOFFSETTO:-0400
TZNAME:EDT
DTSTART:20210314T070000
END:DAYLIGHT
BEGIN:STANDARD
TZOFFSETFROM:-0400
TZOFFSETTO:-0500
TZNAME:EST
DTSTART:20211107T060000
END:STANDARD
BEGIN:DAYLIGHT
TZOFFSETFROM:-0500
TZOFFSETTO:-0400
TZNAME:EDT
DTSTART:20220313T070000
END:DAYLIGHT
BEGIN:STANDARD
TZOFFSETFROM:-0400
TZOFFSETTO:-0500
TZNAME:EST
DTSTART:20221106T060000
END:STANDARD
BEGIN:DAYLIGHT
TZOFFSETFROM:-0500
TZOFFSETTO:-0400
TZNAME:EDT
DTSTART:20230312T070000
END:DAYLIGHT
BEGIN:STANDARD
TZOFFSETFROM:-0400
TZOFFSETTO:-0500
TZNAME:EST
DTSTART:20231105T060000
END:STANDARD
END:VTIMEZONE
BEGIN:VEVENT
DTSTART;TZID=America/New_York:20220530T160000
DTEND;TZID=America/New_York:20220530T220000
DTSTAMP:20260419T092817
CREATED:20220504T190755Z
LAST-MODIFIED:20220504T190755Z
UID:46951-1653926400-1653948000@wynwoodmiami.com
SUMMARY:Memorial day art & honor ????????????
DESCRIPTION:This Memorial Day\, our Grails family is honoring those who served our country by dedicating an evening to bring awareness to our Veterans struggling with mental illness while celebrating the lives we’ve lost so we could be free. \nEnjoy USA-inspired cocktails\, an epic art show hosted by Jose Belen – a US Army Field Artillery Combat Veteran with his pieces displayed around the restaurant\, a Presentation of Colors\, live music\, and of course\, delicious food for the whole family. \nALL Veterans will receive 20% off their check!
URL:https://wynwoodmiami.com/event/memorial-day-art-honor-%f0%9f%87%ba%f0%9f%87%b8%f0%9f%8d%bb/
LOCATION:Grails Sports Bar\, 2800 North Miami Avenue\, Miami\, FL\, 33127\, United States
CATEGORIES:Art,Family + Community,Food + Drink,Learning + Enrichment,Music + Dance,Sightseeing + History,Sports
ATTACH;FMTTYPE=image/png:https://wynwoodmiami.com/wp-content/uploads/Screen-Shot-2022-05-03-at-7.12.08-PM-6.png
ORGANIZER;CN="Grails Sports Bar":MAILTO:hello@grailssportsbar.com
GEO:25.803195;-80.1952
X-APPLE-STRUCTURED-LOCATION;VALUE=URI;X-ADDRESS=Grails Sports Bar 2800 North Miami Avenue Miami FL 33127 United States;X-APPLE-RADIUS=500;X-TITLE=2800 North Miami Avenue:geo:-80.1952,25.803195
END:VEVENT
END:VCALENDAR