BEGIN:VCALENDAR
VERSION:2.0
PRODID:-//Wynwood Business Improvement District -- Miami, Florida - ECPv6.15.16//NONSGML v1.0//EN
CALSCALE:GREGORIAN
METHOD:PUBLISH
X-ORIGINAL-URL:https://wynwoodmiami.com
X-WR-CALDESC:Events for Wynwood Business Improvement District -- Miami, Florida
REFRESH-INTERVAL;VALUE=DURATION:PT1H
X-Robots-Tag:noindex
X-PUBLISHED-TTL:PT1H
BEGIN:VTIMEZONE
TZID:America/New_York
BEGIN:DAYLIGHT
TZOFFSETFROM:-0500
TZOFFSETTO:-0400
TZNAME:EDT
DTSTART:20250309T070000
END:DAYLIGHT
BEGIN:STANDARD
TZOFFSETFROM:-0400
TZOFFSETTO:-0500
TZNAME:EST
DTSTART:20251102T060000
END:STANDARD
BEGIN:DAYLIGHT
TZOFFSETFROM:-0500
TZOFFSETTO:-0400
TZNAME:EDT
DTSTART:20260308T070000
END:DAYLIGHT
BEGIN:STANDARD
TZOFFSETFROM:-0400
TZOFFSETTO:-0500
TZNAME:EST
DTSTART:20261101T060000
END:STANDARD
BEGIN:DAYLIGHT
TZOFFSETFROM:-0500
TZOFFSETTO:-0400
TZNAME:EDT
DTSTART:20270314T070000
END:DAYLIGHT
BEGIN:STANDARD
TZOFFSETFROM:-0400
TZOFFSETTO:-0500
TZNAME:EST
DTSTART:20271107T060000
END:STANDARD
END:VTIMEZONE
BEGIN:VEVENT
DTSTART;TZID=America/New_York:20260321T160000
DTEND;TZID=America/New_York:20260321T200000
DTSTAMP:20260422T175124
CREATED:20260209T140337Z
LAST-MODIFIED:20260209T140338Z
UID:73098-1774108800-1774123200@wynwoodmiami.com
SUMMARY:Feel & Glow: Sacral Chakra x Miami Music Week 🌈 Breath\, Scent\, & Intuitive Dance Party
DESCRIPTION:A Vibe & Glow Experience by Auratherapy × Vida Boa Wellness 🌈🦋 \n  \n📆 Date: Saturday\, March 21st\, 2026 \n⏰ Time: \n• Attendee Check-In: 3:00–4:00 PM \n• Vibe & Glow Market: 3:00–5:30 PM \n• Ground & Glow Flow: 5:30–8 PM \n  \n📍 Location: Uma House – 1775 James Ave\, Miami Beach\, FL 33139 \n  \n🌅 Setting: Sunset rooftop with ocean views \n  \n👗 Dress Code: Wear orange + comfortable clothing for movement \n  \n🚗 Parking: Street Parking + Valet \n  \nEXPERIENCE A HIGH-VIBE\, FULL-SENSORY JOURNEY… \n  \n🎟️ WHAT’S INCLUDED \n✔ Breathwork with Aromatherapy \n✔ Drum Circle \n✔ Guided Intuitive Dance with DJ \n✔ Silent Headphones \n✔ Conscious Connections \n✔ Luxury Gift Bag ($300+ value) \n✔ Food\, Coffee\, Matcha & Refreshments \n✔ Vibe & Glow Market + Private Lounge \n✔ Sunset + Ocean View Rooftop Experience \n  \n🎁 GIFT BAG \nA thoughtfully curated collection valued at $300+\, featuring. \n  \n🌅 THE VENUE — UMA HOUSE \nThe Sunset Rooftop at Uma House Miami Beach provides a serene meditative experience with sweeping ocean views. As the sun sets\, the sky transforms into a breathtaking backdrop\, adding tranquility & beauty to your practice. \n  \nHosted by: Auratherapy 🌈 Produced by: Vida Boa Wellness 🦋 \n  \n‼️PLEASE NOTE: \n☔️ This is an outdoor event\, in the case of rain\, the event will be rescheduled to the following day\, (Sunday 3/22\, 4-8PM). \n🎟️ Tickets are non-refundable. If you are unable to attend\, ticket may be applied to a future Chakra Vibe Event
URL:https://wynwoodmiami.com/event/feel-glow-sacral-chakra-x-miami-music-week-%f0%9f%8c%88-breath-scent-intuitive-dance-party/
LOCATION:FL
CATEGORIES:Health + Fitness,Music + Dance
ATTACH;FMTTYPE=image/png:https://wynwoodmiami.com/wp-content/uploads/Screenshot-2026-02-08-at-16.29.56.png
ORGANIZER;CN="Adoratherapy":MAILTO:engagelife365@gmail.com
END:VEVENT
BEGIN:VEVENT
DTSTART;TZID=America/New_York:20260501T120000
DTEND;TZID=America/New_York:20260503T233000
DTSTAMP:20260422T175124
CREATED:20260422T172427Z
LAST-MODIFIED:20260422T172427Z
UID:74878-1777636800-1777851000@wynwoodmiami.com
SUMMARY:Where to Watch the F1 Miami Grand Prix in Wynwood (Full Race Weekend at Grails)
DESCRIPTION:If you’re trying to figure out where to watch the F1 Miami Grand Prix in Miami — especially in Wynwood — the difference usually comes down to this: \nAre you actually watching the race… or just somewhere that happens to have it on? \nA lot of places during race weekend feel more like a party with TVs in the background.\nOthers are set up so you don’t miss a single lap. \nGrails is one of the spots people lock into once the weekend starts. \n🏎 The Problem With Watching F1 in Most Places \nYou’ve probably seen it before: \n• TVs on\, but no real focus on the race\n• Sound competing with music (or completely off)\n• People coming and going with no one really following what’s happening \nIt’s fine if you’re casually watching. \nNot if you actually care about qualifying\, strategy\, or how the race unfolds. \n🔥 What Makes Grails Different on Race Weekend \nAt Grails\, the setup doesn’t change depending on the moment — the race is the priority the entire weekend. \nFrom the first practice session to Sunday’s Grand Prix\, people are actually watching\, reacting\, and staying through multiple sessions. \nYou’re not checking your phone to keep up — everything is happening in front of you. \n🏁 Full F1 Miami Grand Prix Weekend Coverage \nYou don’t have to bounce between spots or guess what’s being shown. \nThe full schedule is covered across the venue: \nFriday\, May 1\nPractice sessions live \nSaturday\, May 2\nQualifying rounds \nSunday\, May 3\nF1 Miami Grand Prix Watch Party – 4 pm \nIf you’re looking for where to watch Formula 1 in Miami this weekend\, this is one of the places you can actually follow everything from start to finish. \n🔊 What It Feels Like Inside \nBy qualifying and race day\, the room fills in — groups settle in\, drinks are flowing\, and people are locked into the screens. \n• 70+ TVs across the venue\n• Massive projector for key race moments\n• Full sound when it matters\n• Indoor Sneaker Lounge + outdoor patio\n• Crowd that stays for multiple sessions \nYou’re not stuck watching a corner TV with no sound — the whole room is tuned into the race. \n🍾 Race Weekend in Wynwood (Before & After the Track) \nWhether you’re coming from the track or already out in Wynwood\, this is one of those places that keeps going throughout the day. \n• DJs throughout the weekend\n• Bottomless brunch during daytime hours\n• Full kitchen (wings\, tacos\, burgers\, shareables)\n• Beer buckets\, pitchers\, and sneaker cocktails \nYou can show up for one session… and end up staying through the next. \n📍 Already in Wynwood? \nIf you’re out and deciding where to watch the race without overthinking it\, this is one of the easier moves. \nYou walk in\, the race is already on\, people are actually paying attention\, and you don’t feel like you picked the wrong spot. \n⚠️ When to Arrive \nRace weekend fills up — especially for qualifying and Sunday. \n👉 Arrive early or plan ahead \nLate arrivals usually end up waiting once the race crowd builds. \n📍 Location \nGrails Miami\n2800 N Miami Ave\nMiami\, FL 33127\nWynwood \n🧠 Final Take \nIf you’re just looking for somewhere with TVs during the F1 weekend\, you’ve got options. \nIf you want to actually follow the race\, hear it\, and be around people who are paying attention\, this is where people end up. \n🇪🇸 Dónde ver el F1 Miami Grand Prix en Wynwood \nSi estás buscando dónde ver la Fórmula 1 en Miami o “F1 cerca de mí”\, muchos lugares tienen las pantallas prendidas\, pero el ambiente no está enfocado en la carrera. \nEn Grails es diferente. \n• Todas las sesiones: práctica\, qualy y carrera\n• Más de 70 pantallas + proyector grande\n• Sonido completo durante los momentos importantes\n• Ambiente que empieza temprano y se llena para la carrera\n• Espacio indoor y patio en Wynwood \nSi estás en Wynwood y quieres un lugar donde realmente se sienta la carrera\, este es uno de los spots donde entras y te quedas. \nBook online at https://grailsmiami.com/event/f1-watch-parties/
URL:https://wynwoodmiami.com/event/where-to-watch-the-f1-miami-grand-prix-in-wynwood-full-race-weekend-at-grails/
LOCATION:Grails Sports Bar\, 2800 North Miami Avenue\, Miami\, FL\, 33127\, United States
CATEGORIES:Food + Drink,Music + Dance,Sports
ATTACH;FMTTYPE=image/png:https://wynwoodmiami.com/wp-content/uploads/c.png
ORGANIZER;CN="Grails Sports Bar":MAILTO:hello@grailssportsbar.com
GEO:25.803195;-80.1952
X-APPLE-STRUCTURED-LOCATION;VALUE=URI;X-ADDRESS=Grails Sports Bar 2800 North Miami Avenue Miami FL 33127 United States;X-APPLE-RADIUS=500;X-TITLE=2800 North Miami Avenue:geo:-80.1952,25.803195
END:VEVENT
BEGIN:VEVENT
DTSTART;TZID=America/New_York:20260501T170000
DTEND;TZID=America/New_York:20260503T233000
DTSTAMP:20260422T175124
CREATED:20260422T135455Z
LAST-MODIFIED:20260422T135455Z
UID:74827-1777654800-1777851000@wynwoodmiami.com
SUMMARY:F1 Miami Race Weekend Celebration at Bar Tulio's in Wynwood!
DESCRIPTION:As Formula 1 takes over Miami\, Bar Tulio’s invites guests to experience the ultimate F1 Miami Race Weekend destination in the heart of Wynwood. From Friday\, May 1 through Sunday\, May 3\, 2026\, Bar Tulio’s will deliver a full weekend of high-energy programming\, blending bold Mexican flavors\, handcrafted cocktails\, and Miami’s signature nightlife atmosphere. \nPositioned as a go-to hotspot for race weekend festivities\, Bar Tulio’s offers an immersive lineup designed for both daytime brunch-goers and late-night party seekers\, all set against the vibrant backdrop of Wynwood. \nWeekend Programming Highlights Include: \nFRIDAY\, MAY 1\nRace weekend kicks off with Wynwood’s Best Happy Hour from 5PM–7PM\, followed by dinner service and elevated nightlife. \nGuests can enjoy signature margaritas\, tacos\, and table + bottle service as the venue stays open until 2AM. \nSATURDAY\, MAY 2\nThe energy builds with Bottomless Brunch from 12PM–4PM\, leading into the highly anticipated debut of Bandida Saturdays\, Bar Tulio’s new weekly nightlife experience. \nThe evening continues with an F1 After Party\, featuring live DJs\, premium bottle specials\, and a high-energy crowd\, with doors open until 3AM. \nSUNDAY\, MAY 3\nClose out race weekend with another round of Bottomless Brunch from 12PM–4PM\, followed by dinner service and continued nightlife. Guests can unwind or keep the celebration going with cocktails and bottle service\, with the venue open until 2AM. \nThroughout the weekend\, Bar Tulio’s will showcase its full menu of elevated Mexican dishes\, expansive tequila selection\, and handcrafted cocktails—making it the perfect destination whether guests are arriving from the track or simply looking to experience Miami’s electric race weekend atmosphere. \nWith a dynamic blend of tacos\, tequila\, DJs\, and nonstop energy\, Bar Tulio’s solidifies its place as a must-visit nightlife hub during one of the city’s most exciting weekends of the year. \nTable reservations and bottle service are strongly encouraged. \n\nDinner reservations\, visit: wwwbartulios.com \nBottle Service reservations\, contact: jacob@bartulios.com \n  \nEvent Details:\nWhat: F1 Miami Race Weekend at Bar Tulio’s\nWhen: Friday\, May 1 – Sunday\, May 3\, 2026\nWhere: Bar Tulio’s 2839 NW 1st Ave\, Miami\, FL 33127 \nHighlights: Happy Hour\, Bottomless Brunch\, Bandida Saturdays Launch\, F1 After Party\, DJs\, Bottle Specials
URL:https://wynwoodmiami.com/event/f1-miami-race-weekend-celebration-at-bar-tulios-in-wynwood/
LOCATION:FL
CATEGORIES:Art,Food + Drink,Music + Dance
ATTACH;FMTTYPE=image/jpeg:https://wynwoodmiami.com/wp-content/uploads/event-fb.jpeg
END:VEVENT
BEGIN:VEVENT
DTSTART;TZID=America/New_York:20260505T160000
DTEND;TZID=America/New_York:20260506T030000
DTSTAMP:20260422T175124
CREATED:20260422T135518Z
LAST-MODIFIED:20260422T135518Z
UID:74801-1777996800-1778036400@wynwoodmiami.com
SUMMARY:Wynwood Cinco de Mayo Fiesta at Bar Tulio's
DESCRIPTION:Bar Tulio’s to Host Wynwood Cinco de Mayo Fiesta with Live Entertainment\, Extended Hours\, and Signature Mexican Cuisine\n\nBar Tulio’s is turning up the heat this Cinco de Mayo with a high-energy\, immersive celebration in the heart of Miami’s Wynwood Arts District.\nOpening at 4:00 PM and continuing through 3:00 AM\, the event will feature a full evening of curated entertainment\, culinary offerings\, and signature beverages. Designed to capture the vibrant spirit of Cinco de Mayo\, the experience will blend traditional elements with Bar Tulio’s modern\, nightlife-driven atmosphere.\nGuests can expect a dynamic program of activations\, including:\n\n\n\n\nHappy Hour Specials from 5:00 PM to 7:00 PM\n\n\nLive DJ entertainment throughout the evening\n\n\nMultiple Mariachi band performances\, providing authentic cultural elements\n\n\nFull dinner menu available\, showcasing Bar Tulio’s signature Mexican cuisine and handcrafted cocktails\n\n\n\n\n\n\nExtended hours\, open later until 3:00 AM\n\n\nRecognized as one of Wynwood’s leading Mexican dining and nightlife destinations\, Bar Tulio’s offers a distinctive setting that combines bold culinary offerings with an energetic social environment. This year’s Cinco de Mayo Fiesta is anticipated to draw significant attendance\, with an emphasis on a lively yet curated guest experience.\nEvent Details:\nCinco de Mayo Fiesta at Bar Tulio’s\nTuesday\, May 5\, 2026\n4:00 PM – 3:00 AM\nHappy Hour: 5:00 PM – 7:00 PM\nLocation: Bar Tulio’s\n2839 NW 1st Ave\, Miami\, FL 33127\n\nReservations are available on OpenTable and are strongly encouraged.\nhttps://www.opentable.com/booking/experiences-availability?rid=1349401&restref=1349401&experienceId=704147&utm_source=external&utm_medium=referral&utm_campaign=shared&covers=2&dateTime=2026-05-05T16:00:00\n\nABOUT BAR TULIO’S\nLocated in the heart of Wynwood\, Bar Tulio’s is a dynamic Mexican sports bar known for its bold Latin flavors\, elevated cocktails\, and electric atmosphere. With over 100 tequilas\, a full kitchen open late\, and a vibrant nightlife scene\, it has quickly become a go-to destination for both locals and visitors seeking an authentic Wynwood experience.
URL:https://wynwoodmiami.com/event/wynwood-cinco-de-mayo-fiesta-at-bar-tulios/
LOCATION:FL
CATEGORIES:Food + Drink,Music + Dance
ATTACH;FMTTYPE=image/jpeg:https://wynwoodmiami.com/wp-content/uploads/Photo-Feb-11-2026-2-52-30-PM-scaled.jpg
END:VEVENT
END:VCALENDAR