BEGIN:VCALENDAR
VERSION:2.0
PRODID:-//Wynwood Business Improvement District -- Miami, Florida - ECPv6.15.16//NONSGML v1.0//EN
CALSCALE:GREGORIAN
METHOD:PUBLISH
X-ORIGINAL-URL:https://wynwoodmiami.com
X-WR-CALDESC:Events for Wynwood Business Improvement District -- Miami, Florida
REFRESH-INTERVAL;VALUE=DURATION:PT1H
X-Robots-Tag:noindex
X-PUBLISHED-TTL:PT1H
BEGIN:VTIMEZONE
TZID:America/New_York
BEGIN:DAYLIGHT
TZOFFSETFROM:-0500
TZOFFSETTO:-0400
TZNAME:EDT
DTSTART:20230312T070000
END:DAYLIGHT
BEGIN:STANDARD
TZOFFSETFROM:-0400
TZOFFSETTO:-0500
TZNAME:EST
DTSTART:20231105T060000
END:STANDARD
BEGIN:DAYLIGHT
TZOFFSETFROM:-0500
TZOFFSETTO:-0400
TZNAME:EDT
DTSTART:20240310T070000
END:DAYLIGHT
BEGIN:STANDARD
TZOFFSETFROM:-0400
TZOFFSETTO:-0500
TZNAME:EST
DTSTART:20241103T060000
END:STANDARD
BEGIN:DAYLIGHT
TZOFFSETFROM:-0500
TZOFFSETTO:-0400
TZNAME:EDT
DTSTART:20250309T070000
END:DAYLIGHT
BEGIN:STANDARD
TZOFFSETFROM:-0400
TZOFFSETTO:-0500
TZNAME:EST
DTSTART:20251102T060000
END:STANDARD
END:VTIMEZONE
BEGIN:VEVENT
DTSTART;TZID=America/New_York:20241117T200000
DTEND;TZID=America/New_York:20241118T030000
DTSTAMP:20260421T145630
CREATED:20241112T225014Z
LAST-MODIFIED:20241112T225014Z
UID:63898-1731873600-1731898800@wynwoodmiami.com
SUMMARY:Beéle LIVE @ THE DIRTY RABBIT - Nov 17
DESCRIPTION:Come see Beéle live at The Dirty Rabbit – Sunday\, November 17th\n\nDoors open at 2 PM Eventbrite’s fee is non-refundable.\nOpen until 3 AM 21+ l Dress Code Enforced\nTerms and conditions may apply.\nFor table reservations (305) 812-3308\n151 NW 24 ST Miami\, FL 33127
URL:https://wynwoodmiami.com/event/beele-live-the-dirty-rabbit-nov-17/
LOCATION:The Dirty Rabbit\, 151 Northwest 24th Street\, Miami\, FL\, 33127\, United States
CATEGORIES:Music + Dance
ATTACH;FMTTYPE=image/jpeg:https://wynwoodmiami.com/wp-content/uploads/TDR-BEELE-2160-x-1080-banner.jpg
ORGANIZER;CN="The Dirty Rabbit":MAILTO:info@thedirtyrabbitwynwood.com
END:VEVENT
BEGIN:VEVENT
DTSTART;TZID=America/New_York:20241124T140000
DTEND;TZID=America/New_York:20241125T030000
DTSTAMP:20260421T145630
CREATED:20241120T192838Z
LAST-MODIFIED:20241120T192838Z
UID:64860-1732456800-1732503600@wynwoodmiami.com
SUMMARY:DAIKY by MADE IN WYNWOOD @THE DIRTY RABBIT
DESCRIPTION:Come see Daiky live at The Dirty Rabbit – Sunday\, November 24th \n\n\n\n\n\n\n\nGet ready for an unforgettable night! We’re thrilled to welcome Colombian sensation DAIKY to The Dirty Rabbit. Known for his impeccable fashion\, lifestyle\, and live performances.\n\n\nDoors open at 2 PM \nEventbrite’s fee is non-refundable. \nOpen until 3 AM \n21+ l Dress Code Enforced \nTerms and conditions may apply. \nFor table reservations (305) 812 – 3308. \n151 NW 24 ST Miami\, FL 33127
URL:https://wynwoodmiami.com/event/daiky-by-made-in-wynwood-the-dirty-rabbit/
LOCATION:The Dirty Rabbit\, 151 Northwest 24th Street\, Miami\, FL\, 33127\, United States
CATEGORIES:Music + Dance
ATTACH;FMTTYPE=image/jpeg:https://wynwoodmiami.com/wp-content/uploads/WhatsApp-Image-2024-11-19-at-14.14.53-2.jpeg
ORGANIZER;CN="The Dirty Rabbit":MAILTO:info@thedirtyrabbitwynwood.com
END:VEVENT
BEGIN:VEVENT
DTSTART;TZID=America/New_York:20241127T230000
DTEND;TZID=America/New_York:20241128T050000
DTSTAMP:20260421T145630
CREATED:20241126T213529Z
LAST-MODIFIED:20241126T213529Z
UID:65438-1732748400-1732770000@wynwoodmiami.com
SUMMARY:Thanksgiving Eve - MAD CLUB x LA MUBI - PARTY UNTIL 5 am
DESCRIPTION:Get ready to party all night long at the Thanksgiving Eve – MAD CLUB x LA MUBI event – we’re going until 5 am! \n\n\n\n\n\n\n\n\n\n\n\n\n\n\n\n\n\n\n\nStarts on Wednesday\, November 27 · 11pm EST
URL:https://wynwoodmiami.com/event/thanksgiving-eve-mad-club-x-la-mubi-party-until-5-am/
LOCATION:MAD Club\, 55 NE 24th Street\, Miami\, FL\, 33137\, United States
CATEGORIES:Festivals + Markets,Music + Dance
ATTACH;FMTTYPE=image/jpeg:https://wynwoodmiami.com/wp-content/uploads/WhatsApp-Image-2024-11-26-at-12.24.37-2.jpeg
ORGANIZER;CN="MAD Club":MAILTO:reservations@madclubwynwood.com
END:VEVENT
END:VCALENDAR