BEGIN:VCALENDAR
VERSION:2.0
PRODID:-//Wynwood Business Improvement District -- Miami, Florida - ECPv6.15.16//NONSGML v1.0//EN
CALSCALE:GREGORIAN
METHOD:PUBLISH
X-WR-CALNAME:Wynwood Business Improvement District -- Miami, Florida
X-ORIGINAL-URL:https://wynwoodmiami.com
X-WR-CALDESC:Events for Wynwood Business Improvement District -- Miami, Florida
REFRESH-INTERVAL;VALUE=DURATION:PT1H
X-Robots-Tag:noindex
X-PUBLISHED-TTL:PT1H
BEGIN:VTIMEZONE
TZID:America/New_York
BEGIN:DAYLIGHT
TZOFFSETFROM:-0500
TZOFFSETTO:-0400
TZNAME:EDT
DTSTART:20230312T070000
END:DAYLIGHT
BEGIN:STANDARD
TZOFFSETFROM:-0400
TZOFFSETTO:-0500
TZNAME:EST
DTSTART:20231105T060000
END:STANDARD
BEGIN:DAYLIGHT
TZOFFSETFROM:-0500
TZOFFSETTO:-0400
TZNAME:EDT
DTSTART:20240310T070000
END:DAYLIGHT
BEGIN:STANDARD
TZOFFSETFROM:-0400
TZOFFSETTO:-0500
TZNAME:EST
DTSTART:20241103T060000
END:STANDARD
BEGIN:DAYLIGHT
TZOFFSETFROM:-0500
TZOFFSETTO:-0400
TZNAME:EDT
DTSTART:20250309T070000
END:DAYLIGHT
BEGIN:STANDARD
TZOFFSETFROM:-0400
TZOFFSETTO:-0500
TZNAME:EST
DTSTART:20251102T060000
END:STANDARD
END:VTIMEZONE
BEGIN:VEVENT
DTSTART;TZID=America/New_York:20241018T180000
DTEND;TZID=America/New_York:20241020T030000
DTSTAMP:20260421T162721
CREATED:20240522T154508Z
LAST-MODIFIED:20240522T154508Z
UID:53168-1729274400-1729393200@wynwoodmiami.com
SUMMARY:III Points 2024
DESCRIPTION:III Points Festival Returns for the 2024 Edition – Intersecting Music\, Art and Technology.
URL:https://wynwoodmiami.com/event/iii-points-2024/
LOCATION:Mana Wynwood Convention Center\, 318 NW 23RD STREET\, MIAMI\, FL\, 33127\, United States
CATEGORIES:Art,Fashion + Design,Festivals + Markets,Music + Dance
ATTACH;FMTTYPE=image/jpeg:https://wynwoodmiami.com/wp-content/uploads/2024-Phase-1-Desktop-Header-3200x1520_Mock-scaled-1.jpg
END:VEVENT
END:VCALENDAR