BEGIN:VCALENDAR
VERSION:2.0
PRODID:-//Wynwood Business Improvement District -- Miami, Florida - ECPv6.15.16//NONSGML v1.0//EN
CALSCALE:GREGORIAN
METHOD:PUBLISH
X-WR-CALNAME:Wynwood Business Improvement District -- Miami, Florida
X-ORIGINAL-URL:https://wynwoodmiami.com
X-WR-CALDESC:Events for Wynwood Business Improvement District -- Miami, Florida
REFRESH-INTERVAL;VALUE=DURATION:PT1H
X-Robots-Tag:noindex
X-PUBLISHED-TTL:PT1H
BEGIN:VTIMEZONE
TZID:America/New_York
BEGIN:DAYLIGHT
TZOFFSETFROM:-0500
TZOFFSETTO:-0400
TZNAME:EDT
DTSTART:20230312T070000
END:DAYLIGHT
BEGIN:STANDARD
TZOFFSETFROM:-0400
TZOFFSETTO:-0500
TZNAME:EST
DTSTART:20231105T060000
END:STANDARD
BEGIN:DAYLIGHT
TZOFFSETFROM:-0500
TZOFFSETTO:-0400
TZNAME:EDT
DTSTART:20240310T070000
END:DAYLIGHT
BEGIN:STANDARD
TZOFFSETFROM:-0400
TZOFFSETTO:-0500
TZNAME:EST
DTSTART:20241103T060000
END:STANDARD
BEGIN:DAYLIGHT
TZOFFSETFROM:-0500
TZOFFSETTO:-0400
TZNAME:EDT
DTSTART:20250309T070000
END:DAYLIGHT
BEGIN:STANDARD
TZOFFSETFROM:-0400
TZOFFSETTO:-0500
TZNAME:EST
DTSTART:20251102T060000
END:STANDARD
END:VTIMEZONE
BEGIN:VEVENT
DTSTART;TZID=America/New_York:20240915T200000
DTEND;TZID=America/New_York:20240916T030000
DTSTAMP:20260421T180309
CREATED:20240910T155406Z
LAST-MODIFIED:20240910T155406Z
UID:58004-1726430400-1726455600@wynwoodmiami.com
SUMMARY:ADSO @ The Dirty Rabbit! - Sunday\, September 15
DESCRIPTION:ADSO proves that there are no limits in music\, and neither are there in his career: jumping from a dembow track like “Telo” to a more romantic song with R&B and reggaeton sounds in this new single. In 2020\, he arrived in Miami\, Florida\, seeking better opportunities and aiming to export his music catalog to the U.S. market. Without a doubt\, he’s achieving that\, establishing himself as one of the most disciplined and multifaceted artists in the music industry. \nADSO demuestra que en la música no existen límites y en su carrera tampoco: saltando de un dembow como lo es ‘Telo’ hasta una canción más romántica con sonidos de R&B y reggaeton con este nuevo sencillo. En 2020 llegó a Miami\, Florida buscando mejores oportunidades y exportar su catálogo musical al mercado estadounidense. Sin lugar a dudas\, lo está logrando hasta consolidarse como uno de los artistas más disciplinados y multifacéticos en la industria musical. \nDoors 2 PM – Event 8 PM – Open until 3 AM \nDress code enforced. \nTerms and conditions may apply. \nMake your table reservations at 305 – 812 – 3308. 151 NW 24 ST MIAMI\, FL 33127
URL:https://wynwoodmiami.com/event/adso-the-dirty-rabbit-sunday-september-15/
LOCATION:The Dirty Rabbit\, 151 Northwest 24th Street\, Miami\, FL\, 33127\, United States
CATEGORIES:Music + Dance
ATTACH;FMTTYPE=image/png:https://wynwoodmiami.com/wp-content/uploads/adso-2160-x-1080-inf.png
ORGANIZER;CN="The Dirty Rabbit":MAILTO:info@thedirtyrabbitwynwood.com
END:VEVENT
END:VCALENDAR