BEGIN:VCALENDAR
VERSION:2.0
PRODID:-//Wynwood Business Improvement District -- Miami, Florida - ECPv6.15.16//NONSGML v1.0//EN
CALSCALE:GREGORIAN
METHOD:PUBLISH
X-WR-CALNAME:Wynwood Business Improvement District -- Miami, Florida
X-ORIGINAL-URL:https://wynwoodmiami.com
X-WR-CALDESC:Events for Wynwood Business Improvement District -- Miami, Florida
REFRESH-INTERVAL;VALUE=DURATION:PT1H
X-Robots-Tag:noindex
X-PUBLISHED-TTL:PT1H
BEGIN:VTIMEZONE
TZID:America/New_York
BEGIN:DAYLIGHT
TZOFFSETFROM:-0500
TZOFFSETTO:-0400
TZNAME:EDT
DTSTART:20220313T070000
END:DAYLIGHT
BEGIN:STANDARD
TZOFFSETFROM:-0400
TZOFFSETTO:-0500
TZNAME:EST
DTSTART:20221106T060000
END:STANDARD
BEGIN:DAYLIGHT
TZOFFSETFROM:-0500
TZOFFSETTO:-0400
TZNAME:EDT
DTSTART:20230312T070000
END:DAYLIGHT
BEGIN:STANDARD
TZOFFSETFROM:-0400
TZOFFSETTO:-0500
TZNAME:EST
DTSTART:20231105T060000
END:STANDARD
BEGIN:DAYLIGHT
TZOFFSETFROM:-0500
TZOFFSETTO:-0400
TZNAME:EDT
DTSTART:20240310T070000
END:DAYLIGHT
BEGIN:STANDARD
TZOFFSETFROM:-0400
TZOFFSETTO:-0500
TZNAME:EST
DTSTART:20241103T060000
END:STANDARD
END:VTIMEZONE
BEGIN:VEVENT
DTSTART;TZID=America/New_York:20231020T000000
DTEND;TZID=America/New_York:20231022T030000
DTSTAMP:20260422T105217
CREATED:20230706T171024Z
LAST-MODIFIED:20231020T203301Z
UID:48948-1697760000-1697943600@wynwoodmiami.com
SUMMARY:III Points Festival
DESCRIPTION:Returning to the Mana Wynwood Convention Center on Friday\, October 20 and Saturday\, October 21\, Miami’s III Points Festival will celebrate its success in putting counterculture music on the South Florida map over the last 10 years. III Points has become a staple in Miami’s cultural landscape\, now seen as a landmark event for the region’s music community each year. This year’s festival promises to be a celebration of all that III Points has built over the past decade and a glimpse into what the future holds.
URL:https://wynwoodmiami.com/event/iii-points-festival/
LOCATION:Mana Wynwood Convention Center\, 318 NW 23RD STREET\, MIAMI\, FL\, 33127\, United States
CATEGORIES:Art,Music + Dance
ATTACH;FMTTYPE=image/jpeg:https://wynwoodmiami.com/wp-content/uploads/IIIPOINTS2022_1021_184124-3582_ADINAYEV-JCM-scaled.jpg
END:VEVENT
BEGIN:VEVENT
DTSTART;TZID=America/New_York:20231026T110000
DTEND;TZID=America/New_York:20231026T190000
DTSTAMP:20260422T105217
CREATED:20231026T164256Z
LAST-MODIFIED:20231026T164256Z
UID:50247-1698318000-1698346800@wynwoodmiami.com
SUMMARY:LAFS SALITRADA SHOWROOM
DESCRIPTION:We are showing our new collection!
URL:https://wynwoodmiami.com/event/lafs-salitrada-showroom/
LOCATION:Miami\, FL\, 33127\, United States
CATEGORIES:Food + Drink,Music + Dance
ATTACH;FMTTYPE=image/png:https://wynwoodmiami.com/wp-content/uploads/2-2.png
END:VEVENT
BEGIN:VEVENT
DTSTART;TZID=America/New_York:20231028T110000
DTEND;TZID=America/New_York:20231101T070000
DTSTAMP:20260422T105217
CREATED:20231024T155018Z
LAST-MODIFIED:20231024T204544Z
UID:50216-1698490800-1698822000@wynwoodmiami.com
SUMMARY:catrina halloween event
DESCRIPTION:You’re invited to an exclusive soft event to indulge in the Salitrada Swimwear collection. celebrating halloween weekend. \nWe are giving a special gift!!!!
URL:https://wynwoodmiami.com/event/catrina-halloween-event/
LOCATION:FL
CATEGORIES:Family + Community,Fashion + Design,Food + Drink,Miami Music Week,Music + Dance
ATTACH;FMTTYPE=image/png:https://wynwoodmiami.com/wp-content/uploads/SOFT-OPENING-INVITATION.png
END:VEVENT
END:VCALENDAR