BEGIN:VCALENDAR
VERSION:2.0
PRODID:-//Wynwood Business Improvement District -- Miami, Florida - ECPv6.15.16//NONSGML v1.0//EN
CALSCALE:GREGORIAN
METHOD:PUBLISH
X-WR-CALNAME:Wynwood Business Improvement District -- Miami, Florida
X-ORIGINAL-URL:https://wynwoodmiami.com
X-WR-CALDESC:Events for Wynwood Business Improvement District -- Miami, Florida
REFRESH-INTERVAL;VALUE=DURATION:PT1H
X-Robots-Tag:noindex
X-PUBLISHED-TTL:PT1H
BEGIN:VTIMEZONE
TZID:America/New_York
BEGIN:DAYLIGHT
TZOFFSETFROM:-0500
TZOFFSETTO:-0400
TZNAME:EDT
DTSTART:20220313T070000
END:DAYLIGHT
BEGIN:STANDARD
TZOFFSETFROM:-0400
TZOFFSETTO:-0500
TZNAME:EST
DTSTART:20221106T060000
END:STANDARD
BEGIN:DAYLIGHT
TZOFFSETFROM:-0500
TZOFFSETTO:-0400
TZNAME:EDT
DTSTART:20230312T070000
END:DAYLIGHT
BEGIN:STANDARD
TZOFFSETFROM:-0400
TZOFFSETTO:-0500
TZNAME:EST
DTSTART:20231105T060000
END:STANDARD
BEGIN:DAYLIGHT
TZOFFSETFROM:-0500
TZOFFSETTO:-0400
TZNAME:EDT
DTSTART:20240310T070000
END:DAYLIGHT
BEGIN:STANDARD
TZOFFSETFROM:-0400
TZOFFSETTO:-0500
TZNAME:EST
DTSTART:20241103T060000
END:STANDARD
END:VTIMEZONE
BEGIN:VEVENT
DTSTART;TZID=America/New_York:20230902T200000
DTEND;TZID=America/New_York:20230903T000000
DTSTAMP:20260422T121833
CREATED:20230705T182943Z
LAST-MODIFIED:20230706T171159Z
UID:48946-1693684800-1693699200@wynwoodmiami.com
SUMMARY:Zamna Music Festival
DESCRIPTION:Boris Brejcha\, the renowned electronic music German producer known for his unique style\, will be performing in Miami alongside Zamna at a new dreamlike venue: Mana Wynwood\, on September 2nd. Joining him on stage will be techno icon Ann Clue\, Moritz Hofbauer (live) and Deniz Bul. This highly anticipated event promises an unforgettable night of High-Tech music and an incredible atmosphere in the hearth of Wynwood. Save the date and get ready to immerse yourself in the pulsating beats and vibrant energy of this unique event in Miami. \nZamna is known for its incredible production value and unique stage setups. Be prepared fоr а exceptional experience feаturing custоm lighting\, stаte-оf-thе-аrt sound design\, аnd a sensational production. Zamna creates an immersive jungle atmosphere like no other. Each event is carefully curated to transport you into a world of awe-inspiring sights and sounds reviving the spirit of Tulum creating a sensory journey that will leave you spellbound. \nThis is a 21+ event
URL:https://wynwoodmiami.com/event/zamna-music-festival/
LOCATION:Mana Wynwood Convention Center\, 318 NW 23RD STREET\, MIAMI\, FL\, 33127\, United States
CATEGORIES:Art,Music + Dance
ATTACH;FMTTYPE=image/jpeg:https://wynwoodmiami.com/wp-content/uploads/BORIS_BREJCHA_MIAMI_SQ_m.jpg
END:VEVENT
BEGIN:VEVENT
DTSTART;TZID=America/New_York:20230929T190000
DTEND;TZID=America/New_York:20230929T220000
DTSTAMP:20260422T121833
CREATED:20230929T142119Z
LAST-MODIFIED:20230929T190222Z
UID:50033-1696014000-1696024800@wynwoodmiami.com
SUMMARY:Dj Val Friday Night
DESCRIPTION:Join us for a night of enchanting melodies and the finest Ossobuco cuisine\, curated by the talented DJ Val. Let the music serenade your soul as you savor the flavors of our cuisine\, creating memories that will linger long after the night is over
URL:https://wynwoodmiami.com/event/dj-val-friday-nigth/
LOCATION:Miami\, FL\, 33127\, United States
CATEGORIES:Food + Drink,Music + Dance
ATTACH;FMTTYPE=image/png:https://wynwoodmiami.com/wp-content/uploads/VALENTINA-1.png
END:VEVENT
END:VCALENDAR