BEGIN:VCALENDAR
VERSION:2.0
PRODID:-//Wynwood Business Improvement District -- Miami, Florida - ECPv6.15.16//NONSGML v1.0//EN
CALSCALE:GREGORIAN
METHOD:PUBLISH
X-ORIGINAL-URL:https://wynwoodmiami.com
X-WR-CALDESC:Events for Wynwood Business Improvement District -- Miami, Florida
REFRESH-INTERVAL;VALUE=DURATION:PT1H
X-Robots-Tag:noindex
X-PUBLISHED-TTL:PT1H
BEGIN:VTIMEZONE
TZID:America/New_York
BEGIN:DAYLIGHT
TZOFFSETFROM:-0500
TZOFFSETTO:-0400
TZNAME:EDT
DTSTART:20200308T070000
END:DAYLIGHT
BEGIN:STANDARD
TZOFFSETFROM:-0400
TZOFFSETTO:-0500
TZNAME:EST
DTSTART:20201101T060000
END:STANDARD
BEGIN:DAYLIGHT
TZOFFSETFROM:-0500
TZOFFSETTO:-0400
TZNAME:EDT
DTSTART:20210314T070000
END:DAYLIGHT
BEGIN:STANDARD
TZOFFSETFROM:-0400
TZOFFSETTO:-0500
TZNAME:EST
DTSTART:20211107T060000
END:STANDARD
BEGIN:DAYLIGHT
TZOFFSETFROM:-0500
TZOFFSETTO:-0400
TZNAME:EDT
DTSTART:20220313T070000
END:DAYLIGHT
BEGIN:STANDARD
TZOFFSETFROM:-0400
TZOFFSETTO:-0500
TZNAME:EST
DTSTART:20221106T060000
END:STANDARD
END:VTIMEZONE
BEGIN:VEVENT
DTSTART;TZID=America/New_York:20211031T150000
DTEND;TZID=America/New_York:20211101T030000
DTSTAMP:20260423T190736
CREATED:20211021T205104Z
LAST-MODIFIED:20211021T205104Z
UID:44038-1635692400-1635735600@wynwoodmiami.com
SUMMARY:Dia de los Muertos
DESCRIPTION:Centro Wynwood invites you to our Four day Halloween event! Our costume contest will have over $5\,000 in cash and prizes. Each night has a different theme. \n10/28 – Spooky Perrero \n10/29 – Villains of Centro \n10/30 – Wynwood Asylum \n10/31 – Dia de los Muertos
URL:https://wynwoodmiami.com/event/dia-de-los-muertos/
LOCATION:Centro\, 299 NW 23rd Street\, Miami\, FL\, 33127\, United States
CATEGORIES:Music + Dance
ATTACH;FMTTYPE=image/png:https://wynwoodmiami.com/wp-content/uploads/Centro.png
END:VEVENT
BEGIN:VEVENT
DTSTART;TZID=America/New_York:20211031T210000
DTEND;TZID=America/New_York:20211101T030000
DTSTAMP:20260423T190736
CREATED:20211004T204119Z
LAST-MODIFIED:20211004T204119Z
UID:43898-1635714000-1635735600@wynwoodmiami.com
SUMMARY:rácket Costume Contest
DESCRIPTION:rácket is hosting a Halloween costume contest! \n1st Place: $1\,000 cash prize \n2nd Place: $500 bar tab \n3rd Place: $250 bar tab \nTickets: Click here \nAges: 21+ \nrácket is Wynwood’s premier destination for an up-scale bar\, lounge and nightlife experience\, brought to the neighborhood by Homecookin’ Hospitality Group. rácket opened its doors in the heart of Wynwood in 2017 and quickly became the go-to hotspot. Named “Best Bar in Miami” by Conde’ Nast Traveler and Miami New Times\, rácket offers an ever-evolving experience through its elevated ambiance and alluring libations. Think elegant Wynwood mixed with eclectic entertainment and sophisticated craftsmanship. The venue combines the Arts District trend with a sophisticated twist\, featuring 3 different rooms for guests to choose their preferred ambiance. Upon entering\, one is greeted with a covered-atrium featuring a tiki-inspired rum and tequila bar. As you continue into the main room\, guests revel around a central sky-lit\, live wood-edge\, rolled steel island bar where one can enjoy seasonal ingredient craft cocktails and a selection of neighborhood beers. Make your way to the back and you’ll find a staircase that leads you to a separate bar and vibe\, called The Attic\, which hosts separate parties and special events. rácket serves as a unique daytime hang out as well as a nightlife destination\, all under one roof.
URL:https://wynwoodmiami.com/event/racket-costume-contest/
LOCATION:rácket\, 150 Northwest 24th Street\, Miami\, FL\, 33127\, United States
CATEGORIES:Food + Drink,Music + Dance
ATTACH;FMTTYPE=image/jpeg:https://wynwoodmiami.com/wp-content/uploads/racket.jpeg
ORGANIZER;CN="r%C3%A1cket":MAILTO:info@racketwynwood.com
GEO:25.799781;-80.197862
X-APPLE-STRUCTURED-LOCATION;VALUE=URI;X-ADDRESS=rácket 150 Northwest 24th Street Miami FL 33127 United States;X-APPLE-RADIUS=500;X-TITLE=150 Northwest 24th Street:geo:-80.197862,25.799781
END:VEVENT
BEGIN:VEVENT
DTSTART;TZID=America/New_York:20211102T180000
DTEND;TZID=America/New_York:20211102T230000
DTSTAMP:20260423T190736
CREATED:20211027T144816Z
LAST-MODIFIED:20211029T142831Z
UID:44104-1635876000-1635894000@wynwoodmiami.com
SUMMARY:Diwali at Oasis
DESCRIPTION:Hosted at The Oasis by Womenade\, IKIGAIUSA and Brickell Women. Pooja Uberoi will be teaching a Bollywood dance class\, we’ll enjoy some delicious Indian food by Bombay Darbar and celebrate Diwali. \nWorld and traditional music by Rajesh Bhandari \nDJ Ravi will spin some bollywood beats. \nAll proceeds from ticket sales will benefit the Homeless Shelters and Chapman Partnership. \nLet’s bring light to the lives of the homeless 🙂 \nGeneral Admission is $10 \nAdmission + Meal by Bombay Darbar + Raffle Ticket is $23 \nFor tickets\, click here. \nDress code – Dress up in your most colorful and festive outfits. Indian wear encouraged. \nThis is a family event and children are welcome.  We will have cultural Indian music and dance performances and special henna art for adults and kids by @hennavathsalya and @aesthetichenna / $15 for adults and $10 for kids (Cash Only)
URL:https://wynwoodmiami.com/event/diwali-at-oasis/
LOCATION:Oasis Wynwood\, 2335 North Miami Avenue\, Miami\, FL\, 33127\, United States
CATEGORIES:Family + Community,Food + Drink,Music + Dance
ATTACH;FMTTYPE=image/jpeg:https://wynwoodmiami.com/wp-content/uploads/diwali.jpeg
GEO:25.799549110294;-80.194702408234
X-APPLE-STRUCTURED-LOCATION;VALUE=URI;X-ADDRESS=Oasis Wynwood 2335 North Miami Avenue Miami FL 33127 United States;X-APPLE-RADIUS=500;X-TITLE=2335 North Miami Avenue:geo:-80.194702408234,25.799549110294
END:VEVENT
BEGIN:VEVENT
DTSTART;TZID=America/New_York:20211104T190000
DTEND;TZID=America/New_York:20211104T210000
DTSTAMP:20260423T190736
CREATED:20211104T145733Z
LAST-MODIFIED:20211104T145733Z
UID:44159-1636052400-1636059600@wynwoodmiami.com
SUMMARY:Jesus Ayala Violinist
DESCRIPTION:Join us this Thursday for a live performance from violinist Jesus Ayala starting at 8pm. \nReservations are highly encouraged. \n— \nEste jueves tendremos la presentación vivo de @jesusayalaviolinista desde las 8pm. \nRecuerden hacer sus reserva con tiempo..
URL:https://wynwoodmiami.com/event/jesus-ayala-violinist/
LOCATION:Manta Wynwood\, 102 NW 25th Street\, Miami\, FL\, 33127\, United States
CATEGORIES:Music + Dance
ATTACH;FMTTYPE=image/jpeg:https://wynwoodmiami.com/wp-content/uploads/jesus-ayala-en-vivo-.jpeg
GEO:25.800592688345;-80.197116074965
X-APPLE-STRUCTURED-LOCATION;VALUE=URI;X-ADDRESS=Manta Wynwood 102 NW 25th Street Miami FL 33127 United States;X-APPLE-RADIUS=500;X-TITLE=102 NW 25th Street:geo:-80.197116074965,25.800592688345
END:VEVENT
BEGIN:VEVENT
DTSTART;TZID=America/New_York:20211118T200000
DTEND;TZID=America/New_York:20211118T233000
DTSTAMP:20260423T190736
CREATED:20211116T165710Z
LAST-MODIFIED:20211116T165710Z
UID:44221-1637265600-1637278200@wynwoodmiami.com
SUMMARY:DJ Night - Negra Fabulosa
DESCRIPTION:A night full of the best vibes as only MANTA knows how to do it. \nCome enjoy the live performance of the #lanegrafabulosa
URL:https://wynwoodmiami.com/event/dj-night-negra-fabulosa/
LOCATION:Manta Wynwood\, 102 NW 25th Street\, Miami\, FL\, 33127\, United States
CATEGORIES:Food + Drink,Music + Dance
ATTACH;FMTTYPE=image/jpeg:https://wynwoodmiami.com/wp-content/uploads/negra-fabulosa-manta-facebook-.jpeg
GEO:25.800592688345;-80.197116074965
X-APPLE-STRUCTURED-LOCATION;VALUE=URI;X-ADDRESS=Manta Wynwood 102 NW 25th Street Miami FL 33127 United States;X-APPLE-RADIUS=500;X-TITLE=102 NW 25th Street:geo:-80.197116074965,25.800592688345
END:VEVENT
BEGIN:VEVENT
DTSTART;TZID=America/New_York:20211124T200000
DTEND;TZID=America/New_York:20211125T000000
DTSTAMP:20260423T190736
CREATED:20211118T150232Z
LAST-MODIFIED:20211118T150232Z
UID:44450-1637784000-1637798400@wynwoodmiami.com
SUMMARY:The 18th Annual 80s Prom
DESCRIPTION:IT’S BAAAAAAACK!!!! \nWednesday\, November 24th\, 2021\nSweat Records + Vagabonds-At-Large\npresent\nTHE 18th ANNUAL ’80s PROM! \nOutside:\nDJs LOLO & HOTTPANTS\nSpinning the best ’80s Pop\, Hip Hop\, Dance\, and Freestyle Hits\n+\nOur very own prom band\nTHE STATE OF \nInside:\nDJs CARMEL OPHIR\, RAY MILIAN\, & CARLOS MENENDEZ\nImmersing you in ‘80s New Wave\, Rock\, Post-Punk\, Goth and Industrial\n+\nA special late-night performance by\nORDINARY BOYS \nPlus…\n’80s Drag Performances by\nKARLA CROQUETA \nElegant Decorations\, Drink Specials\, Photo Booth by ‘All Access’\, and Party Favors. \nDress Sharp!\nEarly Doors: 8PM \nHUGE THANKS TO ALL WHO HAVE MADE MIAMI’S ’80s PROM TRULY\, TRULY OUTRAGEOUS SINCE 2003 \nAdv Tickets: oasismiami.tixr.com/80sprom
URL:https://wynwoodmiami.com/event/the-18th-annual-80s-prom/
LOCATION:Oasis Wynwood\, 2335 North Miami Avenue\, Miami\, FL\, 33127\, United States
CATEGORIES:Food + Drink,Music + Dance
ATTACH;FMTTYPE=image/jpeg:https://wynwoodmiami.com/wp-content/uploads/sweat.jpeg
GEO:25.799549110294;-80.194702408234
X-APPLE-STRUCTURED-LOCATION;VALUE=URI;X-ADDRESS=Oasis Wynwood 2335 North Miami Avenue Miami FL 33127 United States;X-APPLE-RADIUS=500;X-TITLE=2335 North Miami Avenue:geo:-80.194702408234,25.799549110294
END:VEVENT
END:VCALENDAR