BEGIN:VCALENDAR
VERSION:2.0
PRODID:-//Wynwood Business Improvement District -- Miami, Florida - ECPv6.15.16//NONSGML v1.0//EN
CALSCALE:GREGORIAN
METHOD:PUBLISH
X-ORIGINAL-URL:https://wynwoodmiami.com
X-WR-CALDESC:Events for Wynwood Business Improvement District -- Miami, Florida
REFRESH-INTERVAL;VALUE=DURATION:PT1H
X-Robots-Tag:noindex
X-PUBLISHED-TTL:PT1H
BEGIN:VTIMEZONE
TZID:America/New_York
BEGIN:DAYLIGHT
TZOFFSETFROM:-0500
TZOFFSETTO:-0400
TZNAME:EDT
DTSTART:20200308T070000
END:DAYLIGHT
BEGIN:STANDARD
TZOFFSETFROM:-0400
TZOFFSETTO:-0500
TZNAME:EST
DTSTART:20201101T060000
END:STANDARD
BEGIN:DAYLIGHT
TZOFFSETFROM:-0500
TZOFFSETTO:-0400
TZNAME:EDT
DTSTART:20210314T070000
END:DAYLIGHT
BEGIN:STANDARD
TZOFFSETFROM:-0400
TZOFFSETTO:-0500
TZNAME:EST
DTSTART:20211107T060000
END:STANDARD
BEGIN:DAYLIGHT
TZOFFSETFROM:-0500
TZOFFSETTO:-0400
TZNAME:EDT
DTSTART:20220313T070000
END:DAYLIGHT
BEGIN:STANDARD
TZOFFSETFROM:-0400
TZOFFSETTO:-0500
TZNAME:EST
DTSTART:20221106T060000
END:STANDARD
END:VTIMEZONE
BEGIN:VEVENT
DTSTART;TZID=America/New_York:20210529T190000
DTEND;TZID=America/New_York:20210529T220000
DTSTAMP:20260424T032956
CREATED:20210513T144529Z
LAST-MODIFIED:20210513T144529Z
UID:42233-1622314800-1622325600@wynwoodmiami.com
SUMMARY:Polynesian Night - Dinner Show
DESCRIPTION:Take a step back in time to the classic tiki bars of the 1950s and 60s with this Polynesian dinner show at FunDimension in Wynwood. Enjoy a ‘dinner and a show’ experience with delicious authentic dishes — an appetizer\, entrée and dessert — with the song and dance of the celebrated Polynesian Islander Revue. \nA night out at FunDimension is a night to remember forever. An authentic Polynesian dinner show – live performance of dancing\, singing\, and the Samoan Fire and Knife dance by incredible Polynesian dancers. \nEnjoy a delicious three-course meal as you watch the show. Soak up the ambiance of a classic tiki bar of the ’50s and ’60s! \nFor tickets\, click here. \nAdult Dinner & Show Ticket – $69 (Early RSVP) \nIncludes seating and entrance to the show\, appetizer\, entrée\, dessert and a complementary drink of your choice. \nDay of the Event – $79 \nLimited availability\, sittings are more likely to sell out. \nKids Dinner & Show Ticket – $27 \nIncludes seating and entrance to the show & dinner from our kids menu! \n(Only available with the purchase of an Adult Dinner & Show Ticket) \n*Kids Drop-Off Program – $20 \nLet your kids enjoy FunDimension’s Attractions & Games while you relax and enjoy your Dinner & Show. Includes Unlimited Attractions & Games Card during the duration of your show (NO REDEMPTIONS). \nCounselor will take care of the children inside the facility. \n*ONLY AGES 5 to 14 – All children must be potty trained and able to handle all aspects of going to the bathroom by themselves. \nDINNER MENU\nAppetizer Choices: \nLobster Bisque \nChix Wings \nAsian Mixed Salad \nSpring Rolls \nEntrée Choices: \nSteak Bowl \nAirline Chix Breast and Mashed Potatoes \nPad Thai Noodles \nDessert: \nHawaiian Cheesecake Bite \nKIDS MENU\nEntrée Choices: \n4″ Cheese Pizza \nChicken Tenders \nGrilled Cheese \nMac & Cheese \nCheeseburger \nSides: \nFrench Fries \nCarrot Sticks \nApple Slice \nDrinks: \nBottled Water \nSmall Soda \nJuice + $1.00 \n  \nFor tickets\, click here.
URL:https://wynwoodmiami.com/event/polynesian-night-dinner-show/
LOCATION:FunDimension\, 2129 NW 1st Court\, Miami\, FL\, 33127\, United States
CATEGORIES:Family + Community,Food + Drink,Music + Dance
ATTACH;FMTTYPE=image/jpeg:https://wynwoodmiami.com/wp-content/uploads/fundimension-1.jpg
ORGANIZER;CN="FunDimension":MAILTO:info@fundimensionusa.com
END:VEVENT
END:VCALENDAR