BEGIN:VCALENDAR
VERSION:2.0
PRODID:-//Wynwood Business Improvement District -- Miami, Florida - ECPv6.15.16//NONSGML v1.0//EN
CALSCALE:GREGORIAN
METHOD:PUBLISH
X-ORIGINAL-URL:https://wynwoodmiami.com
X-WR-CALDESC:Events for Wynwood Business Improvement District -- Miami, Florida
REFRESH-INTERVAL;VALUE=DURATION:PT1H
X-Robots-Tag:noindex
X-PUBLISHED-TTL:PT1H
BEGIN:VTIMEZONE
TZID:America/New_York
BEGIN:DAYLIGHT
TZOFFSETFROM:-0500
TZOFFSETTO:-0400
TZNAME:EDT
DTSTART:20200308T070000
END:DAYLIGHT
BEGIN:STANDARD
TZOFFSETFROM:-0400
TZOFFSETTO:-0500
TZNAME:EST
DTSTART:20201101T060000
END:STANDARD
BEGIN:DAYLIGHT
TZOFFSETFROM:-0500
TZOFFSETTO:-0400
TZNAME:EDT
DTSTART:20210314T070000
END:DAYLIGHT
BEGIN:STANDARD
TZOFFSETFROM:-0400
TZOFFSETTO:-0500
TZNAME:EST
DTSTART:20211107T060000
END:STANDARD
BEGIN:DAYLIGHT
TZOFFSETFROM:-0500
TZOFFSETTO:-0400
TZNAME:EDT
DTSTART:20220313T070000
END:DAYLIGHT
BEGIN:STANDARD
TZOFFSETFROM:-0400
TZOFFSETTO:-0500
TZNAME:EST
DTSTART:20221106T060000
END:STANDARD
END:VTIMEZONE
BEGIN:VEVENT
DTSTART;TZID=America/New_York:20210317T170000
DTEND;TZID=America/New_York:20210318T000000
DTSTAMP:20260424T062013
CREATED:20210316T142116Z
LAST-MODIFIED:20210405T131930Z
UID:41821-1616000400-1616025600@wynwoodmiami.com
SUMMARY:Gear Up\, Ladies!
DESCRIPTION:We’re excited to announce the official launch of our new Wednesday meet-up made exclusively for a kick-ass army of ladies. Join us starting Wednesday\, March 17th and enjoy a $29.99 prix-fixe menu featuring bottomless rosé\, an appetizer\, choice of maki and a dessert. \nGear up\, ladies. We have just redefined #GNO as you know it. \nReserve Now!
URL:https://wynwoodmiami.com/event/gear-up-ladies/2021-03-17/
LOCATION:Back Door Monkey\, 2328 N Miami Ave\, Miami\, FL\, 33127\, United States
CATEGORIES:Food + Drink,Music + Dance
ATTACH;FMTTYPE=image/jpeg:https://wynwoodmiami.com/wp-content/uploads/GNO-Banner.jpeg
ORGANIZER;CN="Back Door Monkey":MAILTO:info@backdoormonkey.com
END:VEVENT
BEGIN:VEVENT
DTSTART;TZID=America/New_York:20210325T170000
DTEND;TZID=America/New_York:20210326T000000
DTSTAMP:20260424T062013
CREATED:20210309T143256Z
LAST-MODIFIED:20210311T193659Z
UID:41390-1616691600-1616716800@wynwoodmiami.com
SUMMARY:Tony Guerra – BDM Music Week
DESCRIPTION:Don’t miss out on the kick-off party for our first ever #BDMMusicWeek. We’re excited to announce that no other than Venezuelan-raised talent DJ Tony Guerra will be live at our playground with support from Mafter + Mausa \nGet your tickets\, soldier! \nhttp://sevn.ly/xwkXeTEO \nAll tickets and table purchases are redeemable towards consumption of food and beverage at Back Door Monkey.
URL:https://wynwoodmiami.com/event/tony-guerra-bdm-music-week/
LOCATION:Back Door Monkey\, 2328 N Miami Ave\, Miami\, FL\, 33127\, United States
CATEGORIES:Food + Drink,Miami Music Week,Music + Dance
ATTACH;FMTTYPE=image/jpeg:https://wynwoodmiami.com/wp-content/uploads/BDM-Thurs-325-Banner.jpeg
ORGANIZER;CN="Back Door Monkey":MAILTO:info@backdoormonkey.com
END:VEVENT
BEGIN:VEVENT
DTSTART;TZID=America/New_York:20210326T170000
DTEND;TZID=America/New_York:20210327T000000
DTSTAMP:20260424T062013
CREATED:20210309T143426Z
LAST-MODIFIED:20210311T193542Z
UID:41393-1616778000-1616803200@wynwoodmiami.com
SUMMARY:Ann Atman | Nicole Galamini | LU33 – BDM Music Week
DESCRIPTION:Talk about a women-led powerhouse! Friday nights are characterized by the amazing sound of our female DJ’s. And in celebration of #BDMMusicWeek\, we have gathered 3 of the top local female DJ’s at the moment: Ann Atman\, Nicole Gallamini & Lu33. \nGet your tickets\, soldier! \nhttp://sevn.ly/xTqIhhQz \nAll tickets and table purchases are redeemable towards consumption of food and beverage at Back Door Monkey.
URL:https://wynwoodmiami.com/event/ann-atman-nicole-galamini-lu33-bdm-music-week/
LOCATION:Back Door Monkey\, 2328 N Miami Ave\, Miami\, FL\, 33127\, United States
CATEGORIES:Food + Drink,Miami Music Week,Music + Dance
ATTACH;FMTTYPE=image/jpeg:https://wynwoodmiami.com/wp-content/uploads/BDM-Friday-326-Banner.jpeg
ORGANIZER;CN="Back Door Monkey":MAILTO:info@backdoormonkey.com
END:VEVENT
BEGIN:VEVENT
DTSTART;TZID=America/New_York:20210327T170000
DTEND;TZID=America/New_York:20210328T000000
DTSTAMP:20260424T062013
CREATED:20210309T143702Z
LAST-MODIFIED:20210309T143702Z
UID:41396-1616864400-1616889600@wynwoodmiami.com
SUMMARY:Robbie Rivera - BDM Music Week
DESCRIPTION:It’s a pleasure for us to present Juicy Music boss\, Robbie Rivera who will be making a comeback at our very special #BDMMusicWeek. He will be joined by our resident DJ Markem on opening duties. \nAll tickets and table purchases are redeemable towards consumption of food and beverage at Back Door Monkey.
URL:https://wynwoodmiami.com/event/robbie-rivera-bdm-music-week/
LOCATION:Back Door Monkey\, 2328 N Miami Ave\, Miami\, FL\, 33127\, United States
CATEGORIES:Food + Drink,Miami Music Week,Music + Dance
ATTACH;FMTTYPE=image/jpeg:https://wynwoodmiami.com/wp-content/uploads/BDM-Sat-327-NewNew.jpeg
ORGANIZER;CN="Back Door Monkey":MAILTO:info@backdoormonkey.com
END:VEVENT
BEGIN:VEVENT
DTSTART;TZID=America/New_York:20210328T170000
DTEND;TZID=America/New_York:20210329T000000
DTSTAMP:20260424T062013
CREATED:20210309T143851Z
LAST-MODIFIED:20210309T143851Z
UID:41399-1616950800-1616976000@wynwoodmiami.com
SUMMARY:Archilla - BDM Music Week
DESCRIPTION:We wrap up Miami Music Week supporting the local scene\, this time Archila will take over the decks for the first time with support by Danniela Macia. \nAll tickets and table purchases are redeemable towards consumption of food and beverage at Back Door Monkey.
URL:https://wynwoodmiami.com/event/archilla-bdm-music-week/
LOCATION:Back Door Monkey\, 2328 N Miami Ave\, Miami\, FL\, 33127\, United States
CATEGORIES:Food + Drink,Miami Music Week,Music + Dance
ATTACH;FMTTYPE=image/jpeg:https://wynwoodmiami.com/wp-content/uploads/BDM-Sunday-328-Banner.jpeg
ORGANIZER;CN="Back Door Monkey":MAILTO:info@backdoormonkey.com
END:VEVENT
END:VCALENDAR