BEGIN:VCALENDAR
VERSION:2.0
PRODID:-//Wynwood Business Improvement District -- Miami, Florida - ECPv6.15.16//NONSGML v1.0//EN
CALSCALE:GREGORIAN
METHOD:PUBLISH
X-WR-CALNAME:Wynwood Business Improvement District -- Miami, Florida
X-ORIGINAL-URL:https://wynwoodmiami.com
X-WR-CALDESC:Events for Wynwood Business Improvement District -- Miami, Florida
REFRESH-INTERVAL;VALUE=DURATION:PT1H
X-Robots-Tag:noindex
X-PUBLISHED-TTL:PT1H
BEGIN:VTIMEZONE
TZID:America/New_York
BEGIN:DAYLIGHT
TZOFFSETFROM:-0500
TZOFFSETTO:-0400
TZNAME:EDT
DTSTART:20190310T070000
END:DAYLIGHT
BEGIN:STANDARD
TZOFFSETFROM:-0400
TZOFFSETTO:-0500
TZNAME:EST
DTSTART:20191103T060000
END:STANDARD
BEGIN:DAYLIGHT
TZOFFSETFROM:-0500
TZOFFSETTO:-0400
TZNAME:EDT
DTSTART:20200308T070000
END:DAYLIGHT
BEGIN:STANDARD
TZOFFSETFROM:-0400
TZOFFSETTO:-0500
TZNAME:EST
DTSTART:20201101T060000
END:STANDARD
BEGIN:DAYLIGHT
TZOFFSETFROM:-0500
TZOFFSETTO:-0400
TZNAME:EDT
DTSTART:20210314T070000
END:DAYLIGHT
BEGIN:STANDARD
TZOFFSETFROM:-0400
TZOFFSETTO:-0500
TZNAME:EST
DTSTART:20211107T060000
END:STANDARD
BEGIN:DAYLIGHT
TZOFFSETFROM:-0500
TZOFFSETTO:-0400
TZNAME:EDT
DTSTART:20220313T070000
END:DAYLIGHT
BEGIN:STANDARD
TZOFFSETFROM:-0400
TZOFFSETTO:-0500
TZNAME:EST
DTSTART:20221106T060000
END:STANDARD
END:VTIMEZONE
BEGIN:VEVENT
DTSTART;TZID=America/New_York:20201231T200000
DTEND;TZID=America/New_York:20210101T010000
DTSTAMP:20260424T084833
CREATED:20201221T160431Z
LAST-MODIFIED:20201221T160431Z
UID:39337-1609444800-1609462800@wynwoodmiami.com
SUMMARY:Let Them Eat Cake!
DESCRIPTION:New Year’s Eve 2021\, Southbound Hospitality Group presents: \nLET THEM EAT CAKE! A NIGHT OF ROYAL ROOFTOP REVELRY \nCome enjoy New Year’s Eve with us on the best ROOFTOP in Wynwood. \nAn evening fit for a Queen (or King) featuring delicious food\, Bubbles\, Live Performances & Music. \nDOORS OPEN 8PM \nMUSIC UNTIL 1 AM \nAll Guests Enjoy: \nPremium Open Bar until Midnight \nDinner \nChampagne all night \nParty Favors \nView of Fireworks \nLive Entertainment \nElectric Violinist \nFire Show \nDJ    \n                                                                                                         \nTHE QUEENS BOUNTY: \nRESERVED TABLE SEATING –  $250 per person (includes all taxes and gratuities) \n\nPremium Rooftop Table Seating\nTable Service\nPremium Open Bar\nChampagne All Night\nA Feast Fit for a Queen (or King)\n\n  \n2021 NYE MENU \nPlateau de Fruits de Mer \nStone Crab Claws\, East Coast Oysters\, and Fish Ceviche with Accoutrements \nHors-d’œuvre (for table) \nFoie Gras Sliders with Onion Marmalade on Brioche\, Marinated Olives with Orange and Chiles\, Grilled Flatbreads with Chèvre and Local Vegetables \nLes Plats Principaux \nWhole Grilled Fish with Roasted Heirloom Tomato\, Wood Roasted Lamb Shoulder with Black Garlic and Herbs \, Local Greens with Blue Cheese\, Fine Herbs and Burnt Citrus\, Roasted Winter Vegetables \nLes Desserts (for table) \n\n$250 per person. This includes all taxes and gratuities. (two person table minimum). For more details on tables\, please call or 305-748-4540
URL:https://wynwoodmiami.com/event/let-them-eat-cake/
LOCATION:No. 3 Social\, 50 Northwest 24 Street\, Miami\, FL\, 33127\, United States
CATEGORIES:Food + Drink,Music + Dance
ATTACH;FMTTYPE=image/jpeg:https://wynwoodmiami.com/wp-content/uploads/Three-x-Social-NYE-Let-them-eat-cake-POST-scaled.jpg
END:VEVENT
BEGIN:VEVENT
DTSTART;TZID=America/New_York:20201231T200000
DTEND;TZID=America/New_York:20210101T010000
DTSTAMP:20260424T084833
CREATED:20201228T162851Z
LAST-MODIFIED:20201228T162851Z
UID:39383-1609444800-1609462800@wynwoodmiami.com
SUMMARY:The "F*CK YOU 2020" NYE Event
DESCRIPTION:2020 sucked\, but New Year’s Eve doesn’t have to. Grails has your back with an NYE celebration to help you forget all of the not-so-great things that 2020 threw your way. \nEnjoy a festive atmosphere filled with DJs and surprise performances. The event is featured in an open-air outdoor patio to ensure good\, clean\, socially distanced fun. \nTo view pricing and book a table\, click here.
URL:https://wynwoodmiami.com/event/the-fck-you-2020-nye-event/
LOCATION:Grails\, 2800 North Miami Avenue\, Miami\, FL\, 33127\, United States
CATEGORIES:Food + Drink,Music + Dance
ATTACH;FMTTYPE=image/jpeg:https://wynwoodmiami.com/wp-content/uploads/IMG_8193.jpg
ORGANIZER;CN="Grails":MAILTO:info@grailssportsbar.com
GEO:25.80327;-80.19521
X-APPLE-STRUCTURED-LOCATION;VALUE=URI;X-ADDRESS=Grails 2800 North Miami Avenue Miami FL 33127 United States;X-APPLE-RADIUS=500;X-TITLE=2800 North Miami Avenue:geo:-80.19521,25.80327
END:VEVENT
BEGIN:VEVENT
DTSTART;TZID=America/New_York:20210115T190000
DTEND;TZID=America/New_York:20210123T170000
DTSTAMP:20260424T084833
CREATED:20210113T162125Z
LAST-MODIFIED:20210113T162125Z
UID:39424-1610737200-1611421200@wynwoodmiami.com
SUMMARY:ScreenDance Miami Festival
DESCRIPTION:ScreenDance Miami highlights choreographers and directors who are working with emerging and new concepts in movement and dance on film and dance on camera. The festival has been created to support professionals in this field and to support the development of dance created for the camera. ScreenDance Miami seeks to engage the public and bring to light an understanding of this adventuresome\, exciting art form. \nProgram Schedule \n\n\nFri\, Jan 15 | New World Center’s Projection Wall at Soundscape Park \n          7pm – Projection Wall Screening of Invited Shorts + Open Call Documentary \n          RSVP \nTues\, Jan 19 | Virtual \n          5pm – Dance in a Pandemic Landscape: Taking Stock and Moving Forward \n          RSVP \n          7pm – Screening of Open Call Shorts: Those Were the Days\, Pre-Pandemic \n          RSVP \nThurs\, Jan 21 | Virtual \n          10am – How Can You\, As A Dancer\, Direct Your Own Dance Film? \n          RSVP \nThurs\, Jan 21 | North Beach Bandshell \n          7pm – Screening of Open Call Shorts: Pandemic\, Mood + Feature Film: Uprooted \n          RSVP \nFri\, Jan 22 | New World Center’s Projection Wall at Soundscape Park \n          7pm – Projection Wall Screening of Miami Light Project Commissions + Films That Need to be Big! \n          RSVP \nSat\, Jan 23 | Virtual \n          10am – Introduction to Mobile Movement Film Making: Directing Camera & Movement \n          RSVP \n          12pm – Screening of Open Call Shorts: Pandemic\, Party of One \n          RSVP \n          2pm – Screening of Open Call Shorts: Pandemic\, Fresh Air \n          RSVP \n          4pm – Screening of Open Call Shorts: Pandemic\, Reflections \n          RSVP \nFri\, Jan 15 – Sat\, Jan 23 | Virtual \n          On-Demand Screenings of Moving Body-Moving Image Festival Films \n         WATCH
URL:https://wynwoodmiami.com/event/screendance-miami-festival/
LOCATION:Virtual\, Miami\, FL\, United States
CATEGORIES:Art,Music + Dance,Theater + Film
ATTACH;FMTTYPE=image/png:https://wynwoodmiami.com/wp-content/uploads/MLP-ScreenDance-Miami-2021-Poster-–-3-1.png
ORGANIZER;CN="Miami Light Project":MAILTO:info@miamilightproject.com
END:VEVENT
END:VCALENDAR