BEGIN:VCALENDAR
VERSION:2.0
PRODID:-//Wynwood Business Improvement District -- Miami, Florida - ECPv6.15.16//NONSGML v1.0//EN
CALSCALE:GREGORIAN
METHOD:PUBLISH
X-WR-CALNAME:Wynwood Business Improvement District -- Miami, Florida
X-ORIGINAL-URL:https://wynwoodmiami.com
X-WR-CALDESC:Events for Wynwood Business Improvement District -- Miami, Florida
REFRESH-INTERVAL;VALUE=DURATION:PT1H
X-Robots-Tag:noindex
X-PUBLISHED-TTL:PT1H
BEGIN:VTIMEZONE
TZID:America/New_York
BEGIN:DAYLIGHT
TZOFFSETFROM:-0500
TZOFFSETTO:-0400
TZNAME:EDT
DTSTART:20190310T070000
END:DAYLIGHT
BEGIN:STANDARD
TZOFFSETFROM:-0400
TZOFFSETTO:-0500
TZNAME:EST
DTSTART:20191103T060000
END:STANDARD
BEGIN:DAYLIGHT
TZOFFSETFROM:-0500
TZOFFSETTO:-0400
TZNAME:EDT
DTSTART:20200308T070000
END:DAYLIGHT
BEGIN:STANDARD
TZOFFSETFROM:-0400
TZOFFSETTO:-0500
TZNAME:EST
DTSTART:20201101T060000
END:STANDARD
BEGIN:DAYLIGHT
TZOFFSETFROM:-0500
TZOFFSETTO:-0400
TZNAME:EDT
DTSTART:20210314T070000
END:DAYLIGHT
BEGIN:STANDARD
TZOFFSETFROM:-0400
TZOFFSETTO:-0500
TZNAME:EST
DTSTART:20211107T060000
END:STANDARD
END:VTIMEZONE
BEGIN:VEVENT
DTSTART;TZID=America/New_York:20201124T120000
DTEND;TZID=America/New_York:20201125T000000
DTSTAMP:20260424T112655
CREATED:20201117T192128Z
LAST-MODIFIED:20201117T192128Z
UID:38938-1606219200-1606262400@wynwoodmiami.com
SUMMARY:Thankful Tipples by @ChatChowTV
DESCRIPTION:It’s beginning to look a lot like cocktails! Join Wynwood’s Asian marketplace\, 1-800-Lucky and Miami’s spirited storyteller @ChatChowTV for a two day drinkable feast ‘Thankful Tipples.’ Special edition cocktails curated by Gio Gutierrez will be available on the expansive outdoor patio and indoor bar area from Nov. 24th – 25th. Locals and industry friends alike are also invited to a kickoff event hosted by @ChatChowTV on Tuesday\, November 24th at 6 PM with beats by Jarobi White at 7 PM. \nThese fall inspired cocktails include twists on the classics like a Moscow mule\, daquiri and old fashion. Highlights include the following: \n\nOh Snap – Havana Club Blanco\, Gingerbread Syrup and Lime Juice\nPumpkin – Spiced & Everything Nice — Pumpkin Spiced infused Grey Goose\, Martinelli Apple Juice and Ginger Beer\nNoche Buena – Aberfeldy\, St. Elizabeth Allspice Dram\, Angostura Bitters and Absinthe\nFall-ing in Love – Bombay Sapphire\, Jack Rudy Tonic\, Lavender Sage Honey Syrup and Splash of Meyer Lemon Juice\n\nGet into the holiday spirit and experience Thankful Tipples on November 24th through the 25th from 12 PM until 12 AM. All cocktails will cost $15 each\, available for indoor or outdoor dining. In theme with their regular programming\, Jarobi White\, founding member of hip-hop group\, A Tribe Called Quest will spin on Tuesday\, November 24th and Mr. Pauer will take over on Wednesday\, November 25th at 7 PM.
URL:https://wynwoodmiami.com/event/thankful-tipples-by-chatchowtv/
LOCATION:1-800-Lucky\, 143 NW 23rd St\, Miami\, FL\, 33127\, United States
CATEGORIES:Food + Drink,Music + Dance
ATTACH;FMTTYPE=image/jpeg:https://wynwoodmiami.com/wp-content/uploads/thankful-tipples-scaled.jpeg
END:VEVENT
BEGIN:VEVENT
DTSTART;TZID=America/New_York:20201125T120000
DTEND;TZID=America/New_York:20201126T000000
DTSTAMP:20260424T112655
CREATED:20201117T192128Z
LAST-MODIFIED:20201117T192201Z
UID:38947-1606305600-1606348800@wynwoodmiami.com
SUMMARY:Thankful Tipples by @ChatChowTV
DESCRIPTION:It’s beginning to look a lot like cocktails! Join Wynwood’s Asian marketplace\, 1-800-Lucky and Miami’s spirited storyteller @ChatChowTV for a two day drinkable feast ‘Thankful Tipples.’ Special edition cocktails curated by Gio Gutierrez will be available on the expansive outdoor patio and indoor bar area from Nov. 24th – 25th. Locals and industry friends alike are also invited to a kickoff event hosted by @ChatChowTV on Tuesday\, November 24th at 6 PM with beats by Jarobi White at 7 PM. \nThese fall inspired cocktails include twists on the classics like a Moscow mule\, daquiri and old fashion. Highlights include the following: \n\nOh Snap – Havana Club Blanco\, Gingerbread Syrup and Lime Juice\nPumpkin – Spiced & Everything Nice — Pumpkin Spiced infused Grey Goose\, Martinelli Apple Juice and Ginger Beer\nNoche Buena – Aberfeldy\, St. Elizabeth Allspice Dram\, Angostura Bitters and Absinthe\nFall-ing in Love – Bombay Sapphire\, Jack Rudy Tonic\, Lavender Sage Honey Syrup and Splash of Meyer Lemon Juice\n\nGet into the holiday spirit and experience Thankful Tipples on November 24th through the 25th from 12 PM until 12 AM. All cocktails will cost $15 each\, available for indoor or outdoor dining. In theme with their regular programming\, Jarobi White\, founding member of hip-hop group\, A Tribe Called Quest will spin on Tuesday\, November 24th and Mr. Pauer will take over on Wednesday\, November 25th at 7 PM.
URL:https://wynwoodmiami.com/event/thankful-tipples-by-chatchowtv-2020-11-25/2020-11-25/
LOCATION:1-800-Lucky\, 143 NW 23rd St\, Miami\, FL\, 33127\, United States
CATEGORIES:Food + Drink,Music + Dance
ATTACH;FMTTYPE=image/jpeg:https://wynwoodmiami.com/wp-content/uploads/thankful-tipples-scaled.jpeg
END:VEVENT
BEGIN:VEVENT
DTSTART;TZID=America/New_York:20201128T210000
DTEND;TZID=America/New_York:20201128T235900
DTSTAMP:20260424T112655
CREATED:20201125T171935Z
LAST-MODIFIED:20201125T171935Z
UID:39000-1606597200-1606607940@wynwoodmiami.com
SUMMARY:Mike Tyson vs Roy Jones Jr. Watch Party
DESCRIPTION:Don’t back down from getting your hands on EARLY BIRD tickets for the highly anticipated Mike Tyson VS Roy Jones Jr. fight on Saturday\, November 28th at 9:00pm. \nOpen bar packages starting at $50 per person! Hurry now and reserve your table online. \nEveryone fights for a reason but all that matters is who’s standing at the end. \nAre you ready??? \nPlease note: Please purchase the number of tickets required for your entire party. This will allow us to seat you all together. If you need to combine multiple reservations (multiple ticket purchases)\, please email info@grailsmiami.com with the names of both reservations. For parties of 11 or more\, please buy the tickets in multiple orders and email us to combine reservations. \nWatch the BIG FIGHT at the Grails watch party event on Saturday\, November 28th. Event details are below. \nPremium Open Bar Drink Package\nAdvanced purchase pricing per person: $50 \nOpen bar from: 9 pm – end of main event. \nIncludes: \nPremium Open Bar from 9:00pm until the end of the main event. \n(Proper 12 Whiskey\, Havana Club Classico\, Four Roses Bourbon\, Citadelle Gin\, Double Maestro Tequila\, Ciroc Vodka\, all draft beer\, select red/white wine.) \nDay of ticket prices will be $60. We recommend purchasing in advance to save and guarantee a reservation. \nIf you need to merge multiple reservations\, please email info@grailsmiami.com.
URL:https://wynwoodmiami.com/event/mike-tyson-vs-roy-jones-jr-watch-party/
LOCATION:Grails\, 2800 North Miami Avenue\, Miami\, FL\, 33127\, United States
CATEGORIES:Family + Community,Food + Drink,Music + Dance
ATTACH;FMTTYPE=image/jpeg:https://wynwoodmiami.com/wp-content/uploads/WhatsApp-Image-2020-11-23-at-11.51.04-AM.jpeg
ORGANIZER;CN="Grails":MAILTO:info@grailssportsbar.com
GEO:25.80327;-80.19521
X-APPLE-STRUCTURED-LOCATION;VALUE=URI;X-ADDRESS=Grails 2800 North Miami Avenue Miami FL 33127 United States;X-APPLE-RADIUS=500;X-TITLE=2800 North Miami Avenue:geo:-80.19521,25.80327
END:VEVENT
END:VCALENDAR