BEGIN:VCALENDAR
VERSION:2.0
PRODID:-//Wynwood Business Improvement District -- Miami, Florida - ECPv6.15.16//NONSGML v1.0//EN
CALSCALE:GREGORIAN
METHOD:PUBLISH
X-ORIGINAL-URL:https://wynwoodmiami.com
X-WR-CALDESC:Events for Wynwood Business Improvement District -- Miami, Florida
REFRESH-INTERVAL;VALUE=DURATION:PT1H
X-Robots-Tag:noindex
X-PUBLISHED-TTL:PT1H
BEGIN:VTIMEZONE
TZID:America/New_York
BEGIN:DAYLIGHT
TZOFFSETFROM:-0500
TZOFFSETTO:-0400
TZNAME:EDT
DTSTART:20190310T070000
END:DAYLIGHT
BEGIN:STANDARD
TZOFFSETFROM:-0400
TZOFFSETTO:-0500
TZNAME:EST
DTSTART:20191103T060000
END:STANDARD
BEGIN:DAYLIGHT
TZOFFSETFROM:-0500
TZOFFSETTO:-0400
TZNAME:EDT
DTSTART:20200308T070000
END:DAYLIGHT
BEGIN:STANDARD
TZOFFSETFROM:-0400
TZOFFSETTO:-0500
TZNAME:EST
DTSTART:20201101T060000
END:STANDARD
BEGIN:DAYLIGHT
TZOFFSETFROM:-0500
TZOFFSETTO:-0400
TZNAME:EDT
DTSTART:20210314T070000
END:DAYLIGHT
BEGIN:STANDARD
TZOFFSETFROM:-0400
TZOFFSETTO:-0500
TZNAME:EST
DTSTART:20211107T060000
END:STANDARD
END:VTIMEZONE
BEGIN:VEVENT
DTSTART;TZID=America/New_York:20200407T190000
DTEND;TZID=America/New_York:20200407T210000
DTSTAMP:20260424T215732
CREATED:20200407T164244Z
LAST-MODIFIED:20200407T181040Z
UID:34334-1586286000-1586293200@wynwoodmiami.com
SUMMARY:DJ Livestream with A-Train
DESCRIPTION:We may be at home\, but we can still enjoy some music. Presented by Coyo Taco\, A-Train will provide a live DJ set on Instagram at 7pm on @WynwoodMiami. \nAt 8pm\, A-Train will transition over to @CoyoTaco for another hour of music. \n 
URL:https://wynwoodmiami.com/event/dj-livestream-with-a-train/
LOCATION:Coyo Taco\, 2300 NW 2nd Avenue\, Miami\, FL\, 33127\, United States
CATEGORIES:Music + Dance
ATTACH;FMTTYPE=image/jpeg:https://wynwoodmiami.com/wp-content/uploads/FullSizeRender-3.jpeg
END:VEVENT
BEGIN:VEVENT
DTSTART;TZID=America/New_York:20200409T190000
DTEND;TZID=America/New_York:20200409T210000
DTSTAMP:20260424T215732
CREATED:20200407T181730Z
LAST-MODIFIED:20200408T201423Z
UID:34351-1586458800-1586466000@wynwoodmiami.com
SUMMARY:DJ Livestream with Ripe Fruit
DESCRIPTION:Join us Thursday night for some Wynwood vibes. Presented by 1-800-Lucky\, Ripe Fruit will provide a live DJ set on Instagram at 7pm on @WynwoodMiami. \nAt 8pm\, Ripe Fruit will transition over to @1800Lucky for another hour of music.
URL:https://wynwoodmiami.com/event/dj-livestream-with-ripe-fruit/
LOCATION:1-800-Lucky\, 143 NW 23rd St\, Miami\, FL\, 33127\, United States
CATEGORIES:Music + Dance
ATTACH;FMTTYPE=image/jpeg:https://wynwoodmiami.com/wp-content/uploads/IMG_2361.jpeg
END:VEVENT
BEGIN:VEVENT
DTSTART;TZID=America/New_York:20200410T190000
DTEND;TZID=America/New_York:20200410T200000
DTSTAMP:20260424T215732
CREATED:20200409T162141Z
LAST-MODIFIED:20200409T162141Z
UID:34359-1586545200-1586548800@wynwoodmiami.com
SUMMARY:DJ Livestream with Mr. Mauricio
DESCRIPTION:Tune in to @WynwoodMiami on Instagram at 7pm for a live DJ set by racket’s resident DJ\, Mr. Mauricio.
URL:https://wynwoodmiami.com/event/dj-livestream-with-mr-mauricio/
LOCATION:rácket\, 150 Northwest 24th Street\, Miami\, FL\, 33127\, United States
CATEGORIES:Music + Dance
ATTACH;FMTTYPE=image/jpeg:https://wynwoodmiami.com/wp-content/uploads/04.10.20.jpg
GEO:25.799781;-80.197862
X-APPLE-STRUCTURED-LOCATION;VALUE=URI;X-ADDRESS=rácket 150 Northwest 24th Street Miami FL 33127 United States;X-APPLE-RADIUS=500;X-TITLE=150 Northwest 24th Street:geo:-80.197862,25.799781
END:VEVENT
BEGIN:VEVENT
DTSTART;TZID=America/New_York:20200412T200000
DTEND;TZID=America/New_York:20200412T210000
DTSTAMP:20260424T215732
CREATED:20200409T182259Z
LAST-MODIFIED:20200409T182259Z
UID:34362-1586721600-1586725200@wynwoodmiami.com
SUMMARY:DJ Livestream with Mr. Pauer
DESCRIPTION:Join us Sunday night for an Instagram live DJ set! El Patio’s own\, Mr.Pauer will be live on @WynwoodMiami at 8pm.
URL:https://wynwoodmiami.com/event/dj-livestream-with-mr-pauer/
LOCATION:El Patio\, 167 Northwest 23rd Street\, Miami\, FL\, 33127\, United States
CATEGORIES:Music + Dance
ATTACH;FMTTYPE=image/jpeg:https://wynwoodmiami.com/wp-content/uploads/elpatio.jpg
GEO:25.799227;-80.198335
X-APPLE-STRUCTURED-LOCATION;VALUE=URI;X-ADDRESS=El Patio 167 Northwest 23rd Street Miami FL 33127 United States;X-APPLE-RADIUS=500;X-TITLE=167 Northwest 23rd Street:geo:-80.198335,25.799227
END:VEVENT
BEGIN:VEVENT
DTSTART;TZID=America/New_York:20200419T200000
DTEND;TZID=America/New_York:20200419T210000
DTSTAMP:20260424T215732
CREATED:20200414T162049Z
LAST-MODIFIED:20200414T162049Z
UID:34422-1587326400-1587330000@wynwoodmiami.com
SUMMARY:DJ Livestream with Mr. Pauer
DESCRIPTION:Join us Sunday night for an Instagram live DJ set! El Patio’s own\, Mr.Pauer will be live on @WynwoodMiami at 8pm.
URL:https://wynwoodmiami.com/event/dj-livestream-with-mr-pauer-2/
LOCATION:El Patio\, 167 Northwest 23rd Street\, Miami\, FL\, 33127\, United States
CATEGORIES:Music + Dance
ATTACH;FMTTYPE=image/jpeg:https://wynwoodmiami.com/wp-content/uploads/el-patio-logo.jpg
GEO:25.799227;-80.198335
X-APPLE-STRUCTURED-LOCATION;VALUE=URI;X-ADDRESS=El Patio 167 Northwest 23rd Street Miami FL 33127 United States;X-APPLE-RADIUS=500;X-TITLE=167 Northwest 23rd Street:geo:-80.198335,25.799227
END:VEVENT
BEGIN:VEVENT
DTSTART;TZID=America/New_York:20200421T190000
DTEND;TZID=America/New_York:20200421T210000
DTSTAMP:20260424T215732
CREATED:20200420T163544Z
LAST-MODIFIED:20200421T132537Z
UID:34492-1587495600-1587502800@wynwoodmiami.com
SUMMARY:DJ Livestream with A-Train
DESCRIPTION:Coyo Taco is providing a two-hour Instagram live DJ set by A-Train. The show starts at 7pm on @WynwoodMiami\, followed by another hour of music on @CoyoTaco at 8pm. Tune in for a chance to win tacos and margaritas!
URL:https://wynwoodmiami.com/event/dj-livestream-with-a-train-2/
LOCATION:Coyo Taco\, 2300 NW 2nd Avenue\, Miami\, FL\, 33127\, United States
CATEGORIES:Music + Dance
ATTACH;FMTTYPE=image/jpeg:https://wynwoodmiami.com/wp-content/uploads/IMG_3479-1.jpg
END:VEVENT
BEGIN:VEVENT
DTSTART;TZID=America/New_York:20200425T200000
DTEND;TZID=America/New_York:20200425T210000
DTSTAMP:20260424T215732
CREATED:20200421T181146Z
LAST-MODIFIED:20200421T181146Z
UID:34516-1587844800-1587848400@wynwoodmiami.com
SUMMARY:Livestream with DJ Miner
DESCRIPTION:rácket resident\, DJ Miner\, is set to bring the energy to your Saturday night. Tune in to @WynwoodMiami on Instagram for a live DJ mix starting at 8pm.
URL:https://wynwoodmiami.com/event/livestream-with-dj-miner/
LOCATION:rácket\, 150 Northwest 24th Street\, Miami\, FL\, 33127\, United States
CATEGORIES:Music + Dance
ATTACH;FMTTYPE=image/jpeg:https://wynwoodmiami.com/wp-content/uploads/als4351-scaled.jpeg
GEO:25.799781;-80.197862
X-APPLE-STRUCTURED-LOCATION;VALUE=URI;X-ADDRESS=rácket 150 Northwest 24th Street Miami FL 33127 United States;X-APPLE-RADIUS=500;X-TITLE=150 Northwest 24th Street:geo:-80.197862,25.799781
END:VEVENT
BEGIN:VEVENT
DTSTART;TZID=America/New_York:20200426T200000
DTEND;TZID=America/New_York:20200426T210000
DTSTAMP:20260424T215732
CREATED:20200421T181746Z
LAST-MODIFIED:20200421T181746Z
UID:34519-1587931200-1587934800@wynwoodmiami.com
SUMMARY:DJ Livestream with Mr. Pauer
DESCRIPTION:El Patio’s infamous DJ Mr. Pauer hosts an hour of upbeat music to close out the weekend. The show starts at 8pm on @WynwoodMiami on Instagram.
URL:https://wynwoodmiami.com/event/dj-livestream-with-mr-pauer-3/
LOCATION:El Patio\, 167 Northwest 23rd Street\, Miami\, FL\, 33127\, United States
CATEGORIES:Music + Dance
ATTACH;FMTTYPE=image/jpeg:https://wynwoodmiami.com/wp-content/uploads/el-patio-logo.jpg
GEO:25.799227;-80.198335
X-APPLE-STRUCTURED-LOCATION;VALUE=URI;X-ADDRESS=El Patio 167 Northwest 23rd Street Miami FL 33127 United States;X-APPLE-RADIUS=500;X-TITLE=167 Northwest 23rd Street:geo:-80.198335,25.799227
END:VEVENT
END:VCALENDAR