BEGIN:VCALENDAR
VERSION:2.0
PRODID:-//Wynwood Business Improvement District -- Miami, Florida - ECPv6.15.16//NONSGML v1.0//EN
CALSCALE:GREGORIAN
METHOD:PUBLISH
X-WR-CALNAME:Wynwood Business Improvement District -- Miami, Florida
X-ORIGINAL-URL:https://wynwoodmiami.com
X-WR-CALDESC:Events for Wynwood Business Improvement District -- Miami, Florida
REFRESH-INTERVAL;VALUE=DURATION:PT1H
X-Robots-Tag:noindex
X-PUBLISHED-TTL:PT1H
BEGIN:VTIMEZONE
TZID:America/New_York
BEGIN:DAYLIGHT
TZOFFSETFROM:-0500
TZOFFSETTO:-0400
TZNAME:EDT
DTSTART:20230312T070000
END:DAYLIGHT
BEGIN:STANDARD
TZOFFSETFROM:-0400
TZOFFSETTO:-0500
TZNAME:EST
DTSTART:20231105T060000
END:STANDARD
BEGIN:DAYLIGHT
TZOFFSETFROM:-0500
TZOFFSETTO:-0400
TZNAME:EDT
DTSTART:20240310T070000
END:DAYLIGHT
BEGIN:STANDARD
TZOFFSETFROM:-0400
TZOFFSETTO:-0500
TZNAME:EST
DTSTART:20241103T060000
END:STANDARD
BEGIN:DAYLIGHT
TZOFFSETFROM:-0500
TZOFFSETTO:-0400
TZNAME:EDT
DTSTART:20250309T070000
END:DAYLIGHT
BEGIN:STANDARD
TZOFFSETFROM:-0400
TZOFFSETTO:-0500
TZNAME:EST
DTSTART:20251102T060000
END:STANDARD
END:VTIMEZONE
BEGIN:VEVENT
DTSTART;TZID=America/New_York:20240723T200000
DTEND;TZID=America/New_York:20240723T220000
DTSTAMP:20260420T065221
CREATED:20240718T081638Z
LAST-MODIFIED:20240718T081638Z
UID:55254-1721764800-1721772000@wynwoodmiami.com
SUMMARY:Marvel trivia night with CAFECITo COMEDY
DESCRIPTION:Come out and show off your knowledge of all things Marvel…Movies\, comics\, hero’s\, villains\, sidekicks\, characters and more! This will be an interactive show with lots of great questions and a great time for all! Free entry and no drink minimums! \n📅 Date: Tuesday 7/23/24\n⏰ Time: 8pm-10pm\n📍Location: The Arlo Wynwood\n2217 Northwest Miami CT\, Miami FL 33127
URL:https://wynwoodmiami.com/event/marvel-trivia-night-with-cafecito-comedy/
LOCATION:Miami\, FL\, 33127\, United States
CATEGORIES:Food + Drink,Learning + Enrichment,Theater + Film
ATTACH;FMTTYPE=image/jpeg:https://wynwoodmiami.com/wp-content/uploads/EDS7626-Copy.jpg
ORGANIZER;CN="Arlo Wynwood":MAILTO:hellowynwood@arlohotels.com
END:VEVENT
END:VCALENDAR