BEGIN:VCALENDAR
VERSION:2.0
PRODID:-//Wynwood Business Improvement District -- Miami, Florida - ECPv6.15.16//NONSGML v1.0//EN
CALSCALE:GREGORIAN
METHOD:PUBLISH
X-ORIGINAL-URL:https://wynwoodmiami.com
X-WR-CALDESC:Events for Wynwood Business Improvement District -- Miami, Florida
REFRESH-INTERVAL;VALUE=DURATION:PT1H
X-Robots-Tag:noindex
X-PUBLISHED-TTL:PT1H
BEGIN:VTIMEZONE
TZID:America/New_York
BEGIN:DAYLIGHT
TZOFFSETFROM:-0500
TZOFFSETTO:-0400
TZNAME:EDT
DTSTART:20230312T070000
END:DAYLIGHT
BEGIN:STANDARD
TZOFFSETFROM:-0400
TZOFFSETTO:-0500
TZNAME:EST
DTSTART:20231105T060000
END:STANDARD
BEGIN:DAYLIGHT
TZOFFSETFROM:-0500
TZOFFSETTO:-0400
TZNAME:EDT
DTSTART:20240310T070000
END:DAYLIGHT
BEGIN:STANDARD
TZOFFSETFROM:-0400
TZOFFSETTO:-0500
TZNAME:EST
DTSTART:20241103T060000
END:STANDARD
BEGIN:DAYLIGHT
TZOFFSETFROM:-0500
TZOFFSETTO:-0400
TZNAME:EDT
DTSTART:20250309T070000
END:DAYLIGHT
BEGIN:STANDARD
TZOFFSETFROM:-0400
TZOFFSETTO:-0500
TZNAME:EST
DTSTART:20251102T060000
END:STANDARD
END:VTIMEZONE
BEGIN:VEVENT
DTSTART;TZID=America/New_York:20240519T170000
DTEND;TZID=America/New_York:20240519T190000
DTSTAMP:20260420T095436
CREATED:20240516T150523Z
LAST-MODIFIED:20240516T150523Z
UID:53004-1716138000-1716145200@wynwoodmiami.com
SUMMARY:Wine & Cheese Sunday
DESCRIPTION:Come to Little Brix and taste some wines and cheeses that Brian will open for a fix rate for 2 hours
URL:https://wynwoodmiami.com/event/wine-cheese-sunday/
LOCATION:Miami\, FL\, 33127\, United States
CATEGORIES:Food + Drink,Learning + Enrichment
ATTACH;FMTTYPE=image/jpeg:https://wynwoodmiami.com/wp-content/uploads/34B295E9-6A08-40FD-969C-50A7C2130815.jpeg
ORGANIZER;CN="Little Brix SommCulture":MAILTO:Hello@brixsommculture.com
END:VEVENT
BEGIN:VEVENT
DTSTART;TZID=America/New_York:20240521T183000
DTEND;TZID=America/New_York:20240521T203000
DTSTAMP:20260420T095436
CREATED:20240516T150556Z
LAST-MODIFIED:20240516T150556Z
UID:53010-1716316200-1716323400@wynwoodmiami.com
SUMMARY:Wine & Cheese pairing
DESCRIPTION:We invite you to enjoy cheeses and wine pairings guided by our owner and sommelier\, Brian Atkinson.\nOur tastings are not just for sampling wines\, but also for learning and clearing any doubts you may have.\nWe embrace sommelier culture and delight in sharing our knowledge with all who are interested.\nPlease\, try not to use perfume\, colony or some product that could affect wine aromas in the room
URL:https://wynwoodmiami.com/event/wine-cheese-pairing/
LOCATION:Miami\, FL\, 33127\, United States
CATEGORIES:Food + Drink,Learning + Enrichment
ATTACH;FMTTYPE=image/jpeg:https://wynwoodmiami.com/wp-content/uploads/IMG_2657-scaled.jpeg
ORGANIZER;CN="Little Brix SommCulture":MAILTO:Hello@brixsommculture.com
END:VEVENT
BEGIN:VEVENT
DTSTART;TZID=America/New_York:20240528T080000
DTEND;TZID=America/New_York:20240528T170000
DTSTAMP:20260420T095436
CREATED:20240516T151047Z
LAST-MODIFIED:20240516T151047Z
UID:53014-1716883200-1716915600@wynwoodmiami.com
SUMMARY:TEA & Sparkling tea tasting
DESCRIPTION:We invite you to enjoy organic & high end loose leaf teas from all over the world and sparkling teas from Denmark guided by our owner and tea sommelier\, Brian Atkinson.\nOur tastings are not just for sampling teas\, but also for learning and clearing any doubts you may have. We embrace sommelier culture and delight in sharing our knowledge with all who are interested.\nAccompanied the experience our pastry icon: the gorgonzola cheesecake from our pastry chef Julieta Orsi who will also serve delight English scons with home-made raspberry jam & cream cheese. \nPlease\, try not to use perfume\, colony or some product that could affect wine aromas in the room
URL:https://wynwoodmiami.com/event/tea-sparkling-tea-tasting/
LOCATION:Miami\, FL\, 33127\, United States
CATEGORIES:Food + Drink,Learning + Enrichment
ATTACH;FMTTYPE=image/jpeg:https://wynwoodmiami.com/wp-content/uploads/IMG_2451-scaled.jpeg
ORGANIZER;CN="Little Brix SommCulture":MAILTO:Hello@brixsommculture.com
END:VEVENT
END:VCALENDAR