BEGIN:VCALENDAR
VERSION:2.0
PRODID:-//Wynwood Business Improvement District -- Miami, Florida - ECPv6.15.16//NONSGML v1.0//EN
CALSCALE:GREGORIAN
METHOD:PUBLISH
X-ORIGINAL-URL:https://wynwoodmiami.com
X-WR-CALDESC:Events for Wynwood Business Improvement District -- Miami, Florida
REFRESH-INTERVAL;VALUE=DURATION:PT1H
X-Robots-Tag:noindex
X-PUBLISHED-TTL:PT1H
BEGIN:VTIMEZONE
TZID:America/New_York
BEGIN:DAYLIGHT
TZOFFSETFROM:-0500
TZOFFSETTO:-0400
TZNAME:EDT
DTSTART:20210314T070000
END:DAYLIGHT
BEGIN:STANDARD
TZOFFSETFROM:-0400
TZOFFSETTO:-0500
TZNAME:EST
DTSTART:20211107T060000
END:STANDARD
BEGIN:DAYLIGHT
TZOFFSETFROM:-0500
TZOFFSETTO:-0400
TZNAME:EDT
DTSTART:20220313T070000
END:DAYLIGHT
BEGIN:STANDARD
TZOFFSETFROM:-0400
TZOFFSETTO:-0500
TZNAME:EST
DTSTART:20221106T060000
END:STANDARD
BEGIN:DAYLIGHT
TZOFFSETFROM:-0500
TZOFFSETTO:-0400
TZNAME:EDT
DTSTART:20230312T070000
END:DAYLIGHT
BEGIN:STANDARD
TZOFFSETFROM:-0400
TZOFFSETTO:-0500
TZNAME:EST
DTSTART:20231105T060000
END:STANDARD
END:VTIMEZONE
BEGIN:VEVENT
DTSTART;TZID=America/New_York:20221027T170000
DTEND;TZID=America/New_York:20221027T220000
DTSTAMP:20260421T125015
CREATED:20220928T205934Z
LAST-MODIFIED:20220928T212036Z
UID:47591-1666890000-1666908000@wynwoodmiami.com
SUMMARY:Art with Purpose
DESCRIPTION:Arte Vivo is proud to present “Art with Purpose – Wynwood 2022” a special engagement which aims to showcase brilliant works of art to a fresh\, diverse audience. This year\, Arte Vivo is inspired by the following challenges of our day: Climate Change\, Conflict in Ukraine\, and COVID-19. \nTalent that Tells a Story \nArte Vivo will be presenting an exhibition of works from more than 10 international artists who will shape their visions upon the canvas. Displayed works will be available for sale with a portion of proceeds benefiting organizations tackling the issues of climate change\, the conflict in Ukraine\, and child poverty. \nDigital Innovation \nAs one of its priorities\, Arte Vivo recognizes the implications of the arrival of WEB 3.0 on the artistic space\, and there will be an area dedicated to inviting guests to learn and\, if they wish\, take a guided step into this new frontier. \nAn Immersive Experience \nThis will be the first event presented in an open-air space in the iconic neighborhood of Wynwood\, after having already been presented in Europe and Latin America. \nThe event will be directed towards art lovers interested in knowing more about art with purpose\, as well as people who simply wish to enjoy beauty and a stimulating evening full of activities. Children and people of all ages are invited to attend and will be provided with the opportunity to participate in fun\, hands-on artistic activities. Children attend free with an accompanying adult. \nTicket purchase includes (1) FREE drink \nFirst come\, First Serve Parking lot and street parking available. \nContent \nArt With Purpose \nTalent That Tells a Story \nInsights into Web 3.0 \nArtists Painting Live \nHands-on Creative Activities for All Ages… and more!
URL:https://wynwoodmiami.com/event/art-with-purpose/
LOCATION:FunDimension\, 2129 NW 1st Court\, Miami\, FL\, 33127\, United States
CATEGORIES:Art,Learning + Enrichment
ATTACH;FMTTYPE=image/jpeg:https://wynwoodmiami.com/wp-content/uploads/WhatsApp-Image-2022-09-28-at-1.17.24-PM.jpeg
ORGANIZER;CN="FunDimension":MAILTO:info@fundimensionusa.com
END:VEVENT
END:VCALENDAR