BEGIN:VCALENDAR
VERSION:2.0
PRODID:-//Wynwood Business Improvement District -- Miami, Florida - ECPv6.15.16//NONSGML v1.0//EN
CALSCALE:GREGORIAN
METHOD:PUBLISH
X-WR-CALNAME:Wynwood Business Improvement District -- Miami, Florida
X-ORIGINAL-URL:https://wynwoodmiami.com
X-WR-CALDESC:Events for Wynwood Business Improvement District -- Miami, Florida
REFRESH-INTERVAL;VALUE=DURATION:PT1H
X-Robots-Tag:noindex
X-PUBLISHED-TTL:PT1H
BEGIN:VTIMEZONE
TZID:America/New_York
BEGIN:DAYLIGHT
TZOFFSETFROM:-0500
TZOFFSETTO:-0400
TZNAME:EDT
DTSTART:20210314T070000
END:DAYLIGHT
BEGIN:STANDARD
TZOFFSETFROM:-0400
TZOFFSETTO:-0500
TZNAME:EST
DTSTART:20211107T060000
END:STANDARD
BEGIN:DAYLIGHT
TZOFFSETFROM:-0500
TZOFFSETTO:-0400
TZNAME:EDT
DTSTART:20220313T070000
END:DAYLIGHT
BEGIN:STANDARD
TZOFFSETFROM:-0400
TZOFFSETTO:-0500
TZNAME:EST
DTSTART:20221106T060000
END:STANDARD
BEGIN:DAYLIGHT
TZOFFSETFROM:-0500
TZOFFSETTO:-0400
TZNAME:EDT
DTSTART:20230312T070000
END:DAYLIGHT
BEGIN:STANDARD
TZOFFSETFROM:-0400
TZOFFSETTO:-0500
TZNAME:EST
DTSTART:20231105T060000
END:STANDARD
END:VTIMEZONE
BEGIN:VEVENT
DTSTART;TZID=America/New_York:20220411T110000
DTEND;TZID=America/New_York:20220411T130000
DTSTAMP:20260421T223454
CREATED:20220404T182624Z
LAST-MODIFIED:20220404T182624Z
UID:46655-1649674800-1649682000@wynwoodmiami.com
SUMMARY:Wynwood BID Board Meeting
DESCRIPTION:The Wynwood BID will be holding its monthly board meeting at 11:00 am. All are welcome to attend. \nFor past meeting minutes\, visit: https://wynwoodmiami.com/learn/meeting-agenda/ \nPlease note that all health and safety guidelines have been implemented. Attendees are subject to a temperature check before entry.
URL:https://wynwoodmiami.com/event/wynwood-bid-board-meeting-20/
LOCATION:Lombardi Properties\, 160 NW 26th Street\, Suite 201\, Miami\, FL\, 33127\, United States
CATEGORIES:Learning + Enrichment
ATTACH;FMTTYPE=image/jpeg:https://wynwoodmiami.com/wp-content/uploads/dmargherite_WBID_juneboardmeeting-8622.jpg
END:VEVENT
BEGIN:VEVENT
DTSTART;TZID=America/New_York:20220412T100000
DTEND;TZID=America/New_York:20220412T120000
DTSTAMP:20260421T223454
CREATED:20220404T183346Z
LAST-MODIFIED:20220404T183346Z
UID:46691-1649757600-1649764800@wynwoodmiami.com
SUMMARY:WDRC Meeting
DESCRIPTION:The Wynwood Design Review Committee (WDRC) will be hosting a meeting at 10:00 am at Miami City Hall. All are welcome to attend. \nThe purpose of the Wynwood Design Review Committee (WDRC) is to review and recommend to the Director of Planning and Zoning and the Urban Development Review Board (UDRB)\, pursuant to the NRD-1 and Miami 21\, whether the design of developments and/or improvements to properties within the boundaries of the NRD-1 are compatible with the cultural and architectural character of the Wynwood Arts District and guidelines that may be adopted from time to time. \nFor more info on WDRC requirements\, visit the City of Miami Planning and Zoning website at http://www.miamigov.com/planning/WDRC.html.
URL:https://wynwoodmiami.com/event/wdrc-meeting/2022-04-12/
LOCATION:Miami City Hall\, 3500 Pan American Drive\, Miami\, FL\, 33127\, United States
CATEGORIES:Learning + Enrichment
ATTACH;FMTTYPE=image/jpeg:https://wynwoodmiami.com/wp-content/uploads/BID-logo-web-3.jpg
END:VEVENT
BEGIN:VEVENT
DTSTART;TZID=America/New_York:20220420T080000
DTEND;TZID=America/New_York:20220420T170000
DTSTAMP:20260421T223454
CREATED:20220317T200528Z
LAST-MODIFIED:20220317T200602Z
UID:46418-1650441600-1650474000@wynwoodmiami.com
SUMMARY:CoMotion Miami
DESCRIPTION:Global mayors\, leading technologists\, public transport operators and venture capitalists\, start-ups and established players – the entire landscape of new urban mobility is again present for our most critical CoMotion gathering yet. \nTwo days of immersive and inspirational talks\, demos\, & workshops will chart a resilient path forward for cities and mobility as we recover from the pandemic. \nTo register\, visit CoMotionMiami.com.
URL:https://wynwoodmiami.com/event/comotion-miami-2/2022-04-20/
LOCATION:Mana Wynwood\, 318 NW 23rd St\, Miami\, FL\, 33127\, United States
CATEGORIES:Learning + Enrichment
ATTACH;FMTTYPE=image/png:https://wynwoodmiami.com/wp-content/uploads/comotion.png
ORGANIZER;CN="CoMotion Miami":MAILTO:info@comotionglobal.com
GEO:25.7982206;-80.2019551
X-APPLE-STRUCTURED-LOCATION;VALUE=URI;X-ADDRESS=Mana Wynwood 318 NW 23rd St Miami FL 33127 United States;X-APPLE-RADIUS=500;X-TITLE=318 NW 23rd St:geo:-80.2019551,25.7982206
END:VEVENT
BEGIN:VEVENT
DTSTART;TZID=America/New_York:20220420T190000
DTEND;TZID=America/New_York:20220421T000000
DTSTAMP:20260421T223454
CREATED:20220413T140653Z
LAST-MODIFIED:20220413T140653Z
UID:46783-1650481200-1650499200@wynwoodmiami.com
SUMMARY:Weedzies x grails 4/20 Party
DESCRIPTION:Immerse yourself into a full 4/20 experience with your favorite sports bar as we collaborate with Weedsies\, an online marketplace exclusive for the CBD\, Hemp\, and Cannabis industry! \nOur friends will be parking their famous Weedsies truck outside on the Grails patio where you can buy products on-site from 9PM-12AM. \nKickback with your best buds\, order some munchies\, and wind down on CBD-infused hookah to celebrate this wonderful holiday!
URL:https://wynwoodmiami.com/event/weedzies-x-grails-4-20-party/
LOCATION:Grails Sports Bar\, 2800 North Miami Avenue\, Miami\, FL\, 33127\, United States
CATEGORIES:Art,Fashion + Design,Food + Drink,Health + Fitness,Learning + Enrichment
ATTACH;FMTTYPE=image/png:https://wynwoodmiami.com/wp-content/uploads/Screen-Shot-2022-04-12-at-4.48.34-PM.png
ORGANIZER;CN="Grails Sports Bar":MAILTO:hello@grailssportsbar.com
GEO:25.803195;-80.1952
X-APPLE-STRUCTURED-LOCATION;VALUE=URI;X-ADDRESS=Grails Sports Bar 2800 North Miami Avenue Miami FL 33127 United States;X-APPLE-RADIUS=500;X-TITLE=2800 North Miami Avenue:geo:-80.1952,25.803195
END:VEVENT
END:VCALENDAR