BEGIN:VCALENDAR
VERSION:2.0
PRODID:-//Wynwood Business Improvement District -- Miami, Florida - ECPv6.15.16//NONSGML v1.0//EN
CALSCALE:GREGORIAN
METHOD:PUBLISH
X-ORIGINAL-URL:https://wynwoodmiami.com
X-WR-CALDESC:Events for Wynwood Business Improvement District -- Miami, Florida
REFRESH-INTERVAL;VALUE=DURATION:PT1H
X-Robots-Tag:noindex
X-PUBLISHED-TTL:PT1H
BEGIN:VTIMEZONE
TZID:America/New_York
BEGIN:DAYLIGHT
TZOFFSETFROM:-0500
TZOFFSETTO:-0400
TZNAME:EDT
DTSTART:20210314T070000
END:DAYLIGHT
BEGIN:STANDARD
TZOFFSETFROM:-0400
TZOFFSETTO:-0500
TZNAME:EST
DTSTART:20211107T060000
END:STANDARD
BEGIN:DAYLIGHT
TZOFFSETFROM:-0500
TZOFFSETTO:-0400
TZNAME:EDT
DTSTART:20220313T070000
END:DAYLIGHT
BEGIN:STANDARD
TZOFFSETFROM:-0400
TZOFFSETTO:-0500
TZNAME:EST
DTSTART:20221106T060000
END:STANDARD
BEGIN:DAYLIGHT
TZOFFSETFROM:-0500
TZOFFSETTO:-0400
TZNAME:EDT
DTSTART:20230312T070000
END:DAYLIGHT
BEGIN:STANDARD
TZOFFSETFROM:-0400
TZOFFSETTO:-0500
TZNAME:EST
DTSTART:20231105T060000
END:STANDARD
END:VTIMEZONE
BEGIN:VEVENT
DTSTART;TZID=America/New_York:20220315T173000
DTEND;TZID=America/New_York:20220315T193000
DTSTAMP:20260422T002213
CREATED:20220303T152140Z
LAST-MODIFIED:20220303T152140Z
UID:46128-1647365400-1647372600@wynwoodmiami.com
SUMMARY:Profiles in Flavor x Women's Month
DESCRIPTION:Miami’s trendy Asian Food Hall\, 1-800-Lucky is hosting their second annual Women’s month Q&A moderated by James Beard Nominated Author and Restaurateur Nicole Ponseca of Jeepney. The discussion will include some of Miami’s fearless leading ladies specializing in all industries ranging from fitness\, wellness\, wine\, social media and of course\, food. \nAll of the below panelists are self-made boss babes and Nicole will dig deeper into the hardships and challenges they have faced along the way. Our panelists will also share some trade secrets on how to be a boss babe. All women who attend the discussion will also receive one complimentary Kettle One Botanical Spritz. The event will be free to the public. Our special guests and panelists will include the following: \n\nDana Rozansky: CEO of @MiamiFoodPorn & Dana Rozansky Consulting\nMary Oralndo: COO of COYO Taco\nStarr Hawkins: “Glute girl” fitness trainer and entrepreneur — aka: @BabyMommaFit\nCristie Besu: CEO of Eat Me Guilt Free\nMariel Dalmau + “Maca” Carrillo: Founders of Natural Wine Pop-Up\, Grape Crush Miami\n\nTo RSVP\, click here.
URL:https://wynwoodmiami.com/event/profiles-in-flavor-x-womens-month/
LOCATION:1-800-Lucky\, 143 NW 23rd St\, Miami\, FL\, 33127\, United States
CATEGORIES:Food + Drink,Learning + Enrichment
ATTACH;FMTTYPE=image/jpeg:https://wynwoodmiami.com/wp-content/uploads/lucky-women.jpeg
END:VEVENT
BEGIN:VEVENT
DTSTART;TZID=America/New_York:20220322T180000
DTEND;TZID=America/New_York:20220322T210000
DTSTAMP:20260422T002213
CREATED:20220318T141019Z
LAST-MODIFIED:20220318T141019Z
UID:46435-1647972000-1647982800@wynwoodmiami.com
SUMMARY:Brewing the American Dream
DESCRIPTION:We’re excited to host our friends Sam Adams Brewing the American Dream for their signature Pitch Room on Tuesday\, 3/22! This is your chance to watch founders of some of Miami’s best small businesses pitch for a chance to win a $10\,000 cash grant and a year’s worth of coaching in front of a live panel of expert judges! \nCome for the pitches and stay for the networking\, as you’ll be able to meet the contestants\, judges\, and other local leaders after the pitches are over; more than a dozen business experts are joining this event. Sign up here. \nSee ‘ya there!
URL:https://wynwoodmiami.com/event/brewing-the-american-dream/
LOCATION:Dogfish Head Miami\, 325 NW 24th Street\, Miami\, FL\, 33127\, United States
CATEGORIES:Food + Drink,Learning + Enrichment
ATTACH;FMTTYPE=image/jpeg:https://wynwoodmiami.com/wp-content/uploads/275294156_491024786056355_4586985200831357564_n-1.jpg
END:VEVENT
END:VCALENDAR