BEGIN:VCALENDAR
VERSION:2.0
PRODID:-//Wynwood Business Improvement District -- Miami, Florida - ECPv6.15.16//NONSGML v1.0//EN
CALSCALE:GREGORIAN
METHOD:PUBLISH
X-WR-CALNAME:Wynwood Business Improvement District -- Miami, Florida
X-ORIGINAL-URL:https://wynwoodmiami.com
X-WR-CALDESC:Events for Wynwood Business Improvement District -- Miami, Florida
REFRESH-INTERVAL;VALUE=DURATION:PT1H
X-Robots-Tag:noindex
X-PUBLISHED-TTL:PT1H
BEGIN:VTIMEZONE
TZID:America/New_York
BEGIN:DAYLIGHT
TZOFFSETFROM:-0500
TZOFFSETTO:-0400
TZNAME:EDT
DTSTART:20200308T070000
END:DAYLIGHT
BEGIN:STANDARD
TZOFFSETFROM:-0400
TZOFFSETTO:-0500
TZNAME:EST
DTSTART:20201101T060000
END:STANDARD
BEGIN:DAYLIGHT
TZOFFSETFROM:-0500
TZOFFSETTO:-0400
TZNAME:EDT
DTSTART:20210314T070000
END:DAYLIGHT
BEGIN:STANDARD
TZOFFSETFROM:-0400
TZOFFSETTO:-0500
TZNAME:EST
DTSTART:20211107T060000
END:STANDARD
BEGIN:DAYLIGHT
TZOFFSETFROM:-0500
TZOFFSETTO:-0400
TZNAME:EDT
DTSTART:20220313T070000
END:DAYLIGHT
BEGIN:STANDARD
TZOFFSETFROM:-0400
TZOFFSETTO:-0500
TZNAME:EST
DTSTART:20221106T060000
END:STANDARD
END:VTIMEZONE
BEGIN:VEVENT
DTSTART;TZID=America/New_York:20211109T120000
DTEND;TZID=America/New_York:20211109T130000
DTSTAMP:20260422T061407
CREATED:20211102T164229Z
LAST-MODIFIED:20211102T164229Z
UID:44143-1636459200-1636462800@wynwoodmiami.com
SUMMARY:Roundtable: How BIDs Help Elevate our Neighborhoods
DESCRIPTION:The New Tropic is hosting an exciting\, virtual panel discussion with three leaders who are championing their neighborhood business improvement districts and a business exec who continues to innovate. \nWe’ll be joined by: \nCynthia Seymour\, Executive Director\, Coconut Grove BID\nManny Gonzalez\, Executive Director\, Wynwood BID\nTim Schmand\, Executive Director\, Lincoln Road BID\nSven Vogtland\, Co-Founder of Coyo Taco and 1-800-Lucky \nA lot of the progress BIDs (business improvement districts) achieve is behind the scenes. Maintaining parks and public spaces\, developing capital improvements\, providing additional security\, helping create local festivals\, and marketing the neighborhoods to visitors are a few of the areas they cover. \nOur discussion will help shed some light on the role of a BID\, their impact in our communities\, and how they help enhance the quality of life for our residents and businesses. \nWe’ll also chat about the future of these districts\, their upcoming projects\, and how they will continue to evolve in the next decade. \nJoin us Tuesday\, Nov. 9 at noon as we celebrate the future of Miami. To register\, click here.
URL:https://wynwoodmiami.com/event/roundtable-how-bids-help-elevate-our-neighborhoods/
LOCATION:Virtual\, Miami\, FL\, United States
CATEGORIES:Learning + Enrichment
ATTACH;FMTTYPE=image/png:https://wynwoodmiami.com/wp-content/uploads/1.png
END:VEVENT
BEGIN:VEVENT
DTSTART;TZID=America/New_York:20211110T110000
DTEND;TZID=America/New_York:20211110T130000
DTSTAMP:20260422T061407
CREATED:20211103T165201Z
LAST-MODIFIED:20211103T165201Z
UID:44153-1636542000-1636549200@wynwoodmiami.com
SUMMARY:Wynwood BID Board Meeting
DESCRIPTION:The Wynwood BID will be holding its monthly board meeting at 11:00 am. All are welcome to attend. The meeting will be held at MAPS Backlot. \nFor past meeting minutes\, visit: https://wynwoodmiami.com/learn/meeting-agenda/ \nPlease note that all health and safety guidelines have been implemented. Attendees are subject to a temperature check before entry.
URL:https://wynwoodmiami.com/event/wynwood-bid-board-meeting-17/
LOCATION:MAPS Backlot\, 342 NW 24th Street\, Miami\, FL\, 33127\, United States
CATEGORIES:Family + Community,Learning + Enrichment
ATTACH;FMTTYPE=image/jpeg:https://wynwoodmiami.com/wp-content/uploads/dmargherite_WBID_juneboardmeeting-8622.jpg
END:VEVENT
BEGIN:VEVENT
DTSTART;TZID=America/New_York:20211110T110000
DTEND;TZID=America/New_York:20211110T170000
DTSTAMP:20260422T061407
CREATED:20211007T184348Z
LAST-MODIFIED:20211007T184348Z
UID:43916-1636542000-1636563600@wynwoodmiami.com
SUMMARY:South Florida Real Estate Showcase
DESCRIPTION:The 7th Annual Real Deal South Florida Showcase + Forum returns this November as the epicenter of new ideas and partners real estate insiders and top-level decision- makers seek to help them leverage this momentum into sustained growth. Don’t miss a moment!
URL:https://wynwoodmiami.com/event/south-florida-real-estate-showcase/
LOCATION:Mana Wynwood Convention Center\, 318 NW 23RD STREET\, MIAMI\, FL\, 33127\, United States
CATEGORIES:Learning + Enrichment
ATTACH;FMTTYPE=image/png:https://wynwoodmiami.com/wp-content/uploads/Screen-Shot-2021-10-06-at-8.02.26-PM.png
ORGANIZER;CN="The Real Deal":MAILTO:advertising@therealdeal.com
END:VEVENT
BEGIN:VEVENT
DTSTART;TZID=America/New_York:20211124T183000
DTEND;TZID=America/New_York:20211124T213000
DTSTAMP:20260422T061407
CREATED:20211118T145804Z
LAST-MODIFIED:20211118T145827Z
UID:44398-1637778600-1637789400@wynwoodmiami.com
SUMMARY:Miami Welcome Tech/Entrepreneur Happy Hour
DESCRIPTION:This is a casual recurring happy hour for new and old Miamians interested in connecting with fellow entrepreneurs\, investors\, tech folks\, and a diverse group of awesome people. Come grab a drink and catch up! \nA few logistical details: \n\nWe host this gathering every other week\, at FREEHOLD – find us in the outdoor area!\nWe are there at 6:30 PM. It usually lasts for a few hours – come and go when works for you.\nThere will be $6 Martinis and $6 small cheese plates until 7 PM. But there are plenty of additional drink and food options available all evening! See menus here.\nThere is street parking around the area.\nIf you are not vaccinated\, please wear a mask.\n\nHope to see you soon! \nNatalia + Chris \n(if you need to find us\, here’s what we look like\, courtesy of Alfonso Duran)
URL:https://wynwoodmiami.com/event/miami-welcome-tech-entrepreneur-happy-hour/2021-11-24/
LOCATION:FREEHOLD\, 2219 Northwest 2nd Avenue\, Miami\, FL\, 33127\, United States
CATEGORIES:Food + Drink,Learning + Enrichment
ATTACH;FMTTYPE=image/jpeg:https://wynwoodmiami.com/wp-content/uploads/Freehold-1.jpg
END:VEVENT
END:VCALENDAR