BEGIN:VCALENDAR
VERSION:2.0
PRODID:-//Wynwood Business Improvement District -- Miami, Florida - ECPv6.15.16//NONSGML v1.0//EN
CALSCALE:GREGORIAN
METHOD:PUBLISH
X-WR-CALNAME:Wynwood Business Improvement District -- Miami, Florida
X-ORIGINAL-URL:https://wynwoodmiami.com
X-WR-CALDESC:Events for Wynwood Business Improvement District -- Miami, Florida
REFRESH-INTERVAL;VALUE=DURATION:PT1H
X-Robots-Tag:noindex
X-PUBLISHED-TTL:PT1H
BEGIN:VTIMEZONE
TZID:America/New_York
BEGIN:DAYLIGHT
TZOFFSETFROM:-0500
TZOFFSETTO:-0400
TZNAME:EDT
DTSTART:20200308T070000
END:DAYLIGHT
BEGIN:STANDARD
TZOFFSETFROM:-0400
TZOFFSETTO:-0500
TZNAME:EST
DTSTART:20201101T060000
END:STANDARD
BEGIN:DAYLIGHT
TZOFFSETFROM:-0500
TZOFFSETTO:-0400
TZNAME:EDT
DTSTART:20210314T070000
END:DAYLIGHT
BEGIN:STANDARD
TZOFFSETFROM:-0400
TZOFFSETTO:-0500
TZNAME:EST
DTSTART:20211107T060000
END:STANDARD
BEGIN:DAYLIGHT
TZOFFSETFROM:-0500
TZOFFSETTO:-0400
TZNAME:EDT
DTSTART:20220313T070000
END:DAYLIGHT
BEGIN:STANDARD
TZOFFSETFROM:-0400
TZOFFSETTO:-0500
TZNAME:EST
DTSTART:20221106T060000
END:STANDARD
END:VTIMEZONE
BEGIN:VEVENT
DTSTART;TZID=America/New_York:20210804T110000
DTEND;TZID=America/New_York:20210804T130000
DTSTAMP:20260422T104530
CREATED:20210727T200735Z
LAST-MODIFIED:20210727T200735Z
UID:43043-1628074800-1628082000@wynwoodmiami.com
SUMMARY:Wynwood BID Board Meeting
DESCRIPTION:The Wynwood BID will be holding its monthly board meeting at 11:00 am. All are welcome to attend. The meeting will be held at MAPS Backlot. \nFor past meeting minutes\, visit: https://wynwoodmiami.com/learn/meeting-agenda/ \nPlease note that all health and safety guidelines have been implemented. Attendees are subject to a temperature check before entry.
URL:https://wynwoodmiami.com/event/wynwood-bid-board-meeting-15/
LOCATION:MAPS Backlot\, 342 NW 24th Street\, Miami\, FL\, 33127\, United States
CATEGORIES:Learning + Enrichment
ATTACH;FMTTYPE=image/jpeg:https://wynwoodmiami.com/wp-content/uploads/dmargherite_WBID_juneboardmeeting-8622.jpg
END:VEVENT
BEGIN:VEVENT
DTSTART;TZID=America/New_York:20210822T190000
DTEND;TZID=America/New_York:20210822T220000
DTSTAMP:20260422T104530
CREATED:20210729T184042Z
LAST-MODIFIED:20210729T184042Z
UID:43101-1629658800-1629669600@wynwoodmiami.com
SUMMARY:Movie Night Hosted by BLADE
DESCRIPTION:Movie night hosted by BLADE. Join us for a screening of Stations of the Elevated.
URL:https://wynwoodmiami.com/event/movie-night-hosted-by-blade/
LOCATION:Museum of Graffiti\, 276 NW 26th Street\, Miami\, FL\, 33127\, United States
CATEGORIES:Art,Learning + Enrichment
ATTACH;FMTTYPE=image/jpeg:https://wynwoodmiami.com/wp-content/uploads/File-34.jpg
ORGANIZER;CN="Museum of Graffiti":MAILTO:hey@museumofgraffiti.com
GEO:25.801352591042;-80.200624831512
X-APPLE-STRUCTURED-LOCATION;VALUE=URI;X-ADDRESS=Museum of Graffiti 276 NW 26th Street Miami FL 33127 United States;X-APPLE-RADIUS=500;X-TITLE=276 NW 26th Street:geo:-80.200624831512,25.801352591042
END:VEVENT
END:VCALENDAR