BEGIN:VCALENDAR
VERSION:2.0
PRODID:-//Wynwood Business Improvement District -- Miami, Florida - ECPv6.15.16//NONSGML v1.0//EN
CALSCALE:GREGORIAN
METHOD:PUBLISH
X-ORIGINAL-URL:https://wynwoodmiami.com
X-WR-CALDESC:Events for Wynwood Business Improvement District -- Miami, Florida
REFRESH-INTERVAL;VALUE=DURATION:PT1H
X-Robots-Tag:noindex
X-PUBLISHED-TTL:PT1H
BEGIN:VTIMEZONE
TZID:America/New_York
BEGIN:DAYLIGHT
TZOFFSETFROM:-0500
TZOFFSETTO:-0400
TZNAME:EDT
DTSTART:20200308T070000
END:DAYLIGHT
BEGIN:STANDARD
TZOFFSETFROM:-0400
TZOFFSETTO:-0500
TZNAME:EST
DTSTART:20201101T060000
END:STANDARD
BEGIN:DAYLIGHT
TZOFFSETFROM:-0500
TZOFFSETTO:-0400
TZNAME:EDT
DTSTART:20210314T070000
END:DAYLIGHT
BEGIN:STANDARD
TZOFFSETFROM:-0400
TZOFFSETTO:-0500
TZNAME:EST
DTSTART:20211107T060000
END:STANDARD
BEGIN:DAYLIGHT
TZOFFSETFROM:-0500
TZOFFSETTO:-0400
TZNAME:EDT
DTSTART:20220313T070000
END:DAYLIGHT
BEGIN:STANDARD
TZOFFSETFROM:-0400
TZOFFSETTO:-0500
TZNAME:EST
DTSTART:20221106T060000
END:STANDARD
END:VTIMEZONE
BEGIN:VEVENT
DTSTART;TZID=America/New_York:20210520T083000
DTEND;TZID=America/New_York:20210520T103000
DTSTAMP:20260422T144713
CREATED:20210514T143128Z
LAST-MODIFIED:20210514T143128Z
UID:42238-1621499400-1621506600@wynwoodmiami.com
SUMMARY:Coffee & Bagels
DESCRIPTION:Join us for coffee and bagels as we kick off our networking event series. We look forward to seeing you in person! \nRegistration is required\, please RSVP here. \nWe take your safety seriously.\nThis event will follow the latest CDC guidelines to ensure all appropriate safety precautions are taken.
URL:https://wynwoodmiami.com/event/coffee-bagels/
LOCATION:Haber Law\, 251 NW 23 St\, Miami\, FL\, 33127\, United States
CATEGORIES:Food + Drink,Learning + Enrichment
ATTACH;FMTTYPE=image/png:https://wynwoodmiami.com/wp-content/uploads/Haber-Law-Breakfast-Invitation-1.png
END:VEVENT
BEGIN:VEVENT
DTSTART;TZID=America/New_York:20210522T160000
DTEND;TZID=America/New_York:20210522T180000
DTSTAMP:20260422T144713
CREATED:20210519T135446Z
LAST-MODIFIED:20210519T135446Z
UID:42286-1621699200-1621706400@wynwoodmiami.com
SUMMARY:Book Launch of Hip-Hop Architecture by Sekou Cooke
DESCRIPTION:Join us for a meet and greet with author Sekou Cooke as he celebrates the launch of his new book Hip-Hop Architecture. Cooke will read excerpts from the book and will answer questions along side his contributors such as the Museum of Graffiti’s own Carlos Mare. Books will be available signing by both Cooke and Mare. \nHip-Hop Architecture outlines a powerful new manifesto-the voice of the underrepresented\, marginalized\, and voiceless within the discipline. Exploring the production of spaces\, buildings\, and urban environments that embody the creative energies in hip-hop\, it is a newly expanding design philosophy which sees architecture as a distinct part of hip-hop’s cultural expression\, and which uses hip-hop as a lens through which to provoke new architectural ideas. \nExamining the present and the future of Hip-Hop Architecture\, the book also explores its historical antecedents and its theory\, placing it in a wider context both within architecture and within Black and African American movements. Throughout\, the work is illustrated with inspirational case studies of architectural projects and creative practices\, and interspersed with interludes and interviews with key architects\, designers\, and academics in the field. This is a vital and provocative work that will appeal to architects\, designers\, students\, theorists\, and anyone interested in a fresh view of architecture\, design\, race and culture.
URL:https://wynwoodmiami.com/event/book-launch-of-hip-hop-architecture-by-sekou-cooke/
LOCATION:Museum of Graffiti\, 276 NW 26th Street\, Miami\, FL\, 33127\, United States
CATEGORIES:Art,Family + Community,Learning + Enrichment
ATTACH;FMTTYPE=image/jpeg:https://wynwoodmiami.com/wp-content/uploads/IMG_3510-2.jpeg
ORGANIZER;CN="Museum of Graffiti":MAILTO:hey@museumofgraffiti.com
GEO:25.801352591042;-80.200624831512
X-APPLE-STRUCTURED-LOCATION;VALUE=URI;X-ADDRESS=Museum of Graffiti 276 NW 26th Street Miami FL 33127 United States;X-APPLE-RADIUS=500;X-TITLE=276 NW 26th Street:geo:-80.200624831512,25.801352591042
END:VEVENT
BEGIN:VEVENT
DTSTART;TZID=America/New_York:20210529T103000
DTEND;TZID=America/New_York:20210529T113000
DTSTAMP:20260422T144713
CREATED:20210526T214222Z
LAST-MODIFIED:20210526T214222Z
UID:42438-1622284200-1622287800@wynwoodmiami.com
SUMMARY:Wynwood Street Art Bike Tour
DESCRIPTION:Roll out with local artist Pedro Amos — Miami’s Best Graffiti Guide! \nCome learn how Wynwood has\, and continues to transform Miami’s urban landscape into the world’s greatest outdoor art museum. \nBring Your Own BIKE. Must RSVP!
URL:https://wynwoodmiami.com/event/wynwood-street-art-bike-tour/
LOCATION:The LAB Miami\, 400 NW 26th Street\, Miami\, FL\, 33127\, United States
CATEGORIES:Art,Family + Community,Health + Fitness,Learning + Enrichment
ATTACH;FMTTYPE=image/png:https://wynwoodmiami.com/wp-content/uploads/Saturday-Meet-up.png
ORGANIZER;CN="Miami's Best Graffiti Guide":MAILTO:pedro@miamisbestgraffitiguide.com
END:VEVENT
END:VCALENDAR