BEGIN:VCALENDAR
VERSION:2.0
PRODID:-//Wynwood Business Improvement District -- Miami, Florida - ECPv6.15.16//NONSGML v1.0//EN
CALSCALE:GREGORIAN
METHOD:PUBLISH
X-WR-CALNAME:Wynwood Business Improvement District -- Miami, Florida
X-ORIGINAL-URL:https://wynwoodmiami.com
X-WR-CALDESC:Events for Wynwood Business Improvement District -- Miami, Florida
REFRESH-INTERVAL;VALUE=DURATION:PT1H
X-Robots-Tag:noindex
X-PUBLISHED-TTL:PT1H
BEGIN:VTIMEZONE
TZID:America/New_York
BEGIN:DAYLIGHT
TZOFFSETFROM:-0500
TZOFFSETTO:-0400
TZNAME:EDT
DTSTART:20200308T070000
END:DAYLIGHT
BEGIN:STANDARD
TZOFFSETFROM:-0400
TZOFFSETTO:-0500
TZNAME:EST
DTSTART:20201101T060000
END:STANDARD
BEGIN:DAYLIGHT
TZOFFSETFROM:-0500
TZOFFSETTO:-0400
TZNAME:EDT
DTSTART:20210314T070000
END:DAYLIGHT
BEGIN:STANDARD
TZOFFSETFROM:-0400
TZOFFSETTO:-0500
TZNAME:EST
DTSTART:20211107T060000
END:STANDARD
BEGIN:DAYLIGHT
TZOFFSETFROM:-0500
TZOFFSETTO:-0400
TZNAME:EDT
DTSTART:20220313T070000
END:DAYLIGHT
BEGIN:STANDARD
TZOFFSETFROM:-0400
TZOFFSETTO:-0500
TZNAME:EST
DTSTART:20221106T060000
END:STANDARD
END:VTIMEZONE
BEGIN:VEVENT
DTSTART;TZID=America/New_York:20210421T100000
DTEND;TZID=America/New_York:20210421T120000
DTSTAMP:20260422T161522
CREATED:20210406T153206Z
LAST-MODIFIED:20210406T153206Z
UID:42013-1618999200-1619006400@wynwoodmiami.com
SUMMARY:Wynwood Design Review Committee (WDRC) Meeting
DESCRIPTION:The Wynwood Design Review Committee (WDRC) will be holding an in-person meeting on Wednesday\, April 21 at 10:00am in the Commission Chambers at Miami City Hall. \nView meeting agenda \nPublic Comment:\nMembers of the public can leave prerecorded public comment by calling 305-250-5349 for agenda items that are scheduled to be heard at this meeting. The deadline to submit prerecorded messages is April 13\, 2021 by 5:00 PM. Public comment can be submitted via an online comment form\, which may be submitted until the chairperson closes public comment. The online comment form will open on Sunday\, April 11\, 2021 at 10:00 AM and is located at MiamiGov.com/VirtualBoards. Public comment may also be submitted live at City Hall\, 3500 Pan American Dr\, Miami\, Florida. All public comment shall be made part of the public record. Please visit MiamiGov.com/VirtualBoards for detailed instructions on how to provide public comment using these options. \nDescription:\nThe purpose of the Wynwood Design Review Committee (WDRC) is to review and recommend to the Director of Planning and Zoning and the Urban Development Review Board (UDRB)\, pursuant to the NRD-1 and Miami 21\, whether the design of developments and/or improvements to properties within the boundaries of the NRD-1 are compatible with the cultural and architectural character of the Wynwood Arts District and guidelines that may be adopted from time to time. \nFor more info on WDRC requirements\, visit the City of Miami Planning and Zoning website at http://www.miamigov.com/planning/WDRC.html.
URL:https://wynwoodmiami.com/event/wynwood-design-review-committee-wdrc-meeting-6/
LOCATION:Miami City Hall\, 3500 Pan American Drive\, Miami\, FL\, 33127\, United States
CATEGORIES:Learning + Enrichment
ATTACH;FMTTYPE=image/jpeg:https://wynwoodmiami.com/wp-content/uploads/W-logo-web.jpg
END:VEVENT
BEGIN:VEVENT
DTSTART;TZID=America/New_York:20210428T083000
DTEND;TZID=America/New_York:20210428T130000
DTSTAMP:20260422T161522
CREATED:20210419T205345Z
LAST-MODIFIED:20210419T205345Z
UID:42058-1619598600-1619614800@wynwoodmiami.com
SUMMARY:Wynwood BID Board Meeting
DESCRIPTION:The Wynwood BID will be holding its monthly board meeting at 11:00 am. All are welcome to attend. The meeting will be held in the Wynwood Arcade courtyard\, directly in front of Three. \nFor past meeting minutes\, visit: https://wynwoodmiami.com/learn/meeting-agenda/ \nPlease note that all health and safety guidelines have been implemented. Attendees are subject to a temperature check before entry.
URL:https://wynwoodmiami.com/event/wynwood-bid-board-meeting-13/
LOCATION:Wynwood Arcade courtyard\, 50 NW 24th Street\, Miami\, FL\, 33127\, United States
CATEGORIES:Learning + Enrichment
ATTACH;FMTTYPE=image/jpeg:https://wynwoodmiami.com/wp-content/uploads/dmargherite_WBID_juneboardmeeting-8622.jpg
END:VEVENT
END:VCALENDAR