BEGIN:VCALENDAR
VERSION:2.0
PRODID:-//Wynwood Business Improvement District -- Miami, Florida - ECPv6.15.16//NONSGML v1.0//EN
CALSCALE:GREGORIAN
METHOD:PUBLISH
X-ORIGINAL-URL:https://wynwoodmiami.com
X-WR-CALDESC:Events for Wynwood Business Improvement District -- Miami, Florida
REFRESH-INTERVAL;VALUE=DURATION:PT1H
X-Robots-Tag:noindex
X-PUBLISHED-TTL:PT1H
BEGIN:VTIMEZONE
TZID:America/New_York
BEGIN:DAYLIGHT
TZOFFSETFROM:-0500
TZOFFSETTO:-0400
TZNAME:EDT
DTSTART:20200308T070000
END:DAYLIGHT
BEGIN:STANDARD
TZOFFSETFROM:-0400
TZOFFSETTO:-0500
TZNAME:EST
DTSTART:20201101T060000
END:STANDARD
BEGIN:DAYLIGHT
TZOFFSETFROM:-0500
TZOFFSETTO:-0400
TZNAME:EDT
DTSTART:20210314T070000
END:DAYLIGHT
BEGIN:STANDARD
TZOFFSETFROM:-0400
TZOFFSETTO:-0500
TZNAME:EST
DTSTART:20211107T060000
END:STANDARD
BEGIN:DAYLIGHT
TZOFFSETFROM:-0500
TZOFFSETTO:-0400
TZNAME:EDT
DTSTART:20220313T070000
END:DAYLIGHT
BEGIN:STANDARD
TZOFFSETFROM:-0400
TZOFFSETTO:-0500
TZNAME:EST
DTSTART:20221106T060000
END:STANDARD
END:VTIMEZONE
BEGIN:VEVENT
DTSTART;TZID=America/New_York:20210309T110000
DTEND;TZID=America/New_York:20210309T123000
DTSTAMP:20260422T174333
CREATED:20210302T204904Z
LAST-MODIFIED:20210302T204904Z
UID:41284-1615287600-1615293000@wynwoodmiami.com
SUMMARY:Wynwood BID Board Meeting
DESCRIPTION:The Wynwood BID will be holding its monthly board meeting at 11:00 am. All are welcome to attend. The meeting will be held in the Wynwood Arcade courtyard\, directly in front of Three. \nFor past meeting minutes\, visit: https://wynwoodmiami.com/learn/meeting-agenda/ \nPlease note that all health and safety guidelines have been implemented. Attendees are subject to a temperature check before entry.
URL:https://wynwoodmiami.com/event/wynwood-bid-board-meeting-12/
LOCATION:Wynwood Arcade courtyard\, 50 NW 24th Street\, Miami\, FL\, 33127\, United States
CATEGORIES:Family + Community,Learning + Enrichment
ATTACH;FMTTYPE=image/jpeg:https://wynwoodmiami.com/wp-content/uploads/dmargherite_WBID_juneboardmeeting-8622.jpg
END:VEVENT
BEGIN:VEVENT
DTSTART;TZID=America/New_York:20210331T173000
DTEND;TZID=America/New_York:20210331T193000
DTSTAMP:20260422T174333
CREATED:20210330T134452Z
LAST-MODIFIED:20210330T134452Z
UID:41932-1617211800-1617219000@wynwoodmiami.com
SUMMARY:Women's Month Culinary Q&A with Chef Nicole Ponseca
DESCRIPTION:To close out women’s month with some LUCK\, 1-800-Lucky is hosting a Q&A with Miami’s fearless female leaders in the F&B industry on Wednesday\, March 31st at 6:30 PM. \nJoin James Beard Nominee\, Chef Nicole Ponseca of Jeepney and friends to close out women’s history month. Chef Nicole will discuss what it’s like to be a woman in the culinary industry and dive into some of their challenges and accomplishments. All women attendees will receive a complimentary glass of Rosé and guests can enjoy happy hour from 4-7 PM. \nOur special guests and panelists will include the following: \n\nChef Karla Hoyos – Executive Chef of Bazaar South Beach\nChef Valerie Chang – Executive Chef of Itamae Miami and B-Side\nChef Soraya Kilgore – Owner of Mad Lab Creamery\nAmanda Fraga – Sommelier of Genuine Hospitality Group\nHelen Kim – Founder of Liquid Culture Co. and Oori Bake Shop\n\nDuring the discussion\, guests will also remain seated and tables will be distant throughout the outdoor patio. \nRSVP: click here
URL:https://wynwoodmiami.com/event/womens-month-culinary-qa-with-chef-nicole-ponseca/
LOCATION:1-800-Lucky\, 143 NW 23rd St\, Miami\, FL\, 33127\, United States
CATEGORIES:Food + Drink,Learning + Enrichment
ATTACH;FMTTYPE=image/jpeg:https://wynwoodmiami.com/wp-content/uploads/1800-womens-2.jpg
END:VEVENT
END:VCALENDAR