BEGIN:VCALENDAR
VERSION:2.0
PRODID:-//Wynwood Business Improvement District -- Miami, Florida - ECPv6.15.16//NONSGML v1.0//EN
CALSCALE:GREGORIAN
METHOD:PUBLISH
X-WR-CALNAME:Wynwood Business Improvement District -- Miami, Florida
X-ORIGINAL-URL:https://wynwoodmiami.com
X-WR-CALDESC:Events for Wynwood Business Improvement District -- Miami, Florida
REFRESH-INTERVAL;VALUE=DURATION:PT1H
X-Robots-Tag:noindex
X-PUBLISHED-TTL:PT1H
BEGIN:VTIMEZONE
TZID:America/New_York
BEGIN:DAYLIGHT
TZOFFSETFROM:-0500
TZOFFSETTO:-0400
TZNAME:EDT
DTSTART:20200308T070000
END:DAYLIGHT
BEGIN:STANDARD
TZOFFSETFROM:-0400
TZOFFSETTO:-0500
TZNAME:EST
DTSTART:20201101T060000
END:STANDARD
BEGIN:DAYLIGHT
TZOFFSETFROM:-0500
TZOFFSETTO:-0400
TZNAME:EDT
DTSTART:20210314T070000
END:DAYLIGHT
BEGIN:STANDARD
TZOFFSETFROM:-0400
TZOFFSETTO:-0500
TZNAME:EST
DTSTART:20211107T060000
END:STANDARD
BEGIN:DAYLIGHT
TZOFFSETFROM:-0500
TZOFFSETTO:-0400
TZNAME:EDT
DTSTART:20220313T070000
END:DAYLIGHT
BEGIN:STANDARD
TZOFFSETFROM:-0400
TZOFFSETTO:-0500
TZNAME:EST
DTSTART:20221106T060000
END:STANDARD
END:VTIMEZONE
BEGIN:VEVENT
DTSTART;TZID=America/New_York:20210210T100000
DTEND;TZID=America/New_York:20210210T120000
DTSTAMP:20260422T191158
CREATED:20210204T155541Z
LAST-MODIFIED:20210204T155541Z
UID:40380-1612951200-1612958400@wynwoodmiami.com
SUMMARY:Wynwood Design Review Committee (WDRC) Meeting
DESCRIPTION:The Wynwood Design Review Committee (WDRC) will be holding an in-person meeting on Wednesday\, February 10 at 10:00am in the Commission Chambers at Miami City Hall. \nView meeting agenda \nPublic Comment:\nMembers of the public can leave prerecorded public comment by calling 305-250-5349 for agenda items that are scheduled to be heard at this meeting. The deadline to submit prerecorded messages is February 9\, 2021 by 5:00 PM. Public comment can be submitted via an online comment form\, which may be submitted until the chairperson closes public comment. The online comment form will open on Thursday\, February 4\, 2021 at 5:00 PM and is located at MiamiGov.com/VirtualBoards. Public comment may also be submitted live at City Hall\, 3500 Pan American Dr\, Miami\, Florida. All public comment shall be made part of the public record. Please visit MiamiGov.com/VirtualBoards for detailed instructions on how to provide public comment using these options. \nDescription:\nThe purpose of the Wynwood Design Review Committee (WDRC) is to review and recommend to the Director of Planning and Zoning and the Urban Development Review Board (UDRB)\, pursuant to the NRD-1 and Miami 21\, whether the design of developments and/or improvements to properties within the boundaries of the NRD-1 are compatible with the cultural and architectural character of the Wynwood Arts District and guidelines that may be adopted from time to time. \nFor more info on WDRC requirements\, visit the City of Miami Planning and Zoning website at http://www.miamigov.com/planning/WDRC.html.
URL:https://wynwoodmiami.com/event/wynwood-design-review-committee-wdrc-meeting-5/
LOCATION:Miami City Hall\, 3500 Pan American Drive\, Miami\, FL\, 33127\, United States
CATEGORIES:Learning + Enrichment
ATTACH;FMTTYPE=image/jpeg:https://wynwoodmiami.com/wp-content/uploads/W-logo-web.jpg
END:VEVENT
BEGIN:VEVENT
DTSTART;TZID=America/New_York:20210218T110000
DTEND;TZID=America/New_York:20210218T130000
DTSTAMP:20260422T191158
CREATED:20210204T214730Z
LAST-MODIFIED:20210210T200922Z
UID:40377-1613646000-1613653200@wynwoodmiami.com
SUMMARY:Wynwood BID Board Meeting
DESCRIPTION:The Wynwood BID will be holding its monthly board meeting at 11:00 am. All are welcome to attend. The meeting will be held in the Wynwood Arcade courtyard\, directly in front of Three. \nFor past meeting minutes\, visit: https://wynwoodmiami.com/learn/meeting-agenda/ \nPlease note that all health and safety guidelines have been implemented. Attendees are subject to a temperature check before entry.
URL:https://wynwoodmiami.com/event/wynwood-bid-board-meeting-11/
LOCATION:Wynwood Arcade courtyard\, 50 NW 24th Street\, Miami\, FL\, 33127\, United States
CATEGORIES:Family + Community,Learning + Enrichment
ATTACH;FMTTYPE=image/jpeg:https://wynwoodmiami.com/wp-content/uploads/dmargherite_WBID_juneboardmeeting-8622.jpg
END:VEVENT
BEGIN:VEVENT
DTSTART;TZID=America/New_York:20210220T170000
DTEND;TZID=America/New_York:20210220T180000
DTSTAMP:20260422T191158
CREATED:20210218T211727Z
LAST-MODIFIED:20220310T205357Z
UID:40482-1613840400-1613844000@wynwoodmiami.com
SUMMARY:Spray it Loud: Graffiti Class for Beginners
DESCRIPTION:Pick a color and grab a can! Join us every Saturday at 5pm for an intimate graffiti instructional class. Classes take place promptly at 5pm and are limited to 8 adults per session. Purchase of this class includes paint and admission to the Museum after the class is concluded. We will provide ponchos and gloves\, but guests are encouraged to wear comfortable clothes that can get dirty! \nMUST buy tickets at our website\, MuseumofGraffiti.com.
URL:https://wynwoodmiami.com/event/spray-it-loud-graffiti-class-for-beginners/2021-02-20/
LOCATION:Museum of Graffiti\, 276 NW 26th Street\, Miami\, FL\, 33127\, United States
CATEGORIES:Art,Learning + Enrichment
ATTACH;FMTTYPE=image/jpeg:https://wynwoodmiami.com/wp-content/uploads/IMG_7734.jpg
ORGANIZER;CN="Museum of Graffiti":MAILTO:hey@museumofgraffiti.com
GEO:25.801352591042;-80.200624831512
X-APPLE-STRUCTURED-LOCATION;VALUE=URI;X-ADDRESS=Museum of Graffiti 276 NW 26th Street Miami FL 33127 United States;X-APPLE-RADIUS=500;X-TITLE=276 NW 26th Street:geo:-80.200624831512,25.801352591042
END:VEVENT
BEGIN:VEVENT
DTSTART;TZID=America/New_York:20210221T100000
DTEND;TZID=America/New_York:20210221T110000
DTSTAMP:20260422T191158
CREATED:20210218T211508Z
LAST-MODIFIED:20220310T205639Z
UID:40495-1613901600-1613905200@wynwoodmiami.com
SUMMARY:Kids’ Weekly Drawing Class
DESCRIPTION:Learn from the pro’s! Sunday drawing session for creatives under 13 years old. For 45 minutes\, kids and families can practice techniques for bubble letters and characters. Class is free for kids with parents’ paid admission. All children must be accompanied by at least one adult in the party. \nMUST sign up through MuseumOfGraffiti.com.
URL:https://wynwoodmiami.com/event/kids-weekly-drawing-class/2021-02-21/
LOCATION:Museum of Graffiti\, 276 NW 26th Street\, Miami\, FL\, 33127\, United States
CATEGORIES:Art,Family + Community,Learning + Enrichment
ATTACH;FMTTYPE=image/jpeg:https://wynwoodmiami.com/wp-content/uploads/IMG_7728.jpg
ORGANIZER;CN="Museum of Graffiti":MAILTO:hey@museumofgraffiti.com
GEO:25.801352591042;-80.200624831512
X-APPLE-STRUCTURED-LOCATION;VALUE=URI;X-ADDRESS=Museum of Graffiti 276 NW 26th Street Miami FL 33127 United States;X-APPLE-RADIUS=500;X-TITLE=276 NW 26th Street:geo:-80.200624831512,25.801352591042
END:VEVENT
END:VCALENDAR