BEGIN:VCALENDAR
VERSION:2.0
PRODID:-//Wynwood Business Improvement District -- Miami, Florida - ECPv6.15.16//NONSGML v1.0//EN
CALSCALE:GREGORIAN
METHOD:PUBLISH
X-WR-CALNAME:Wynwood Business Improvement District -- Miami, Florida
X-ORIGINAL-URL:https://wynwoodmiami.com
X-WR-CALDESC:Events for Wynwood Business Improvement District -- Miami, Florida
REFRESH-INTERVAL;VALUE=DURATION:PT1H
X-Robots-Tag:noindex
X-PUBLISHED-TTL:PT1H
BEGIN:VTIMEZONE
TZID:America/New_York
BEGIN:DAYLIGHT
TZOFFSETFROM:-0500
TZOFFSETTO:-0400
TZNAME:EDT
DTSTART:20190310T070000
END:DAYLIGHT
BEGIN:STANDARD
TZOFFSETFROM:-0400
TZOFFSETTO:-0500
TZNAME:EST
DTSTART:20191103T060000
END:STANDARD
BEGIN:DAYLIGHT
TZOFFSETFROM:-0500
TZOFFSETTO:-0400
TZNAME:EDT
DTSTART:20200308T070000
END:DAYLIGHT
BEGIN:STANDARD
TZOFFSETFROM:-0400
TZOFFSETTO:-0500
TZNAME:EST
DTSTART:20201101T060000
END:STANDARD
BEGIN:DAYLIGHT
TZOFFSETFROM:-0500
TZOFFSETTO:-0400
TZNAME:EDT
DTSTART:20210314T070000
END:DAYLIGHT
BEGIN:STANDARD
TZOFFSETFROM:-0400
TZOFFSETTO:-0500
TZNAME:EST
DTSTART:20211107T060000
END:STANDARD
END:VTIMEZONE
BEGIN:VEVENT
DTSTART;TZID=America/New_York:20201208T100000
DTEND;TZID=America/New_York:20201208T120000
DTSTAMP:20260422T221813
CREATED:20201204T200333Z
LAST-MODIFIED:20201204T200333Z
UID:39062-1607421600-1607428800@wynwoodmiami.com
SUMMARY:Wynwood Design Review Committee (WDRC) Meeting
DESCRIPTION:The Wynwood Design Review Committee (WDRC) will be holding an in-person meeting on Tuesday\, December 8 at 10:00am in the Commission Chambers at Miami City Hall. \nView meeting agenda \nDescription:\nThe purpose of the Wynwood Design Review Committee (WDRC) is to review and recommend to the Director of Planning and Zoning and the Urban Development Review Board (UDRB)\, pursuant to the NRD-1 and Miami 21\, whether the design of developments and/or improvements to properties within the boundaries of the NRD-1 are compatible with the cultural and architectural character of the Wynwood Arts District and guidelines that may be adopted from time to time. \nFor more info on WDRC requirements\, visit the City of Miami Planning and Zoning website at http://www.miamigov.com/planning/WDRC.html.
URL:https://wynwoodmiami.com/event/wynwood-design-review-committee-wdrc-meeting-3/
LOCATION:Miami City Hall\, 3500 Pan American Drive\, Miami\, FL\, 33127\, United States
CATEGORIES:Learning + Enrichment
ATTACH;FMTTYPE=image/jpeg:https://wynwoodmiami.com/wp-content/uploads/W-logo-web.jpg
END:VEVENT
END:VCALENDAR