BEGIN:VCALENDAR
VERSION:2.0
PRODID:-//Wynwood Business Improvement District -- Miami, Florida - ECPv6.15.16//NONSGML v1.0//EN
CALSCALE:GREGORIAN
METHOD:PUBLISH
X-WR-CALNAME:Wynwood Business Improvement District -- Miami, Florida
X-ORIGINAL-URL:https://wynwoodmiami.com
X-WR-CALDESC:Events for Wynwood Business Improvement District -- Miami, Florida
REFRESH-INTERVAL;VALUE=DURATION:PT1H
X-Robots-Tag:noindex
X-PUBLISHED-TTL:PT1H
BEGIN:VTIMEZONE
TZID:America/New_York
BEGIN:DAYLIGHT
TZOFFSETFROM:-0500
TZOFFSETTO:-0400
TZNAME:EDT
DTSTART:20190310T070000
END:DAYLIGHT
BEGIN:STANDARD
TZOFFSETFROM:-0400
TZOFFSETTO:-0500
TZNAME:EST
DTSTART:20191103T060000
END:STANDARD
BEGIN:DAYLIGHT
TZOFFSETFROM:-0500
TZOFFSETTO:-0400
TZNAME:EDT
DTSTART:20200308T070000
END:DAYLIGHT
BEGIN:STANDARD
TZOFFSETFROM:-0400
TZOFFSETTO:-0500
TZNAME:EST
DTSTART:20201101T060000
END:STANDARD
BEGIN:DAYLIGHT
TZOFFSETFROM:-0500
TZOFFSETTO:-0400
TZNAME:EDT
DTSTART:20210314T070000
END:DAYLIGHT
BEGIN:STANDARD
TZOFFSETFROM:-0400
TZOFFSETTO:-0500
TZNAME:EST
DTSTART:20211107T060000
END:STANDARD
END:VTIMEZONE
BEGIN:VEVENT
DTSTART;TZID=America/New_York:20201114T130000
DTEND;TZID=America/New_York:20201114T140000
DTSTAMP:20260422T233146
CREATED:20201112T153401Z
LAST-MODIFIED:20201112T153401Z
UID:38900-1605358800-1605362400@wynwoodmiami.com
SUMMARY:Museum of Graffiti Kids' Drawing Class
DESCRIPTION:Learn from the pro’s! Saturday drawing session for creatives under 13 years old. For 45 minutes\, kids and families can practice techniques for bubble letters and characters. Class is free for kids with parents’ paid admission. All children must be accompanied by at least one adult in the party.
URL:https://wynwoodmiami.com/event/museum-of-graffiti-kids-drawing-class/
LOCATION:Museum of Graffiti\, 276 NW 26th Street\, Miami\, FL\, 33127\, United States
CATEGORIES:Art,Family + Community,Learning + Enrichment
ATTACH;FMTTYPE=image/png:https://wynwoodmiami.com/wp-content/uploads/KIDS_CLASS-17-17-17-17.png
ORGANIZER;CN="Museum of Graffiti":MAILTO:hey@museumofgraffiti.com
GEO:25.801352591042;-80.200624831512
X-APPLE-STRUCTURED-LOCATION;VALUE=URI;X-ADDRESS=Museum of Graffiti 276 NW 26th Street Miami FL 33127 United States;X-APPLE-RADIUS=500;X-TITLE=276 NW 26th Street:geo:-80.200624831512,25.801352591042
END:VEVENT
BEGIN:VEVENT
DTSTART;TZID=America/New_York:20201121T170000
DTEND;TZID=America/New_York:20201121T190000
DTSTAMP:20260422T233146
CREATED:20201110T184208Z
LAST-MODIFIED:20201110T184208Z
UID:38888-1605978000-1605985200@wynwoodmiami.com
SUMMARY:Symbiosis Book Signing
DESCRIPTION:The Last Hoorah! Join us for the closing reception of Symbiosis where the artist\, Gustavo Oviedo\, will be signing his latest book. Please visit the exhibition page of our website for more information on Gustavo Oviedo: Symbiosis! For book signing tickets\, click here.
URL:https://wynwoodmiami.com/event/symbiosis-book-signing/
LOCATION:Museum of Graffiti\, 276 NW 26th Street\, Miami\, FL\, 33127\, United States
CATEGORIES:Art,Learning + Enrichment
ATTACH;FMTTYPE=image/jpeg:https://wynwoodmiami.com/wp-content/uploads/museum-book-signing-scaled.jpg
ORGANIZER;CN="Museum of Graffiti":MAILTO:hey@museumofgraffiti.com
GEO:25.801352591042;-80.200624831512
X-APPLE-STRUCTURED-LOCATION;VALUE=URI;X-ADDRESS=Museum of Graffiti 276 NW 26th Street Miami FL 33127 United States;X-APPLE-RADIUS=500;X-TITLE=276 NW 26th Street:geo:-80.200624831512,25.801352591042
END:VEVENT
END:VCALENDAR