BEGIN:VCALENDAR
VERSION:2.0
PRODID:-//Wynwood Business Improvement District -- Miami, Florida - ECPv6.15.16//NONSGML v1.0//EN
CALSCALE:GREGORIAN
METHOD:PUBLISH
X-WR-CALNAME:Wynwood Business Improvement District -- Miami, Florida
X-ORIGINAL-URL:https://wynwoodmiami.com
X-WR-CALDESC:Events for Wynwood Business Improvement District -- Miami, Florida
REFRESH-INTERVAL;VALUE=DURATION:PT1H
X-Robots-Tag:noindex
X-PUBLISHED-TTL:PT1H
BEGIN:VTIMEZONE
TZID:America/New_York
BEGIN:DAYLIGHT
TZOFFSETFROM:-0500
TZOFFSETTO:-0400
TZNAME:EDT
DTSTART:20190310T070000
END:DAYLIGHT
BEGIN:STANDARD
TZOFFSETFROM:-0400
TZOFFSETTO:-0500
TZNAME:EST
DTSTART:20191103T060000
END:STANDARD
BEGIN:DAYLIGHT
TZOFFSETFROM:-0500
TZOFFSETTO:-0400
TZNAME:EDT
DTSTART:20200308T070000
END:DAYLIGHT
BEGIN:STANDARD
TZOFFSETFROM:-0400
TZOFFSETTO:-0500
TZNAME:EST
DTSTART:20201101T060000
END:STANDARD
BEGIN:DAYLIGHT
TZOFFSETFROM:-0500
TZOFFSETTO:-0400
TZNAME:EDT
DTSTART:20210314T070000
END:DAYLIGHT
BEGIN:STANDARD
TZOFFSETFROM:-0400
TZOFFSETTO:-0500
TZNAME:EST
DTSTART:20211107T060000
END:STANDARD
END:VTIMEZONE
BEGIN:VEVENT
DTSTART;TZID=America/New_York:20200902T140000
DTEND;TZID=America/New_York:20200902T150000
DTSTAMP:20260423T021514
CREATED:20200826T135059Z
LAST-MODIFIED:20200901T135937Z
UID:35743-1599055200-1599058800@wynwoodmiami.com
SUMMARY:Let’s Get Miami-Dade Back on Track
DESCRIPTION:Miami-Dade County is considering a new commuter rail plan that can get you from Kendall to Wynwood to Aventura without a car. \nThis commuter rail initiative will significantly reduce travel time\, create nearly 25\,000 local jobs to support economic recovery\, generate $7.2 million annually for public schools\, remove 1.45 million cars from our roads annually and reduce 3\,644 metric tons of CO2. This is the closest we have been at realizing a public transit system that truly connects South Florida residents and visitors. \nJoin us (virtually) on Sept. 2 as we answer your questions about commuter rail in Miami and the impact it will have. To register\, click here. \nHosts:\nBruce Pinchbeck is Co-Founder & Chief Creative Officer of WhereBy.Us which houses publications in Miami with The New Tropic\, Seattle with The Evergrey\, Portland with Bridgeliner\, Orlando with Pulptown\, and Pittsburgh with The Incline. \nAlbert Garcia is the Managing Principal of Wynwood Ventures and Chairman and Co-Founder of the Wynwood Business Improvement District (BID)\, an autonomous government agency created in 2013 that leads the renaissance of the 50-city block Wynwood Arts District in Miami\, Florida. \n\n\n\n\nSpeakers:\nEileen Higgins\nEileen Higgins serves as the County Commissioner for District 5 that includes parts of Miami Beach\, Downtown\, Brickell\, Little Havana and West Flagler to the north. Eileen is known for her focus on resiliency in the face of a changing environment\, common sense gun reforms to keep us safe\, more reliable public transportation solutions and championing affordable housing. \n\n\n\n\n\n\nDr. John Renne\nDr. John Renne is a globally recognized expert in Transit Oriented Development\, including sustainable and resilient cities\, with a focus on land use and transportation planning and policy. He is a Professor and Director of Research at Florida Atlantic University. \n\n\n\n\n\nJose Gonzalez\nJose Gonzalez is the Executive Vice President of Corporate Development at Florida East Coast Industries. Jose leads the strategic planning for the company’s various business units including Flagler\, Brightline and Flagler Global Logistics. He has been a key part of the leadership team responsible for advancing rail initiatives throughout Florida and serves as the President of the Builders Association of South Florida.
URL:https://wynwoodmiami.com/event/lets-get-miami-dade-back-on-track/
LOCATION:Virtual\, Miami\, FL\, United States
CATEGORIES:Learning + Enrichment
ATTACH;FMTTYPE=image/png:https://wynwoodmiami.com/wp-content/uploads/Panel-image.png
END:VEVENT
BEGIN:VEVENT
DTSTART;TZID=America/New_York:20200909T110000
DTEND;TZID=America/New_York:20200909T130000
DTSTAMP:20260423T021514
CREATED:20200902T211740Z
LAST-MODIFIED:20200907T150736Z
UID:35796-1599649200-1599656400@wynwoodmiami.com
SUMMARY:Wynwood BID Board Meeting
DESCRIPTION:The Wynwood BID Board of Directors will be holding a virtual meeting on Wednesday\, September 9th at 11:00am with BID officials and staff participating via video conference. \nMembers of the public may provide public comment via voice message\, online comment form or during the public comment portion of the meeting (requires advanced registration). \nFor more information on the virtual meeting\, please click here.
URL:https://wynwoodmiami.com/event/wynwood-bid-board-meeting-8/
LOCATION:Virtual\, Miami\, FL\, United States
CATEGORIES:Family + Community,Learning + Enrichment
ATTACH;FMTTYPE=image/jpeg:https://wynwoodmiami.com/wp-content/uploads/W-logo-web.jpg
END:VEVENT
END:VCALENDAR