BEGIN:VCALENDAR
VERSION:2.0
PRODID:-//Wynwood Business Improvement District -- Miami, Florida - ECPv6.15.16//NONSGML v1.0//EN
CALSCALE:GREGORIAN
METHOD:PUBLISH
X-WR-CALNAME:Wynwood Business Improvement District -- Miami, Florida
X-ORIGINAL-URL:https://wynwoodmiami.com
X-WR-CALDESC:Events for Wynwood Business Improvement District -- Miami, Florida
REFRESH-INTERVAL;VALUE=DURATION:PT1H
X-Robots-Tag:noindex
X-PUBLISHED-TTL:PT1H
BEGIN:VTIMEZONE
TZID:America/New_York
BEGIN:DAYLIGHT
TZOFFSETFROM:-0500
TZOFFSETTO:-0400
TZNAME:EDT
DTSTART:20190310T070000
END:DAYLIGHT
BEGIN:STANDARD
TZOFFSETFROM:-0400
TZOFFSETTO:-0500
TZNAME:EST
DTSTART:20191103T060000
END:STANDARD
BEGIN:DAYLIGHT
TZOFFSETFROM:-0500
TZOFFSETTO:-0400
TZNAME:EDT
DTSTART:20200308T070000
END:DAYLIGHT
BEGIN:STANDARD
TZOFFSETFROM:-0400
TZOFFSETTO:-0500
TZNAME:EST
DTSTART:20201101T060000
END:STANDARD
BEGIN:DAYLIGHT
TZOFFSETFROM:-0500
TZOFFSETTO:-0400
TZNAME:EDT
DTSTART:20210314T070000
END:DAYLIGHT
BEGIN:STANDARD
TZOFFSETFROM:-0400
TZOFFSETTO:-0500
TZNAME:EST
DTSTART:20211107T060000
END:STANDARD
END:VTIMEZONE
BEGIN:VEVENT
DTSTART;TZID=America/New_York:20200205T100000
DTEND;TZID=America/New_York:20200205T180000
DTSTAMP:20260423T114545
CREATED:20200128T170717Z
LAST-MODIFIED:20200128T170717Z
UID:31941-1580896800-1580925600@wynwoodmiami.com
SUMMARY:The Forgotten Exodus: An American Refuge
DESCRIPTION:The University of Miami Departments of Art and Art History and the Department of Religious Studies present THE FORGOTTEN EXODUS – AN AMERICAN REFUGE\, a portrait exhibition of the last generation of Sephardi Jews born in North Africa\, the Middle East\, and Iran. The exhibition will be on display from February 3\, 2020 to February 28\, 2020. The opening\, taking place on Saturday February 8\, 2020\, is free and open to the public. \nIn the years following the founding of the State of Israel\, close to a million Jews fled their native Arab lands. Hostility and expulsion brought an abrupt end to these once vibrant communities\, scattering its members to the four corners of the earth. Until recently\, little has been formally documented\, leaving a significant part of Jewish history largely untold. \nThe photographer of THE FORGOTTEN EXODUS – AN AMERICAN REFUGE is J Tomas Lopez\, an artist with a lifelong passion for portraying the vulnerability of the passage of time through his stunning portrait photography. As a young Cuban boy who emigrated to America in the 1950’s\, Lopez felt out of place. The stories of the Jews from North Africa and the Middle East that truly ignited his interest. “I realized that the story of the Sephardi Jews is the story of every immigrant. You’re in a place—you think you’re home—and then something happens. There is the displacement\, the sense of otherness. I identified very much with everyone I photographed.” \nJ Tomas Lopez is the Chair of Art and Art History at the University of Miami. He has been showcased in over 350 group exhibitions and 35 solo exhibitions. His work is included in many permanent collections including the Library of Congress\, the Smithsonian Institution\, the National Gallery of American Art\, La Biblioteque Nationale de France\, The International Museum of Photography\, and the Museum of Modern Art. His work has been exhibited across the United States\, Europe\, China\, Japan and in numerous publications. \nTHE FORGOTTEN EXODUS – AN AMERICAN REFUGE was photographed entirely in South Florida and curated by University of Miami’s Department of Religious Studies professor\, Dr. Henry Green and produced by Media Director David Langer. \nTHE FORGOTTEN EXODUS – AN AMERICAN REFUGE will be on view at the University of Miami Gallery\, 2750 NW 3rd Avenue\, Suite 4\, Miami\, FL 33127. Gallery hours are Wednesday\, Thursday and Friday\, 10:00 am to 6:00 pm. *Hours may be subject to change\, please call (305) 284-3161 to confirm times. Appointments and Private Tours available. For more information contact Milly Cardoso\, Gallery Director at m.cardoso1@miami.edu. Be sure to follow us on Instagram and Twitter: @umartgalleries. \nImage: SHALOM YEFET\, Born 1947\, Talabi Yemen\, Arrived in USA\, 1973
URL:https://wynwoodmiami.com/event/the-forgotten-exodus-an-american-refuge/2020-02-05/
LOCATION:University of Miami Gallery\, 2750 Northwest 3 Avenue\, Suite 4\, Miami\, FL\, 33127\, United States
CATEGORIES:Art,Learning + Enrichment
ATTACH;FMTTYPE=image/jpeg:https://wynwoodmiami.com/wp-content/uploads/UM-gallery.jpg
GEO:25.802487;-80.201751
X-APPLE-STRUCTURED-LOCATION;VALUE=URI;X-ADDRESS=University of Miami Gallery 2750 Northwest 3 Avenue Suite 4 Miami FL 33127 United States;X-APPLE-RADIUS=500;X-TITLE=2750 Northwest 3 Avenue\, Suite 4:geo:-80.201751,25.802487
END:VEVENT
BEGIN:VEVENT
DTSTART;TZID=America/New_York:20200219T110000
DTEND;TZID=America/New_York:20200219T133000
DTSTAMP:20260423T114545
CREATED:20190821T184223Z
LAST-MODIFIED:20200207T170131Z
UID:27095-1582110000-1582119000@wynwoodmiami.com
SUMMARY:Wynwood BID Board Meeting
DESCRIPTION:The Wynwood BID will be holding its monthly board meeting at 11:00 am. All are welcome to attend. For the agenda or past meeting minutes\, visit: https://wynwoodmiami.com/learn/meeting-agenda/
URL:https://wynwoodmiami.com/event/wynwood-bid-board-meeting-3-2020-02-12/
LOCATION:WeWork Wynwood Garage\, 360 Northwest 27 Street\, Miami\, FL\, 33127\, United States
CATEGORIES:Family + Community,Learning + Enrichment
ATTACH;FMTTYPE=image/jpeg:https://wynwoodmiami.com/wp-content/uploads/dmargherite_WBID_juneboardmeeting-8622.jpg
END:VEVENT
BEGIN:VEVENT
DTSTART;TZID=America/New_York:20200222T173000
DTEND;TZID=America/New_York:20200222T220000
DTSTAMP:20260423T114545
CREATED:20200220T203446Z
LAST-MODIFIED:20200220T203532Z
UID:32321-1582392600-1582408800@wynwoodmiami.com
SUMMARY:The Remix: A Miami Film Premiere to Benefit PATH
DESCRIPTION:Join PATH: Preserving\, Archiving & Teaching Hiphop\, Inc. and Urbanworld for the Miami premiere of The Remix: Hip Hop x Fashion and A Great Day In Hip Hop Revisited. Proceeds from ticket sales support PATH Programs. Learn more about PATH\, Inc. here. \nThe Remix: Hip Hop X Fashion takes a look at the journeys of fashion architect Misa Hylton and streetwear designer April Walker\, among others\, who grabbed a foothold in hip hop fashion in the late 80’s and 90s and never let go. As the voices of Mary J. Blige\, Missy Elliot\, and Lil’ Kim grew louder\, so too did the influence of their female designers and stylists working behind the scenes. The film focuses on the cultural impact these talented women and Dapper Dan and Kerby Jean-Raymond have made in the fashion world\, from iconic looks styled in influential music videos to their global cultural impact. \n—Deborah Rudolph \nHOW WE’LL SPEND THE NIGHT\n \n5:30 PM – 6:30 PM I VIP Reception\nMEET THE MAKERS over sweet + savory bites and wine. This reception is an opportunity to get up close and personal w/ the filmmakers. \n6:30 PM – 8:00 PM I Film Screenings\n Be one of the first in Miami to seeThe Remix: Hip Hop x Fashion (a film by Lisa Cortes and Farah X) and A Great Day In Hip Hop Revisited (a film by Nelson George). \n8:00 PM – 8:45 PM I Industry Panel\nJoin us for an intimate conversation with the Directors of The Remix: Hip Hop x Fashion and fashion influencer\, Asanyah Davidson\, Chair of the Miami Fashion Institute at Miami Dade College. Moderated by Syreeta Gates of The Gates Preserve. Panelists: Asanyah Davidson\, Farah X & Lisa Cortes \n8:45 PM – 10:00 PM I After Party w/ Hip Hop activations\nHip Hop is NOT a spectator’s sport! Rock with PATH’s award-winning crew of instructors and try your hand (and feet) at DJing + Music Production\, MCing\, Bboy/Bgirl\, and Graffiti Art. \n\nABOUT THE PANELISTS \nLisa Cortes (Producer/Director) is an Academy Award®-nominated producer and director whose credits include THE APOLLO and PRECIOUS. Her work has been distinguished by her commitment to empowering inclusive voices and for giving light to challenging visionary stories. Prior to her film career\, Cortés was a part of the team that launched the iconic Def Jam brand. She is a graduate of Yale University. \nFarah X (Director/Editor) is an award-winning director and editor. She has worked closely with music industry icons including Beyoncé\, Mariah Carey\, and Prince. Farah co-directed her debut feature length documentary\, The Remix: Hip Hop x Fashion which premiered at Tribeca Film Festival 2019 and has gone on to win several awards worldwide. \nAsanyah Davidson (Designer/Educator) is the fashion designer\, educator\, consultant and creative powerhouse behind Circa24. As the Department Chairperson of the Miami Fashion Institute at Miami Dade College\, she’s shaping the next-generation fashion design sector in South Florida and beyond. \nSyreeta Gates (Moderator) is an art collector\, founder\, and archivist committed to preserving hip-hop culture through The Gates Preserve\, a multimedia experience company. She’s currently working on a live culinary competition bridging hip-hop\, food and beverage called Yo Stay Hungry and a documentary series about hip-hop journalists titled Shaping The Culture.
URL:https://wynwoodmiami.com/event/the-remix-a-miami-film-premiere-to-benefit-path/
LOCATION:The Light Box at Goldman Warehouse\, 404 Northwest 26 Street\, Miami\, FL\, 33127\, United States
CATEGORIES:Food + Drink,Learning + Enrichment,Theater + Film
ATTACH;FMTTYPE=image/jpeg:https://wynwoodmiami.com/wp-content/uploads/path.jpg
END:VEVENT
END:VCALENDAR