BEGIN:VCALENDAR
VERSION:2.0
PRODID:-//Wynwood Business Improvement District -- Miami, Florida - ECPv6.15.16//NONSGML v1.0//EN
CALSCALE:GREGORIAN
METHOD:PUBLISH
X-ORIGINAL-URL:https://wynwoodmiami.com
X-WR-CALDESC:Events for Wynwood Business Improvement District -- Miami, Florida
REFRESH-INTERVAL;VALUE=DURATION:PT1H
X-Robots-Tag:noindex
X-PUBLISHED-TTL:PT1H
BEGIN:VTIMEZONE
TZID:America/New_York
BEGIN:DAYLIGHT
TZOFFSETFROM:-0500
TZOFFSETTO:-0400
TZNAME:EDT
DTSTART:20180311T070000
END:DAYLIGHT
BEGIN:STANDARD
TZOFFSETFROM:-0400
TZOFFSETTO:-0500
TZNAME:EST
DTSTART:20181104T060000
END:STANDARD
BEGIN:DAYLIGHT
TZOFFSETFROM:-0500
TZOFFSETTO:-0400
TZNAME:EDT
DTSTART:20190310T070000
END:DAYLIGHT
BEGIN:STANDARD
TZOFFSETFROM:-0400
TZOFFSETTO:-0500
TZNAME:EST
DTSTART:20191103T060000
END:STANDARD
BEGIN:DAYLIGHT
TZOFFSETFROM:-0500
TZOFFSETTO:-0400
TZNAME:EDT
DTSTART:20200308T070000
END:DAYLIGHT
BEGIN:STANDARD
TZOFFSETFROM:-0400
TZOFFSETTO:-0500
TZNAME:EST
DTSTART:20201101T060000
END:STANDARD
END:VTIMEZONE
BEGIN:VEVENT
DTSTART;TZID=America/New_York:20191211T100000
DTEND;TZID=America/New_York:20191211T180000
DTSTAMP:20260423T142519
CREATED:20191210T172752Z
LAST-MODIFIED:20191210T172752Z
UID:28768-1576058400-1576087200@wynwoodmiami.com
SUMMARY:New Works: UMFA 2019
DESCRIPTION:In honor of Art Basel Miami Beach\, the Department of Art and Art History presents New Works featuring artwork of students earning their Masters in Fine Arts. Works on display include sculpture\, painting\, photography and more. The MFA program is a 60-credit\, three-year program resulting in a terminal degree that both prepares students to enter the professional\, studio art world and qualifies them for college teaching. The program is highly competitive\, with applicants coming from across the country and around the world. \nFeaturing:\nKimberly Bauldree\nTalia Ceravolo\nJessica Dehen\nChristine Di Staola\nElizabeth Guignino\nNadine Hall\nLance Layman\nCharlisa Montrope\nMyra Porter\nCourtney Schmidt\nSidney Sherman\nIleana Tolibia\nMonica Leslie Travis\nMelissa Tychonievich \nNew Works: UMFA 2019 will be on view from December 2\, 2019 – January 17\, 2020 at the University of Miami Art Gallery located in the Wynwood Building\, 2750 NW 3rd Avenue\, Suite 4\, Miami\, FL 33127. An opening reception will be held for the artists on Saturday\, December 7th from 6:00 p.m. to 9:00 p.m. \nA full schedule of exhibitions can be viewed at art.as.miami.edu. Gallery hours are Wednesday\, Thursday\, and Friday\, 10:00 a.m. to 6:00 p.m. *Hours may be subject to change\, please call (305) 284-3161 to confirm times. Appointments and Private Tours available. For more information contact Milly Cardoso\, Gallery Director at m.cardoso1@miami.edu. Follow us on Twitter and Instagram: @umartgalleries. \nImage: Jessica Dehen\, Duality of The Dreamhouse\, Acrylic paint on canvas\, 37 ¾ by 48 ¾ inches
URL:https://wynwoodmiami.com/event/new-works-umfa-2019/2019-12-11/
LOCATION:University of Miami Gallery\, 2750 Northwest 3 Avenue\, Suite 4\, Miami\, FL\, 33127\, United States
CATEGORIES:Art,Learning + Enrichment
ATTACH;FMTTYPE=image/jpeg:https://wynwoodmiami.com/wp-content/uploads/UM-art.jpg
GEO:25.802487;-80.201751
X-APPLE-STRUCTURED-LOCATION;VALUE=URI;X-ADDRESS=University of Miami Gallery 2750 Northwest 3 Avenue Suite 4 Miami FL 33127 United States;X-APPLE-RADIUS=500;X-TITLE=2750 Northwest 3 Avenue\, Suite 4:geo:-80.201751,25.802487
END:VEVENT
BEGIN:VEVENT
DTSTART;TZID=America/New_York:20191212T100000
DTEND;TZID=America/New_York:20191212T180000
DTSTAMP:20260423T142519
CREATED:20191210T172911Z
LAST-MODIFIED:20191210T172911Z
UID:28776-1576144800-1576173600@wynwoodmiami.com
SUMMARY:New Works: UMFA 2019
DESCRIPTION:In honor of Art Basel Miami Beach\, the Department of Art and Art History presents New Works featuring artwork of students earning their Masters in Fine Arts. Works on display include sculpture\, painting\, photography and more. The MFA program is a 60-credit\, three-year program resulting in a terminal degree that both prepares students to enter the professional\, studio art world and qualifies them for college teaching. The program is highly competitive\, with applicants coming from across the country and around the world. \nFeaturing:\nKimberly Bauldree\nTalia Ceravolo\nJessica Dehen\nChristine Di Staola\nElizabeth Guignino\nNadine Hall\nLance Layman\nCharlisa Montrope\nMyra Porter\nCourtney Schmidt\nSidney Sherman\nIleana Tolibia\nMonica Leslie Travis\nMelissa Tychonievich \nNew Works: UMFA 2019 will be on view from December 2\, 2019 – January 17\, 2020 at the University of Miami Art Gallery located in the Wynwood Building\, 2750 NW 3rd Avenue\, Suite 4\, Miami\, FL 33127. An opening reception will be held for the artists on Saturday\, December 7th from 6:00 p.m. to 9:00 p.m. \nA full schedule of exhibitions can be viewed at art.as.miami.edu. Gallery hours are Wednesday\, Thursday\, and Friday\, 10:00 a.m. to 6:00 p.m. *Hours may be subject to change\, please call (305) 284-3161 to confirm times. Appointments and Private Tours available. For more information contact Milly Cardoso\, Gallery Director at m.cardoso1@miami.edu. Follow us on Twitter and Instagram: @umartgalleries. \nImage: Jessica Dehen\, Duality of The Dreamhouse\, Acrylic paint on canvas\, 37 ¾ by 48 ¾ inches
URL:https://wynwoodmiami.com/event/new-works-umfa-2019-2/2019-12-12/
LOCATION:University of Miami Gallery\, 2750 Northwest 3 Avenue\, Suite 4\, Miami\, FL\, 33127\, United States
CATEGORIES:Art,Learning + Enrichment
ATTACH;FMTTYPE=image/jpeg:https://wynwoodmiami.com/wp-content/uploads/UM-art.jpg
GEO:25.802487;-80.201751
X-APPLE-STRUCTURED-LOCATION;VALUE=URI;X-ADDRESS=University of Miami Gallery 2750 Northwest 3 Avenue Suite 4 Miami FL 33127 United States;X-APPLE-RADIUS=500;X-TITLE=2750 Northwest 3 Avenue\, Suite 4:geo:-80.201751,25.802487
END:VEVENT
BEGIN:VEVENT
DTSTART;VALUE=DATE:20191213
DTEND;VALUE=DATE:20191223
DTSTAMP:20260423T142519
CREATED:20191122T165744Z
LAST-MODIFIED:20191122T165744Z
UID:28486-1576195200-1577059199@wynwoodmiami.com
SUMMARY:Alexandra Grecco Trunk Show
DESCRIPTION:When: December 13 – 22 \nWhat: Get a chance to be one of the first to try on Alexandra Grecco’s 2020 collection – Moonstone. \nPerk: 10% off all Alexandra Grecco’s gowns during trunk show dates only. \nAbout The Collection: The Moonstone collection is inspired by the incandescent\, radiant light of late summer sun setting over dramatic landscapes. She uses lush silk crepe is paired with shimmering metallics\, creating the dreamiest color palette reminiscent of moonlit reflections.
URL:https://wynwoodmiami.com/event/alexandra-grecco-trunk-show/
LOCATION:Lovely Bride\, 175 NW 25th Street\, Miami\, FL\, 33127\, United States
CATEGORIES:Fashion + Design,Learning + Enrichment
ATTACH;FMTTYPE=image/jpeg:https://wynwoodmiami.com/wp-content/uploads/Alexandra-Grecco_Moon-Stone_Look-13_886-copy-699x979.jpg
ORGANIZER;CN="Lovely Bride":MAILTO:BIZ@LOVELYBRIDE.COM
GEO:25.8009445;-80.1985514
X-APPLE-STRUCTURED-LOCATION;VALUE=URI;X-ADDRESS=Lovely Bride 175 NW 25th Street Miami FL 33127 United States;X-APPLE-RADIUS=500;X-TITLE=175 NW 25th Street:geo:-80.1985514,25.8009445
END:VEVENT
BEGIN:VEVENT
DTSTART;TZID=America/New_York:20191213T100000
DTEND;TZID=America/New_York:20191213T180000
DTSTAMP:20260423T142519
CREATED:20191210T173027Z
LAST-MODIFIED:20191210T173027Z
UID:28783-1576231200-1576260000@wynwoodmiami.com
SUMMARY:New Works: UMFA 2019
DESCRIPTION:In honor of Art Basel Miami Beach\, the Department of Art and Art History presents New Works featuring artwork of students earning their Masters in Fine Arts. Works on display include sculpture\, painting\, photography and more. The MFA program is a 60-credit\, three-year program resulting in a terminal degree that both prepares students to enter the professional\, studio art world and qualifies them for college teaching. The program is highly competitive\, with applicants coming from across the country and around the world. \nFeaturing:\nKimberly Bauldree\nTalia Ceravolo\nJessica Dehen\nChristine Di Staola\nElizabeth Guignino\nNadine Hall\nLance Layman\nCharlisa Montrope\nMyra Porter\nCourtney Schmidt\nSidney Sherman\nIleana Tolibia\nMonica Leslie Travis\nMelissa Tychonievich \nNew Works: UMFA 2019 will be on view from December 2\, 2019 – January 17\, 2020 at the University of Miami Art Gallery located in the Wynwood Building\, 2750 NW 3rd Avenue\, Suite 4\, Miami\, FL 33127. An opening reception will be held for the artists on Saturday\, December 7th from 6:00 p.m. to 9:00 p.m. \nA full schedule of exhibitions can be viewed at art.as.miami.edu. Gallery hours are Wednesday\, Thursday\, and Friday\, 10:00 a.m. to 6:00 p.m. *Hours may be subject to change\, please call (305) 284-3161 to confirm times. Appointments and Private Tours available. For more information contact Milly Cardoso\, Gallery Director at m.cardoso1@miami.edu. Follow us on Twitter and Instagram: @umartgalleries. \nImage: Jessica Dehen\, Duality of The Dreamhouse\, Acrylic paint on canvas\, 37 ¾ by 48 ¾ inches
URL:https://wynwoodmiami.com/event/new-works-umfa-2019-3/2019-12-13/
LOCATION:University of Miami Gallery\, 2750 Northwest 3 Avenue\, Suite 4\, Miami\, FL\, 33127\, United States
CATEGORIES:Art,Learning + Enrichment
ATTACH;FMTTYPE=image/jpeg:https://wynwoodmiami.com/wp-content/uploads/UM-art.jpg
GEO:25.802487;-80.201751
X-APPLE-STRUCTURED-LOCATION;VALUE=URI;X-ADDRESS=University of Miami Gallery 2750 Northwest 3 Avenue Suite 4 Miami FL 33127 United States;X-APPLE-RADIUS=500;X-TITLE=2750 Northwest 3 Avenue\, Suite 4:geo:-80.201751,25.802487
END:VEVENT
BEGIN:VEVENT
DTSTART;VALUE=DATE:20191227
DTEND;VALUE=DATE:20191230
DTSTAMP:20260423T142519
CREATED:20191122T221113Z
LAST-MODIFIED:20191122T221113Z
UID:28489-1577404800-1577663999@wynwoodmiami.com
SUMMARY:Marchesa Notte Trunk Show
DESCRIPTION:When: December 27 -29 \nWhat: Marchesa Notte’s newest collection will be in our shop \nPerks: Get 10% off all of her gowns during the trunk show dates only! \nBook your appointment online or give us a call so we can reserve your spot as appointments are limited. \nSee you soon Lovelies!
URL:https://wynwoodmiami.com/event/marchesa-notte-trunk-show-3/
LOCATION:Lovely Bride\, 175 NW 25th Street\, Miami\, FL\, 33127\, United States
CATEGORIES:Fashion + Design,Learning + Enrichment
ATTACH;FMTTYPE=image/jpeg:https://wynwoodmiami.com/wp-content/uploads/9154194e-da46-4b7b-9684-f35a05ce1ec8-1.jpeg
ORGANIZER;CN="Lovely Bride":MAILTO:BIZ@LOVELYBRIDE.COM
GEO:25.8009445;-80.1985514
X-APPLE-STRUCTURED-LOCATION;VALUE=URI;X-ADDRESS=Lovely Bride 175 NW 25th Street Miami FL 33127 United States;X-APPLE-RADIUS=500;X-TITLE=175 NW 25th Street:geo:-80.1985514,25.8009445
END:VEVENT
END:VCALENDAR