BEGIN:VCALENDAR
VERSION:2.0
PRODID:-//Wynwood Business Improvement District -- Miami, Florida - ECPv6.15.16//NONSGML v1.0//EN
CALSCALE:GREGORIAN
METHOD:PUBLISH
X-WR-CALNAME:Wynwood Business Improvement District -- Miami, Florida
X-ORIGINAL-URL:https://wynwoodmiami.com
X-WR-CALDESC:Events for Wynwood Business Improvement District -- Miami, Florida
REFRESH-INTERVAL;VALUE=DURATION:PT1H
X-Robots-Tag:noindex
X-PUBLISHED-TTL:PT1H
BEGIN:VTIMEZONE
TZID:America/New_York
BEGIN:DAYLIGHT
TZOFFSETFROM:-0500
TZOFFSETTO:-0400
TZNAME:EDT
DTSTART:20180311T070000
END:DAYLIGHT
BEGIN:STANDARD
TZOFFSETFROM:-0400
TZOFFSETTO:-0500
TZNAME:EST
DTSTART:20181104T060000
END:STANDARD
BEGIN:DAYLIGHT
TZOFFSETFROM:-0500
TZOFFSETTO:-0400
TZNAME:EDT
DTSTART:20190310T070000
END:DAYLIGHT
BEGIN:STANDARD
TZOFFSETFROM:-0400
TZOFFSETTO:-0500
TZNAME:EST
DTSTART:20191103T060000
END:STANDARD
BEGIN:DAYLIGHT
TZOFFSETFROM:-0500
TZOFFSETTO:-0400
TZNAME:EDT
DTSTART:20200308T070000
END:DAYLIGHT
BEGIN:STANDARD
TZOFFSETFROM:-0400
TZOFFSETTO:-0500
TZNAME:EST
DTSTART:20201101T060000
END:STANDARD
END:VTIMEZONE
BEGIN:VEVENT
DTSTART;TZID=America/New_York:20190928T120000
DTEND;TZID=America/New_York:20190928T210000
DTSTAMP:20260420T074202
CREATED:20190827T181146Z
LAST-MODIFIED:20190827T181146Z
UID:27179-1569672000-1569704400@wynwoodmiami.com
SUMMARY:Vegan Block Party
DESCRIPTION:VEGAN BLOCK PARTY is an all-day festival that celebrates a plant-powered lifestyle to better the lives of animals\, the earth\, and our health. \n\nYour ticket into VEGAN BLOCK PARTY gives you access to a fully packed day of food\, drinks\, activities\, and fun! \nThe venue will be laid out in sectors to highlight the different aspects of this lifestyle: \n\n​Vendor Village\nExpress Yourself Activity Zone\nAnimal Rights Activation\n​Main Stage (for Speakers)\n​Party Stage (for contests\, giveaways\, and fun!)\n​VIP (for VIP ticket holders)\n\n​In addition to a massive Vendor Village filled with the best vegan food\, drinks\, and alcohol around\, you can expect a full schedule of  speakers\, contests + giveaways\, activities\, workshops\, live fitness classes\, party games\, social hours\, & so much more! \n​*Speaker line-ups\, activity schedules\, workshop details\, etc\, will all be released as the event approaches! \n\n\n\n\n\n\n\n\nVEGAN BLOCK PARTY welcomes any vendor that offers a vegan-friendly product or service to the market. This event is the ideal atmosphere to showcase the innovative\, creative\, and unique ideas that your business offers. Whether it is a plant-based burger on a donut bun\, or CBD infused soy candles\, we want YOU to show off all of the cruelty-free goodness that you have to offer!
URL:https://wynwoodmiami.com/event/vegan-block-party/
LOCATION:Mana Wynwood\, 318 NW 23rd St\, Miami\, FL\, 33127\, United States
CATEGORIES:Family + Community,Food + Drink,Health + Fitness
ATTACH;FMTTYPE=image/png:https://wynwoodmiami.com/wp-content/uploads/Copy-of-EAT-DRINK-VIBE.png
GEO:25.7982206;-80.2019551
X-APPLE-STRUCTURED-LOCATION;VALUE=URI;X-ADDRESS=Mana Wynwood 318 NW 23rd St Miami FL 33127 United States;X-APPLE-RADIUS=500;X-TITLE=318 NW 23rd St:geo:-80.2019551,25.7982206
END:VEVENT
END:VCALENDAR