BEGIN:VCALENDAR
VERSION:2.0
PRODID:-//Wynwood Business Improvement District -- Miami, Florida - ECPv6.15.16//NONSGML v1.0//EN
CALSCALE:GREGORIAN
METHOD:PUBLISH
X-WR-CALNAME:Wynwood Business Improvement District -- Miami, Florida
X-ORIGINAL-URL:https://wynwoodmiami.com
X-WR-CALDESC:Events for Wynwood Business Improvement District -- Miami, Florida
REFRESH-INTERVAL;VALUE=DURATION:PT1H
X-Robots-Tag:noindex
X-PUBLISHED-TTL:PT1H
BEGIN:VTIMEZONE
TZID:America/New_York
BEGIN:DAYLIGHT
TZOFFSETFROM:-0500
TZOFFSETTO:-0400
TZNAME:EDT
DTSTART:20200308T070000
END:DAYLIGHT
BEGIN:STANDARD
TZOFFSETFROM:-0400
TZOFFSETTO:-0500
TZNAME:EST
DTSTART:20201101T060000
END:STANDARD
BEGIN:DAYLIGHT
TZOFFSETFROM:-0500
TZOFFSETTO:-0400
TZNAME:EDT
DTSTART:20210314T070000
END:DAYLIGHT
BEGIN:STANDARD
TZOFFSETFROM:-0400
TZOFFSETTO:-0500
TZNAME:EST
DTSTART:20211107T060000
END:STANDARD
BEGIN:DAYLIGHT
TZOFFSETFROM:-0500
TZOFFSETTO:-0400
TZNAME:EDT
DTSTART:20220313T070000
END:DAYLIGHT
BEGIN:STANDARD
TZOFFSETFROM:-0400
TZOFFSETTO:-0500
TZNAME:EST
DTSTART:20221106T060000
END:STANDARD
END:VTIMEZONE
BEGIN:VEVENT
DTSTART;TZID=America/New_York:20211016T150000
DTEND;TZID=America/New_York:20211016T190000
DTSTAMP:20260422T084845
CREATED:20211015T135138Z
LAST-MODIFIED:20211015T135138Z
UID:43963-1634396400-1634410800@wynwoodmiami.com
SUMMARY:Hispanic Heritage Celebration
DESCRIPTION:Join us at Roberto Clemente Park for a Hispanic Heritage celebration with Mayor Francis Suarez and Commissioner Jeffrey Watson. \nNicky Jam will be presented with the key to the City. \nLive performance by Charlie Cruz. \nFree food\, drinks\, fun and excitement for the whole family.
URL:https://wynwoodmiami.com/event/hispanic-heritage-celebration-2/
LOCATION:Roberto Clemente Park\, 101 Northwest 34 Street\, Miami\, FL\, 33127\, United States
CATEGORIES:Family + Community,Food + Drink,Music + Dance
ATTACH;FMTTYPE=image/jpeg:https://wynwoodmiami.com/wp-content/uploads/heritage.jpeg
ORGANIZER;CN="City of Miami":MAILTO:jwatson@miamigov.com
END:VEVENT
BEGIN:VEVENT
DTSTART;TZID=America/New_York:20211016T160000
DTEND;TZID=America/New_York:20211016T200000
DTSTAMP:20260422T084845
CREATED:20211014T185841Z
LAST-MODIFIED:20211015T141034Z
UID:43956-1634400000-1634414400@wynwoodmiami.com
SUMMARY:Help Hope Live for Aquaman
DESCRIPTION:Get ready for an early evening October 16th in Wynwood at MAPS Backlot! Join us for music\, food\, beverages\, auctions and raffles for Sergio’s Journey to recovery. \nSergio Echeverria who is a recipient of the Non-Profit Organization\, Help Hope Live\, a 501c3 non-profit organization that is aimed at helping those who have suffered catastrophic medical expenses. Sergio suffered a life altering accident this past February 2021 rendering him a quadriplegic. Sergio requires 24/7 care\, daily medical appointments\, and therapies to survive and continue living at home with me We are asking for the support from our friends\, family\, and community and have therefore partnered with Help Hope Live 501c3 to allow donations to be tax deductible. \nFor tickets\, click here. \nTo donate\, click here.
URL:https://wynwoodmiami.com/event/help-hope-live-for-aquaman/
LOCATION:MAPS Backlot\, 342 NW 24th Street\, Miami\, FL\, 33127\, United States
CATEGORIES:Family + Community,Food + Drink,Music + Dance
ATTACH;FMTTYPE=image/jpeg:https://wynwoodmiami.com/wp-content/uploads/Lobster_Mini-Season_07-29-15_Dives_-_37.jpg.2448x2448_q85_box-0024482448_crop_detail.jpg
ORGANIZER;CN="MAPS Backlot":MAILTO:events@mapsproduction.com
END:VEVENT
BEGIN:VEVENT
DTSTART;TZID=America/New_York:20211023T110000
DTEND;TZID=America/New_York:20211023T180000
DTSTAMP:20260422T084845
CREATED:20211018T155407Z
LAST-MODIFIED:20211018T155407Z
UID:44016-1634986800-1635012000@wynwoodmiami.com
SUMMARY:Pumpkin Carving Experience
DESCRIPTION:FunDimension is hosting this Halloween event a unique pumpkin carving experience\, perfect for the little ones to safely enjoy this spooky season. \nCome celebrate with us and discover our HAZE MAZE! \nIn addition enjoy one FREE ATTRACTION at FunDimension: \nLASER TAG\, INDOOR PLAYGROUND\, 7D THEATER\, BUMPER CARS\, VIRTUAL REALITY and more! \nFor tickets\, click here.
URL:https://wynwoodmiami.com/event/pumpkin-carving-experience/2021-10-23/
LOCATION:FunDimension\, 2129 NW 1st Court\, Miami\, FL\, 33127\, United States
CATEGORIES:Art,Family + Community
ATTACH;FMTTYPE=image/jpeg:https://wynwoodmiami.com/wp-content/uploads/FunDimension.jpeg
ORGANIZER;CN="FunDimension":MAILTO:info@fundimensionusa.com
END:VEVENT
BEGIN:VEVENT
DTSTART;TZID=America/New_York:20211030T120000
DTEND;TZID=America/New_York:20211031T030000
DTSTAMP:20260422T084845
CREATED:20211004T204549Z
LAST-MODIFIED:20211004T204549Z
UID:43901-1635595200-1635649200@wynwoodmiami.com
SUMMARY:HalloWYN
DESCRIPTION:In the heart of Wynwood\, HalloWYN returns with Miami’s biggest Halloween block party for two days only on Saturday\, October 30 and Sunday\, October 31. Wynwood Marketplace will ignite the night with food\, entertainment and fun for all ages. As Wynwood transforms into a spooky party\, guests will enjoy live music from some of Miami’s best DJs\, craft cocktails\, a costume contest\, Instagrammable photo booths\, themed activations and more. The event is free and open to the public. For more information\, visit HalloWynBlockParty.com.
URL:https://wynwoodmiami.com/event/hallowyn-2/2021-10-30/
LOCATION:The Wynwood Marketplace\, 2230 NW 2ND AVE\, Miami\, 33127\, United States
CATEGORIES:Family + Community,Food + Drink,Music + Dance
ATTACH;FMTTYPE=image/jpeg:https://wynwoodmiami.com/wp-content/uploads/HalloWYN-2.jpg
ORGANIZER;CN="SWARM Inc.":MAILTO:info@swarminc.com
GEO:25.798705;-80.199403
X-APPLE-STRUCTURED-LOCATION;VALUE=URI;X-ADDRESS=The Wynwood Marketplace 2230 NW 2ND AVE Miami 33127 United States;X-APPLE-RADIUS=500;X-TITLE=2230 NW 2ND AVE:geo:-80.199403,25.798705
END:VEVENT
BEGIN:VEVENT
DTSTART;TZID=America/New_York:20211031T120000
DTEND;TZID=America/New_York:20211101T000000
DTSTAMP:20260422T084845
CREATED:20211022T161956Z
LAST-MODIFIED:20211022T161956Z
UID:44049-1635681600-1635724800@wynwoodmiami.com
SUMMARY:Kid's Free Ice Cream Scoop
DESCRIPTION:This Halloween\, stop by Salt & Straw for one free kids scoop in a cup or sugar cone. All kids 16 and under must be dressed up in a costume!
URL:https://wynwoodmiami.com/event/kids-free-ice-cream-scoop/
LOCATION:Salt & Straw\, 246 NW 25th Street\, Miami\, FL\, 33127\, United States
CATEGORIES:Family + Community,Food + Drink
ATTACH;FMTTYPE=image/png:https://wynwoodmiami.com/wp-content/uploads/Salt-2.png
ORGANIZER;CN="Salt & Straw":MAILTO:human@saltandstraw.com
END:VEVENT
END:VCALENDAR