BEGIN:VCALENDAR
VERSION:2.0
PRODID:-//Wynwood Business Improvement District -- Miami, Florida - ECPv6.15.16//NONSGML v1.0//EN
CALSCALE:GREGORIAN
METHOD:PUBLISH
X-WR-CALNAME:Wynwood Business Improvement District -- Miami, Florida
X-ORIGINAL-URL:https://wynwoodmiami.com
X-WR-CALDESC:Events for Wynwood Business Improvement District -- Miami, Florida
REFRESH-INTERVAL;VALUE=DURATION:PT1H
X-Robots-Tag:noindex
X-PUBLISHED-TTL:PT1H
BEGIN:VTIMEZONE
TZID:America/New_York
BEGIN:DAYLIGHT
TZOFFSETFROM:-0500
TZOFFSETTO:-0400
TZNAME:EDT
DTSTART:20200308T070000
END:DAYLIGHT
BEGIN:STANDARD
TZOFFSETFROM:-0400
TZOFFSETTO:-0500
TZNAME:EST
DTSTART:20201101T060000
END:STANDARD
BEGIN:DAYLIGHT
TZOFFSETFROM:-0500
TZOFFSETTO:-0400
TZNAME:EDT
DTSTART:20210314T070000
END:DAYLIGHT
BEGIN:STANDARD
TZOFFSETFROM:-0400
TZOFFSETTO:-0500
TZNAME:EST
DTSTART:20211107T060000
END:STANDARD
BEGIN:DAYLIGHT
TZOFFSETFROM:-0500
TZOFFSETTO:-0400
TZNAME:EDT
DTSTART:20220313T070000
END:DAYLIGHT
BEGIN:STANDARD
TZOFFSETFROM:-0400
TZOFFSETTO:-0500
TZNAME:EST
DTSTART:20221106T060000
END:STANDARD
END:VTIMEZONE
BEGIN:VEVENT
DTSTART;TZID=America/New_York:20210207T173000
DTEND;TZID=America/New_York:20210207T230000
DTSTAMP:20260422T194652
CREATED:20210204T211710Z
LAST-MODIFIED:20210204T211710Z
UID:40387-1612719000-1612738800@wynwoodmiami.com
SUMMARY:The Butcher Shop Big Game Watch Party
DESCRIPTION:Join us on our outdoor patio for the Big Game! \nFood Specials: \n\n$25 Confit wing platter (3 choices of sauce and 24 wings)\n$12 Jalepeno poppers (fried crispy with ranch)\n$15 Pretzel bites (with cheese and bavarian mustard)\n$200 Fat Freddy burger (5lb patty\, cheese\, mac n’ cheese fritters\, smoked brisket\, tomatoes\, pickles and all on a locally baked bun) with a 3 liter tower of beer. feeds 8-10 people.\n\nDrink Specials: \n\n$5 pints of Bud Light\n$6 pints of Veza Sur\n$15 pitchers of Bud Light\n$18 pitchers of Veza Sur Mangolandia\n$24 Babe Rose buckets\n$18 Kona Big Wave & Yeungling beer buckets\n\n 
URL:https://wynwoodmiami.com/event/the-butcher-shop-big-game-watch-party/
LOCATION:The Butcher Shop\, 165 NW 23rd St\, Miami\, FL\, 33127\, United States
CATEGORIES:Family + Community,Food + Drink
ATTACH;FMTTYPE=image/jpeg:https://wynwoodmiami.com/wp-content/uploads/Super-butcher.jpg
END:VEVENT
BEGIN:VEVENT
DTSTART;TZID=America/New_York:20210213T173000
DTEND;TZID=America/New_York:20210213T190000
DTSTAMP:20260422T194652
CREATED:20210202T151854Z
LAST-MODIFIED:20210202T151854Z
UID:39579-1613237400-1613242800@wynwoodmiami.com
SUMMARY:To Miami\, With Love
DESCRIPTION:Miami City Ballet is coming to a neighborhood near you! From Jan 30 – Feb 22\, we will be sharing the joy of dance through a series of outdoor pop-up performances around Miami. \nAt a lineup of iconic Miami locations\, audiences will enjoy surprise and delight performances inspired by the surrounding environment. Each new work is choreographed and performed by the extraordinary MCB dancers. From classical ballet to modern to flamenco and more\, the movement and the music come together to reflect and relish the unique favors of Miami. \nThese performances are a gift to our community and a celebration of the vibrant neighborhoods that put the Magic into this global City. \nJoin us February 13 for a pop-up performance at Wynwood Walls! \nThe approximately 25 minute program will have repeat performances between 5:30 pm – 7:00 pm.\nAdvanced tickets are required for entry and may be purchased here. \nProgram includes:\nPiece 1: Choreography by Bradley Dunlap\, featuring Suzette Logue\, Jordan Elizabeth Long\, Chase Swatosh (approx 6 mins).\nPiece 2: Choreography by Alaina Andersen\, featuring Jordan Martinez\, Francisco Schilereff (approx 4.30 min).\nPiece 3: Choreography by Harrison Monaco\, featuring Adrienne Carter\, Julia Cinquemani\, Madison McDonough\, Helen Ruiz (approx 5 min).\nPiece 4: Headline choreography by Eric Trope\, featuring Alaina Andersen\, Renan Cerdeiro\, Shimon Ito\, Ashley Knox\, Alexander Peters\, Nicole Stalker (approx 11 mins).
URL:https://wynwoodmiami.com/event/to-miami-with-love/
LOCATION:Wynwood Walls\, 2520 NW 2nd Ave\, Miami\, FL\, 33127
CATEGORIES:Art,Family + Community,Music + Dance
ATTACH;FMTTYPE=image/jpeg:https://wynwoodmiami.com/wp-content/uploads/PopUp_DigitalSizesSocial-Square.jpg
ORGANIZER;CN="Miami City Ballet":MAILTO:CustomerRelations@miamicityballet.org
GEO:25.8011386;-80.1993045
X-APPLE-STRUCTURED-LOCATION;VALUE=URI;X-ADDRESS=Wynwood Walls 2520 NW 2nd Ave Miami FL 33127;X-APPLE-RADIUS=500;X-TITLE=2520 NW 2nd Ave:geo:-80.1993045,25.8011386
END:VEVENT
BEGIN:VEVENT
DTSTART;TZID=America/New_York:20210218T110000
DTEND;TZID=America/New_York:20210218T130000
DTSTAMP:20260422T194652
CREATED:20210204T214730Z
LAST-MODIFIED:20210210T200922Z
UID:40377-1613646000-1613653200@wynwoodmiami.com
SUMMARY:Wynwood BID Board Meeting
DESCRIPTION:The Wynwood BID will be holding its monthly board meeting at 11:00 am. All are welcome to attend. The meeting will be held in the Wynwood Arcade courtyard\, directly in front of Three. \nFor past meeting minutes\, visit: https://wynwoodmiami.com/learn/meeting-agenda/ \nPlease note that all health and safety guidelines have been implemented. Attendees are subject to a temperature check before entry.
URL:https://wynwoodmiami.com/event/wynwood-bid-board-meeting-11/
LOCATION:Wynwood Arcade courtyard\, 50 NW 24th Street\, Miami\, FL\, 33127\, United States
CATEGORIES:Family + Community,Learning + Enrichment
ATTACH;FMTTYPE=image/jpeg:https://wynwoodmiami.com/wp-content/uploads/dmargherite_WBID_juneboardmeeting-8622.jpg
END:VEVENT
BEGIN:VEVENT
DTSTART;TZID=America/New_York:20210221T100000
DTEND;TZID=America/New_York:20210221T110000
DTSTAMP:20260422T194652
CREATED:20210218T211508Z
LAST-MODIFIED:20220310T205639Z
UID:40495-1613901600-1613905200@wynwoodmiami.com
SUMMARY:Kids’ Weekly Drawing Class
DESCRIPTION:Learn from the pro’s! Sunday drawing session for creatives under 13 years old. For 45 minutes\, kids and families can practice techniques for bubble letters and characters. Class is free for kids with parents’ paid admission. All children must be accompanied by at least one adult in the party. \nMUST sign up through MuseumOfGraffiti.com.
URL:https://wynwoodmiami.com/event/kids-weekly-drawing-class/2021-02-21/
LOCATION:Museum of Graffiti\, 276 NW 26th Street\, Miami\, FL\, 33127\, United States
CATEGORIES:Art,Family + Community,Learning + Enrichment
ATTACH;FMTTYPE=image/jpeg:https://wynwoodmiami.com/wp-content/uploads/IMG_7728.jpg
ORGANIZER;CN="Museum of Graffiti":MAILTO:hey@museumofgraffiti.com
GEO:25.801352591042;-80.200624831512
X-APPLE-STRUCTURED-LOCATION;VALUE=URI;X-ADDRESS=Museum of Graffiti 276 NW 26th Street Miami FL 33127 United States;X-APPLE-RADIUS=500;X-TITLE=276 NW 26th Street:geo:-80.200624831512,25.801352591042
END:VEVENT
BEGIN:VEVENT
DTSTART;TZID=America/New_York:20210228T190000
DTEND;TZID=America/New_York:20210228T220000
DTSTAMP:20260422T194652
CREATED:20210218T211120Z
LAST-MODIFIED:20210218T211120Z
UID:40509-1614538800-1614549600@wynwoodmiami.com
SUMMARY:Film Screening: Beat Street Under the Stars
DESCRIPTION:Jim Beam presents “Beat Street” Under the Stars. Join us at the end of every month for Museum of Graffiti’s film series under the stars! Movie tickets include admission to the Museum along with complimentary spirits. Guests will grab a chair and are required to place it 6 feet away from the next party. Do not miss this month’s Beat Street\, a 1984 American drama dance film featuring New York City hip hop culture of the early 1980s\, breakdancing\, DJing\, and graffiti. \n1. MUST buy tickets at our website – https://www.showclix.com/event/beat-street \n2. Tickets are $25/per person which includes admission to the Museum along with complimentary spirits\, and unlimited popcorn + Jim Beam.
URL:https://wynwoodmiami.com/event/film-screening-beat-street-under-the-stars/
LOCATION:Museum of Graffiti\, 276 NW 26th Street\, Miami\, FL\, 33127\, United States
CATEGORIES:Art,Family + Community,Food + Drink,Theater + Film
ATTACH;FMTTYPE=image/jpeg:https://wynwoodmiami.com/wp-content/uploads/p6515_p_v10_aa.jpg
ORGANIZER;CN="Museum of Graffiti":MAILTO:hey@museumofgraffiti.com
GEO:25.801352591042;-80.200624831512
X-APPLE-STRUCTURED-LOCATION;VALUE=URI;X-ADDRESS=Museum of Graffiti 276 NW 26th Street Miami FL 33127 United States;X-APPLE-RADIUS=500;X-TITLE=276 NW 26th Street:geo:-80.200624831512,25.801352591042
END:VEVENT
END:VCALENDAR