BEGIN:VCALENDAR
VERSION:2.0
PRODID:-//Wynwood Business Improvement District -- Miami, Florida - ECPv6.15.16//NONSGML v1.0//EN
CALSCALE:GREGORIAN
METHOD:PUBLISH
X-ORIGINAL-URL:https://wynwoodmiami.com
X-WR-CALDESC:Events for Wynwood Business Improvement District -- Miami, Florida
REFRESH-INTERVAL;VALUE=DURATION:PT1H
X-Robots-Tag:noindex
X-PUBLISHED-TTL:PT1H
BEGIN:VTIMEZONE
TZID:America/New_York
BEGIN:DAYLIGHT
TZOFFSETFROM:-0500
TZOFFSETTO:-0400
TZNAME:EDT
DTSTART:20190310T070000
END:DAYLIGHT
BEGIN:STANDARD
TZOFFSETFROM:-0400
TZOFFSETTO:-0500
TZNAME:EST
DTSTART:20191103T060000
END:STANDARD
BEGIN:DAYLIGHT
TZOFFSETFROM:-0500
TZOFFSETTO:-0400
TZNAME:EDT
DTSTART:20200308T070000
END:DAYLIGHT
BEGIN:STANDARD
TZOFFSETFROM:-0400
TZOFFSETTO:-0500
TZNAME:EST
DTSTART:20201101T060000
END:STANDARD
BEGIN:DAYLIGHT
TZOFFSETFROM:-0500
TZOFFSETTO:-0400
TZNAME:EDT
DTSTART:20210314T070000
END:DAYLIGHT
BEGIN:STANDARD
TZOFFSETFROM:-0400
TZOFFSETTO:-0500
TZNAME:EST
DTSTART:20211107T060000
END:STANDARD
END:VTIMEZONE
BEGIN:VEVENT
DTSTART;TZID=America/New_York:20201002T110000
DTEND;TZID=America/New_York:20201002T190000
DTSTAMP:20260423T115914
CREATED:20201002T151544Z
LAST-MODIFIED:20201002T151544Z
UID:36168-1601636400-1601665200@wynwoodmiami.com
SUMMARY:Rue De Seine trunk show
DESCRIPTION:When: October 2 – 4 \nWhat is a Trunk Show: The designer will send in their full new collection – This time we are hosting Golden Rhapsody by Rue De Seine. \nPerk: Get an additional 10% off all Rue gowns and accessories this weekend only! \nHow to Book: We are by appointment only – so hop on our website and reserve your spot – appointments are limited! Due to social distancing restrictions\, we can only allow 1 guest at each appointment. \nPrice: $3\,200 – $4\,800
URL:https://wynwoodmiami.com/event/rue-de-seine-trunk-show-4/2020-10-02/
LOCATION:Lovely Bride\, 175 NW 25th Street\, Miami\, FL\, 33127\, United States
CATEGORIES:Family + Community,Fashion + Design
ATTACH;FMTTYPE=image/jpeg:https://wynwoodmiami.com/wp-content/uploads/1-5-scaled.jpg
ORGANIZER;CN="Lovely Bride":MAILTO:BIZ@LOVELYBRIDE.COM
GEO:25.8009445;-80.1985514
X-APPLE-STRUCTURED-LOCATION;VALUE=URI;X-ADDRESS=Lovely Bride 175 NW 25th Street Miami FL 33127 United States;X-APPLE-RADIUS=500;X-TITLE=175 NW 25th Street:geo:-80.1985514,25.8009445
END:VEVENT
BEGIN:VEVENT
DTSTART;TZID=America/New_York:20201017T110000
DTEND;TZID=America/New_York:20201017T190000
DTSTAMP:20260423T115914
CREATED:20201002T150635Z
LAST-MODIFIED:20201002T150635Z
UID:36139-1602932400-1602961200@wynwoodmiami.com
SUMMARY:Grand Opening of Gustavo Oviedo: Symbiosis
DESCRIPTION:Join us at the Museum of Graffiti to unveil the first look of Symbiosis on October 17\, 2020. The artist will be safely greeting collectors\, signing copies of his book and releasing a brand new print at 1:31 PM. Due to current regulations and limited availability\, guests are encouraged to reserve tickets in advance online at museumofgraffiti.com. \nTo view the Museum of Graffiti’s safety guidelines\, please click here.
URL:https://wynwoodmiami.com/event/gustavo-oviedo-symbiosis/
LOCATION:Museum of Graffiti\, 276 NW 26th Street\, Miami\, FL\, 33127\, United States
CATEGORIES:Art,Family + Community
ATTACH;FMTTYPE=image/jpeg:https://wynwoodmiami.com/wp-content/uploads/Biscayne-Sunset-detail-copy.jpeg
ORGANIZER;CN="Museum of Graffiti":MAILTO:hey@museumofgraffiti.com
GEO:25.801352591042;-80.200624831512
X-APPLE-STRUCTURED-LOCATION;VALUE=URI;X-ADDRESS=Museum of Graffiti 276 NW 26th Street Miami FL 33127 United States;X-APPLE-RADIUS=500;X-TITLE=276 NW 26th Street:geo:-80.200624831512,25.801352591042
END:VEVENT
BEGIN:VEVENT
DTSTART;TZID=America/New_York:20201019T110000
DTEND;TZID=America/New_York:20201019T130000
DTSTAMP:20260423T115914
CREATED:20201013T203851Z
LAST-MODIFIED:20201013T203851Z
UID:38020-1603105200-1603112400@wynwoodmiami.com
SUMMARY:Wynwood BID Board Meeting
DESCRIPTION:The Wynwood BID Board of Directors will be holding a virtual meeting on Monday\, October 19th at 11:00am with BID officials and staff participating via video conference. \nMembers of the public may provide public comment via voice message\, online comment form or during the public comment portion of the meeting (requires advanced registration). \nFor more information on the virtual meeting\, please click here.
URL:https://wynwoodmiami.com/event/wynwood-bid-board-meeting-9/
LOCATION:Virtual\, Miami\, FL\, United States
CATEGORIES:Family + Community,Learning + Enrichment
ATTACH;FMTTYPE=image/jpeg:https://wynwoodmiami.com/wp-content/uploads/W-logo-web.jpg
END:VEVENT
BEGIN:VEVENT
DTSTART;TZID=America/New_York:20201030T190000
DTEND;TZID=America/New_York:20201031T000000
DTSTAMP:20260423T115914
CREATED:20201026T172717Z
LAST-MODIFIED:20201026T172827Z
UID:38183-1604084400-1604102400@wynwoodmiami.com
SUMMARY:Grails Halloween Party: Invasion of the Sneakerheadz
DESCRIPTION:Wynwood-based sports bar will celebrate Halloween in style with Invasion of the Sneakerheadz from October 30th to 31st. \nWynwood’s beloved sneaker themed sports lounge will be taking this Halloween to the next level with the Invasion of the Sneakerheadz. A two day celebration taking place Friday\, October 30th to Saturday\, October 31st\, that’s inspired by the merging of sneaker culture and everyone’s favorite scary holiday\, Halloween. It’s a world where freaky\, trendy and sexy will come together with an eerie twist. Sneakerheadz are taking over the world and only those with cool kicks are bound to survive this invasion. \nGrails Miami will be encouraging patrons to dress to impress — especially when it comes to their kicks. There will be cash prizes equaling up to $1\,000 for best costumes in the following categories: Most Creative\, Best Group Costume\, Sexiest Costume\, Best Male\, and Best Female. Winners will be announced throughout the evening. \nThe two day celebration will be filled with spooky libations for all including Halloween-themed craft cocktails and large-format punch bowls\, as well as bottle packages. \nInvasion of the Sneakerheadz will feature live music and entertainment. Keeping true to Wynwood’s artistic aesthetic\, local artists will be on-site creating live canvas paintings that will be raffled and taken home by lucky winners upon completion. There will also be a live body painting exhibition during the festivities. For those looking to join in on the action there will be a contactless airbrush experience with a local face painter and make-up artist for those looking for a last minute Halloween costume upgrade. On Friday\, DJ Epps\, A Haitian-American DJ from the Miami radio station 103.5 The Beat\, will be spinning alongside DJ ALLDayK\, Miami DJ and producer. On Saturday\, ALLDayK will return this time with nightclub headliner\, K-Razor. \nThe safety of Grails Miami’s employees and guests is the number one priority. Safety protocols have been put into place to ensure all CDC regulations are being followed. Masks will be worn at all times by staff members and customers are expected to wear their masks\, except when seated at the table. All tables will be spaced 6-feet apart. Contactless menus will be found on each table as QR codes featuring all of the day’s special offerings as well as the regular menu. \nDue to limited capacity\, reservations are highly encouraged. For more information and to make a reservation\, visit www.grailsmiami.com.
URL:https://wynwoodmiami.com/event/grails-halloween-party-invasion-of-the-sneakerheadz/
LOCATION:Grails\, 2800 North Miami Avenue\, Miami\, FL\, 33127\, United States
CATEGORIES:Family + Community,Food + Drink,Music + Dance
ATTACH;FMTTYPE=image/png:https://wynwoodmiami.com/wp-content/uploads/event_dia_f-1.png
ORGANIZER;CN="Grails":MAILTO:info@grailssportsbar.com
GEO:25.80327;-80.19521
X-APPLE-STRUCTURED-LOCATION;VALUE=URI;X-ADDRESS=Grails 2800 North Miami Avenue Miami FL 33127 United States;X-APPLE-RADIUS=500;X-TITLE=2800 North Miami Avenue:geo:-80.19521,25.80327
END:VEVENT
BEGIN:VEVENT
DTSTART;TZID=America/New_York:20201031T190000
DTEND;TZID=America/New_York:20201101T000000
DTSTAMP:20260423T115914
CREATED:20201026T172717Z
LAST-MODIFIED:20201026T172816Z
UID:38187-1604170800-1604188800@wynwoodmiami.com
SUMMARY:Grails Halloween Party: Invasion of the Sneakerheadz
DESCRIPTION:Wynwood-based sports bar will celebrate Halloween in style with Invasion of the Sneakerheadz from October 30th to 31st. \nWynwood’s beloved sneaker themed sports lounge will be taking this Halloween to the next level with the Invasion of the Sneakerheadz. A two day celebration taking place Friday\, October 30th to Saturday\, October 31st\, that’s inspired by the merging of sneaker culture and everyone’s favorite scary holiday\, Halloween. It’s a world where freaky\, trendy and sexy will come together with an eerie twist. Sneakerheadz are taking over the world and only those with cool kicks are bound to survive this invasion. \nGrails Miami will be encouraging patrons to dress to impress — especially when it comes to their kicks. There will be cash prizes equaling up to $1\,000 for best costumes in the following categories: Most Creative\, Best Group Costume\, Sexiest Costume\, Best Male\, and Best Female. Winners will be announced throughout the evening. \nThe two day celebration will be filled with spooky libations for all including Halloween-themed craft cocktails and large-format punch bowls\, as well as bottle packages. \nInvasion of the Sneakerheadz will feature live music and entertainment. Keeping true to Wynwood’s artistic aesthetic\, local artists will be on-site creating live canvas paintings that will be raffled and taken home by lucky winners upon completion. There will also be a live body painting exhibition during the festivities. For those looking to join in on the action there will be a contactless airbrush experience with a local face painter and make-up artist for those looking for a last minute Halloween costume upgrade. On Friday\, DJ Epps\, A Haitian-American DJ from the Miami radio station 103.5 The Beat\, will be spinning alongside DJ ALLDayK\, Miami DJ and producer. On Saturday\, ALLDayK will return this time with nightclub headliner\, K-Razor. \nThe safety of Grails Miami’s employees and guests is the number one priority. Safety protocols have been put into place to ensure all CDC regulations are being followed. Masks will be worn at all times by staff members and customers are expected to wear their masks\, except when seated at the table. All tables will be spaced 6-feet apart. Contactless menus will be found on each table as QR codes featuring all of the day’s special offerings as well as the regular menu. \nDue to limited capacity\, reservations are highly encouraged. For more information and to make a reservation\, visit www.grailsmiami.com.
URL:https://wynwoodmiami.com/event/grails-halloween-party-invasion-of-the-sneakerheadz-2020-10-31/2020-10-31/
LOCATION:Grails\, 2800 North Miami Avenue\, Miami\, FL\, 33127\, United States
CATEGORIES:Family + Community,Food + Drink,Music + Dance
ATTACH;FMTTYPE=image/png:https://wynwoodmiami.com/wp-content/uploads/event_dia_f-1.png
ORGANIZER;CN="Grails":MAILTO:info@grailssportsbar.com
GEO:25.80327;-80.19521
X-APPLE-STRUCTURED-LOCATION;VALUE=URI;X-ADDRESS=Grails 2800 North Miami Avenue Miami FL 33127 United States;X-APPLE-RADIUS=500;X-TITLE=2800 North Miami Avenue:geo:-80.19521,25.80327
END:VEVENT
END:VCALENDAR