BEGIN:VCALENDAR
VERSION:2.0
PRODID:-//Wynwood Business Improvement District -- Miami, Florida - ECPv6.15.16//NONSGML v1.0//EN
CALSCALE:GREGORIAN
METHOD:PUBLISH
X-WR-CALNAME:Wynwood Business Improvement District -- Miami, Florida
X-ORIGINAL-URL:https://wynwoodmiami.com
X-WR-CALDESC:Events for Wynwood Business Improvement District -- Miami, Florida
REFRESH-INTERVAL;VALUE=DURATION:PT1H
X-Robots-Tag:noindex
X-PUBLISHED-TTL:PT1H
BEGIN:VTIMEZONE
TZID:America/New_York
BEGIN:DAYLIGHT
TZOFFSETFROM:-0500
TZOFFSETTO:-0400
TZNAME:EDT
DTSTART:20190310T070000
END:DAYLIGHT
BEGIN:STANDARD
TZOFFSETFROM:-0400
TZOFFSETTO:-0500
TZNAME:EST
DTSTART:20191103T060000
END:STANDARD
BEGIN:DAYLIGHT
TZOFFSETFROM:-0500
TZOFFSETTO:-0400
TZNAME:EDT
DTSTART:20200308T070000
END:DAYLIGHT
BEGIN:STANDARD
TZOFFSETFROM:-0400
TZOFFSETTO:-0500
TZNAME:EST
DTSTART:20201101T060000
END:STANDARD
BEGIN:DAYLIGHT
TZOFFSETFROM:-0500
TZOFFSETTO:-0400
TZNAME:EDT
DTSTART:20210314T070000
END:DAYLIGHT
BEGIN:STANDARD
TZOFFSETFROM:-0400
TZOFFSETTO:-0500
TZNAME:EST
DTSTART:20211107T060000
END:STANDARD
END:VTIMEZONE
BEGIN:VEVENT
DTSTART;TZID=America/New_York:20200812T110000
DTEND;TZID=America/New_York:20200812T130000
DTSTAMP:20260423T145728
CREATED:20200806T150220Z
LAST-MODIFIED:20200806T150220Z
UID:35588-1597230000-1597237200@wynwoodmiami.com
SUMMARY:Wynwood BID Board Meeting
DESCRIPTION:The Wynwood BID Board of Directors will be holding a virtual meeting on Wednesday\, August 12th at 11:00am with BID officials and staff participating via video conference. \nMembers of the public may provide public comment via voice message\, online comment form or during the public comment portion of the meeting (requires advanced registration). \nFor more information on the virtual meeting\, please visit: www.wynwoodmiami.com/virtualmeeting. \nFor the agenda or past meeting minutes\, visit: https://wynwoodmiami.com/learn/meeting-agenda/
URL:https://wynwoodmiami.com/event/wynwood-bid-board-meeting-6/
LOCATION:Wynwood BID Office\, 2751 North Miami Ave Suite #3\, Miami\, FL\, 33127\, United States
CATEGORIES:Family + Community,Learning + Enrichment
ATTACH;FMTTYPE=image/jpeg:https://wynwoodmiami.com/wp-content/uploads/W-logo-web.jpg
GEO:25.802871;-80.194813
X-APPLE-STRUCTURED-LOCATION;VALUE=URI;X-ADDRESS=Wynwood BID Office 2751 North Miami Ave Suite #3 Miami FL 33127 United States;X-APPLE-RADIUS=500;X-TITLE=2751 North Miami Ave Suite #3:geo:-80.194813,25.802871
END:VEVENT
BEGIN:VEVENT
DTSTART;TZID=America/New_York:20200827T110000
DTEND;TZID=America/New_York:20200827T130000
DTSTAMP:20260423T145728
CREATED:20200819T154115Z
LAST-MODIFIED:20200819T154115Z
UID:35682-1598526000-1598533200@wynwoodmiami.com
SUMMARY:Wynwood BID Board Meeting
DESCRIPTION:The Wynwood BID Board of Directors will be holding a virtual meeting on Thursday\, August 27th at 11:00am with BID officials and staff participating via video conference. \nMembers of the public may provide public comment via voice message\, online comment form or during the public comment portion of the meeting (requires advanced registration). \nFor more information on the virtual meeting\, please click here.
URL:https://wynwoodmiami.com/event/wynwood-bid-board-meeting-7/
LOCATION:Wynwood BID Office\, 2751 North Miami Ave Suite #3\, Miami\, FL\, 33127\, United States
CATEGORIES:Family + Community,Learning + Enrichment
ATTACH;FMTTYPE=image/jpeg:https://wynwoodmiami.com/wp-content/uploads/W-logo-web.jpg
GEO:25.802871;-80.194813
X-APPLE-STRUCTURED-LOCATION;VALUE=URI;X-ADDRESS=Wynwood BID Office 2751 North Miami Ave Suite #3 Miami FL 33127 United States;X-APPLE-RADIUS=500;X-TITLE=2751 North Miami Ave Suite #3:geo:-80.194813,25.802871
END:VEVENT
END:VCALENDAR