BEGIN:VCALENDAR
VERSION:2.0
PRODID:-//Wynwood Business Improvement District -- Miami, Florida - ECPv6.15.16//NONSGML v1.0//EN
CALSCALE:GREGORIAN
METHOD:PUBLISH
X-WR-CALNAME:Wynwood Business Improvement District -- Miami, Florida
X-ORIGINAL-URL:https://wynwoodmiami.com
X-WR-CALDESC:Events for Wynwood Business Improvement District -- Miami, Florida
REFRESH-INTERVAL;VALUE=DURATION:PT1H
X-Robots-Tag:noindex
X-PUBLISHED-TTL:PT1H
BEGIN:VTIMEZONE
TZID:America/New_York
BEGIN:DAYLIGHT
TZOFFSETFROM:-0500
TZOFFSETTO:-0400
TZNAME:EDT
DTSTART:20190310T070000
END:DAYLIGHT
BEGIN:STANDARD
TZOFFSETFROM:-0400
TZOFFSETTO:-0500
TZNAME:EST
DTSTART:20191103T060000
END:STANDARD
BEGIN:DAYLIGHT
TZOFFSETFROM:-0500
TZOFFSETTO:-0400
TZNAME:EDT
DTSTART:20200308T070000
END:DAYLIGHT
BEGIN:STANDARD
TZOFFSETFROM:-0400
TZOFFSETTO:-0500
TZNAME:EST
DTSTART:20201101T060000
END:STANDARD
BEGIN:DAYLIGHT
TZOFFSETFROM:-0500
TZOFFSETTO:-0400
TZNAME:EDT
DTSTART:20210314T070000
END:DAYLIGHT
BEGIN:STANDARD
TZOFFSETFROM:-0400
TZOFFSETTO:-0500
TZNAME:EST
DTSTART:20211107T060000
END:STANDARD
END:VTIMEZONE
BEGIN:VEVENT
DTSTART;TZID=America/New_York:20200306T110000
DTEND;TZID=America/New_York:20200306T190000
DTSTAMP:20260423T220427
CREATED:20200130T214004Z
LAST-MODIFIED:20200130T214650Z
UID:32008-1583492400-1583521200@wynwoodmiami.com
SUMMARY:Rime Aroaky Trunk Show
DESCRIPTION:What: Rime Aroaky’s full Stardust Collection will be coming from Paris to Miami for one weekend only!\nFind your perfect Rime gown and get an extra 10% off! \nWhen: March 6 – March 8 \nTo do: Book your appointment online or give us a call as spots are limited!
URL:https://wynwoodmiami.com/event/rime-aroaky-trunk-show/
LOCATION:Lovely Bride\, 175 NW 25th Street\, Miami\, FL\, 33127\, United States
CATEGORIES:Family + Community,Fashion + Design
ATTACH;FMTTYPE=image/jpeg:https://wynwoodmiami.com/wp-content/uploads/Aston.jpg
ORGANIZER;CN="Lovely Bride":MAILTO:BIZ@LOVELYBRIDE.COM
GEO:25.8009445;-80.1985514
X-APPLE-STRUCTURED-LOCATION;VALUE=URI;X-ADDRESS=Lovely Bride 175 NW 25th Street Miami FL 33127 United States;X-APPLE-RADIUS=500;X-TITLE=175 NW 25th Street:geo:-80.1985514,25.8009445
END:VEVENT
BEGIN:VEVENT
DTSTART;TZID=America/New_York:20200307T100000
DTEND;TZID=America/New_York:20200307T180000
DTSTAMP:20260423T220427
CREATED:20200130T214004Z
LAST-MODIFIED:20200130T214740Z
UID:32036-1583575200-1583604000@wynwoodmiami.com
SUMMARY:Rime Aroaky Trunk Show
DESCRIPTION:What: Rime Aroaky’s full Stardust Collection will be coming from Paris to Miami for one weekend only!\nFind your perfect Rime gown and get an extra 10% off! \nWhen: March 6 – March 8 \nTo do: Book your appointment online or give us a call as spots are limited!
URL:https://wynwoodmiami.com/event/rime-aroaky-trunk-show-2020-03-07/
LOCATION:Lovely Bride\, 175 NW 25th Street\, Miami\, FL\, 33127\, United States
CATEGORIES:Family + Community,Fashion + Design
ATTACH;FMTTYPE=image/jpeg:https://wynwoodmiami.com/wp-content/uploads/Aston.jpg
ORGANIZER;CN="Lovely Bride":MAILTO:BIZ@LOVELYBRIDE.COM
GEO:25.8009445;-80.1985514
X-APPLE-STRUCTURED-LOCATION;VALUE=URI;X-ADDRESS=Lovely Bride 175 NW 25th Street Miami FL 33127 United States;X-APPLE-RADIUS=500;X-TITLE=175 NW 25th Street:geo:-80.1985514,25.8009445
END:VEVENT
BEGIN:VEVENT
DTSTART;TZID=America/New_York:20200307T160000
DTEND;TZID=America/New_York:20200307T200000
DTSTAMP:20260423T220427
CREATED:20200305T145736Z
LAST-MODIFIED:20200305T145736Z
UID:32870-1583596800-1583611200@wynwoodmiami.com
SUMMARY:HypeCentral X Grails Takeover
DESCRIPTION:HypeCentral’s pre event kick off is going down this weekend!\n3/6: Join us as the Miami HEAT take on the NOLA Pelicans at 8PM.\n3/7: Stop by from 4PM – 8PM and get a taste of what HypeCentral has to offer. There will be vendors\, giveaways\, raffles\, food\, drinks & more!
URL:https://wynwoodmiami.com/event/hypecentral-x-grails-takeover/
LOCATION:Grails\, 2800 North Miami Avenue\, Miami\, FL\, 33127\, United States
CATEGORIES:Art,Family + Community,Fashion + Design,Festivals + Markets,Food + Drink
ATTACH;FMTTYPE=image/jpeg:https://wynwoodmiami.com/wp-content/uploads/grails-hype.jpg
ORGANIZER;CN="Grails":MAILTO:info@grailssportsbar.com
GEO:25.80327;-80.19521
X-APPLE-STRUCTURED-LOCATION;VALUE=URI;X-ADDRESS=Grails 2800 North Miami Avenue Miami FL 33127 United States;X-APPLE-RADIUS=500;X-TITLE=2800 North Miami Avenue:geo:-80.19521,25.80327
END:VEVENT
BEGIN:VEVENT
DTSTART;TZID=America/New_York:20200308T100000
DTEND;TZID=America/New_York:20200308T180000
DTSTAMP:20260423T220427
CREATED:20200130T214004Z
LAST-MODIFIED:20200130T214733Z
UID:32037-1583661600-1583690400@wynwoodmiami.com
SUMMARY:Rime Aroaky Trunk Show
DESCRIPTION:What: Rime Aroaky’s full Stardust Collection will be coming from Paris to Miami for one weekend only!\nFind your perfect Rime gown and get an extra 10% off! \nWhen: March 6 – March 8 \nTo do: Book your appointment online or give us a call as spots are limited!
URL:https://wynwoodmiami.com/event/rime-aroaky-trunk-show-2020-03-08/2020-03-08/
LOCATION:Lovely Bride\, 175 NW 25th Street\, Miami\, FL\, 33127\, United States
CATEGORIES:Family + Community,Fashion + Design
ATTACH;FMTTYPE=image/jpeg:https://wynwoodmiami.com/wp-content/uploads/Aston.jpg
ORGANIZER;CN="Lovely Bride":MAILTO:BIZ@LOVELYBRIDE.COM
GEO:25.8009445;-80.1985514
X-APPLE-STRUCTURED-LOCATION;VALUE=URI;X-ADDRESS=Lovely Bride 175 NW 25th Street Miami FL 33127 United States;X-APPLE-RADIUS=500;X-TITLE=175 NW 25th Street:geo:-80.1985514,25.8009445
END:VEVENT
BEGIN:VEVENT
DTSTART;TZID=America/New_York:20200308T140000
DTEND;TZID=America/New_York:20200308T180000
DTSTAMP:20260423T220427
CREATED:20200303T204120Z
LAST-MODIFIED:20200303T204120Z
UID:32838-1583676000-1583690400@wynwoodmiami.com
SUMMARY:International Women's Day
DESCRIPTION:We are rolling out a special Drink Like A Woman event to celebrate International Women’s Day at every Suviche location on Sunday\, March 8. Ladies dressed in their Sunday’s purple best (think purple tops\, pants\, and dresses!) can indulge in FREE DRINKS from 2-6pm\, all while swaying to the beats of our awesome female DJ’s at select locations. \nPlus\, those who strike the #EachForEqual pose on the ‘Gram and tag @suviche will receive a $10 gift card to use during their next visit! \nTo give back to the community\, we are also donating 5% of all sales that day to the Women in Distress organization. \nLive Female DJ
URL:https://wynwoodmiami.com/event/international-womens-day-2/
LOCATION:SuViche Wynwood\, 2751 N Miami Ave\, Miami\, FL\, 33127\, United States
CATEGORIES:Family + Community,Food + Drink,Music + Dance
ATTACH;FMTTYPE=image/jpeg:https://wynwoodmiami.com/wp-content/uploads/FB-event-page.jpeg
GEO:25.802886;-80.1948
X-APPLE-STRUCTURED-LOCATION;VALUE=URI;X-ADDRESS=SuViche Wynwood 2751 N Miami Ave Miami FL 33127 United States;X-APPLE-RADIUS=500;X-TITLE=2751 N Miami Ave:geo:-80.1948,25.802886
END:VEVENT
BEGIN:VEVENT
DTSTART;TZID=America/New_York:20200308T170000
DTEND;TZID=America/New_York:20200308T203000
DTSTAMP:20260423T220427
CREATED:20200305T150207Z
LAST-MODIFIED:20200305T150207Z
UID:32873-1583686800-1583699400@wynwoodmiami.com
SUMMARY:USA vs ESP Watch Party
DESCRIPTION:Watch the USA take on Spain at Grails with drink specials and delicious food!
URL:https://wynwoodmiami.com/event/usa-vs-esp-watch-party/
LOCATION:Grails\, 2800 North Miami Avenue\, Miami\, FL\, 33127\, United States
CATEGORIES:Family + Community
ATTACH;FMTTYPE=image/jpeg:https://wynwoodmiami.com/wp-content/uploads/grails-usa.jpg
ORGANIZER;CN="Grails":MAILTO:info@grailssportsbar.com
GEO:25.80327;-80.19521
X-APPLE-STRUCTURED-LOCATION;VALUE=URI;X-ADDRESS=Grails 2800 North Miami Avenue Miami FL 33127 United States;X-APPLE-RADIUS=500;X-TITLE=2800 North Miami Avenue:geo:-80.19521,25.80327
END:VEVENT
BEGIN:VEVENT
DTSTART;TZID=America/New_York:20200309T200000
DTEND;TZID=America/New_York:20200309T233000
DTSTAMP:20260423T220427
CREATED:20200305T150801Z
LAST-MODIFIED:20200305T150801Z
UID:32876-1583784000-1583796600@wynwoodmiami.com
SUMMARY:The Bachelor Finale Viewing Party
DESCRIPTION:Celebrate the finale of Peter’s journey to find love with a welcome glass of champagne and truffle popcorn. \nEnhance your viewing pleasure with: \n• Additional themed drinks and food specials \n• Games with prizes & photo booth \n• Free glass of Rose
URL:https://wynwoodmiami.com/event/the-bachelor-finale-viewing-party/
LOCATION:Grails\, 2800 North Miami Avenue\, Miami\, FL\, 33127\, United States
CATEGORIES:Family + Community,Food + Drink
ATTACH;FMTTYPE=image/jpeg:https://wynwoodmiami.com/wp-content/uploads/bachelor.jpg
ORGANIZER;CN="Grails":MAILTO:info@grailssportsbar.com
GEO:25.80327;-80.19521
X-APPLE-STRUCTURED-LOCATION;VALUE=URI;X-ADDRESS=Grails 2800 North Miami Avenue Miami FL 33127 United States;X-APPLE-RADIUS=500;X-TITLE=2800 North Miami Avenue:geo:-80.19521,25.80327
END:VEVENT
BEGIN:VEVENT
DTSTART;TZID=America/New_York:20200311T110000
DTEND;TZID=America/New_York:20200311T133000
DTSTAMP:20260423T220427
CREATED:20190821T184223Z
LAST-MODIFIED:20200303T200330Z
UID:27096-1583924400-1583933400@wynwoodmiami.com
SUMMARY:Wynwood BID Board Meeting
DESCRIPTION:The Wynwood BID will be holding its monthly board meeting at 11:00 am. All are welcome to attend. For the agenda or past meeting minutes\, visit: https://wynwoodmiami.com/learn/meeting-agenda/
URL:https://wynwoodmiami.com/event/wynwood-bid-board-meeting-3-2020-03-11/
LOCATION:WeWork Wynwood Garage\, 360 Northwest 27 Street\, Miami\, FL\, 33127\, United States
CATEGORIES:Family + Community,Learning + Enrichment
ATTACH;FMTTYPE=image/jpeg:https://wynwoodmiami.com/wp-content/uploads/dmargherite_WBID_juneboardmeeting-8622.jpg
END:VEVENT
END:VCALENDAR