BEGIN:VCALENDAR
VERSION:2.0
PRODID:-//Wynwood Business Improvement District -- Miami, Florida - ECPv6.15.16//NONSGML v1.0//EN
CALSCALE:GREGORIAN
METHOD:PUBLISH
X-ORIGINAL-URL:https://wynwoodmiami.com
X-WR-CALDESC:Events for Wynwood Business Improvement District -- Miami, Florida
REFRESH-INTERVAL;VALUE=DURATION:PT1H
X-Robots-Tag:noindex
X-PUBLISHED-TTL:PT1H
BEGIN:VTIMEZONE
TZID:America/New_York
BEGIN:DAYLIGHT
TZOFFSETFROM:-0500
TZOFFSETTO:-0400
TZNAME:EDT
DTSTART:20190310T070000
END:DAYLIGHT
BEGIN:STANDARD
TZOFFSETFROM:-0400
TZOFFSETTO:-0500
TZNAME:EST
DTSTART:20191103T060000
END:STANDARD
BEGIN:DAYLIGHT
TZOFFSETFROM:-0500
TZOFFSETTO:-0400
TZNAME:EDT
DTSTART:20200308T070000
END:DAYLIGHT
BEGIN:STANDARD
TZOFFSETFROM:-0400
TZOFFSETTO:-0500
TZNAME:EST
DTSTART:20201101T060000
END:STANDARD
BEGIN:DAYLIGHT
TZOFFSETFROM:-0500
TZOFFSETTO:-0400
TZNAME:EDT
DTSTART:20210314T070000
END:DAYLIGHT
BEGIN:STANDARD
TZOFFSETFROM:-0400
TZOFFSETTO:-0500
TZNAME:EST
DTSTART:20211107T060000
END:STANDARD
END:VTIMEZONE
BEGIN:VEVENT
DTSTART;TZID=America/New_York:20200202T100000
DTEND;TZID=America/New_York:20200202T210000
DTSTAMP:20260423T232530
CREATED:20200130T160437Z
LAST-MODIFIED:20200130T160437Z
UID:31988-1580637600-1580677200@wynwoodmiami.com
SUMMARY:Big Game at Fun Dimension
DESCRIPTION:Want to watch the Big Game while keeping the kids entertained? Let the kids play at our indoor arcade while you enjoy the action on the field. On Big Game Sunday\, we’ll have a special deal: nachos and a pitcher of beer for $19.99.
URL:https://wynwoodmiami.com/event/big-game-at-fun-dimension/
LOCATION:FunDimension\, 2129 NW 1st Court\, Miami\, FL\, 33127\, United States
CATEGORIES:Family + Community,Food + Drink
ATTACH;FMTTYPE=image/jpeg:https://wynwoodmiami.com/wp-content/uploads/FunDimenstionSept19-6610.jpg
ORGANIZER;CN="FunDimension":MAILTO:info@fundimensionusa.com
END:VEVENT
BEGIN:VEVENT
DTSTART;TZID=America/New_York:20200202T120000
DTEND;TZID=America/New_York:20200202T150000
DTSTAMP:20260423T232530
CREATED:20200123T153507Z
LAST-MODIFIED:20200123T153507Z
UID:31305-1580644800-1580655600@wynwoodmiami.com
SUMMARY:Big Game Brunch
DESCRIPTION:Join us for the best brunch in Wynwood at Grails from 12 pm – 3 pm \nBrunch Drink Menu – $14 \nGrape Spritz – Effen Vodka\, Grai’t\, Muscatel Cordial\, Lemon\, Prosecco\, Frozen Grapes \nPassion Fruit Aperol Frizz – Effen Vodka\, Aperol\, Passion Fruit\, Citrus Blend\, Prosecco \nBloody Mary – Ilegal Mezcal\, Homemade Bloody Mary Mix\, Sazon \nFrose – Effen Vodka\, Rose Wine\, Citrus\, Rose Water Mist \nGreen Juice – Effen Vodka\, Granny Smith Apple\, Cucumber\, Spinach\, Ginger\, Kale\, Lime\, Green Chartreuse \nBottomless Mimosas $22 \nBrunch Food Menu \nCrispy Tater Tots $7\nHousemade Dry Rub & Grails Sauce \nApplewood Smoked Bacon $6\nSmoked Maple Syrup & Flakey Sea Salt \nGridded Pancakes $12\nButtermilk\, Warm Maple Syrup & Vanilla Butter \nBrioche French Toast $11\nVanilla Butter\, Grade A Maple Syrup & Berries \nTruffled Egg Sandwich $12\nBrioche Bun\, Chive Scrambled Eggs\, Applewood Bacon & Black Truffle Fondue \nHot Chicken & Pancakes $18\nTwice Fried Chicken\, Hot Sauce Maple\, Buttermilk Pancakes & Applewood Bacon \nBrunch Burger $17\nHalf Pound Angus Patty\, Cheddar\, Sunny Side Up Egg\, Crispy Onions & Black Truffle Ranch
URL:https://wynwoodmiami.com/event/big-game-brunch/
LOCATION:Grails Sports Bar\, 2800 North Miami Avenue\, Miami\, FL\, 33127\, United States
CATEGORIES:Family + Community,Food + Drink
ATTACH;FMTTYPE=image/jpeg:https://wynwoodmiami.com/wp-content/uploads/Brunch-Social-19-scaled.jpg
ORGANIZER;CN="Grails Sports Bar":MAILTO:hello@grailssportsbar.com
GEO:25.803195;-80.1952
X-APPLE-STRUCTURED-LOCATION;VALUE=URI;X-ADDRESS=Grails Sports Bar 2800 North Miami Avenue Miami FL 33127 United States;X-APPLE-RADIUS=500;X-TITLE=2800 North Miami Avenue:geo:-80.1952,25.803195
END:VEVENT
BEGIN:VEVENT
DTSTART;TZID=America/New_York:20200202T120000
DTEND;TZID=America/New_York:20200203T010000
DTSTAMP:20260423T232530
CREATED:20200122T145756Z
LAST-MODIFIED:20200122T145756Z
UID:31115-1580644800-1580691600@wynwoodmiami.com
SUMMARY:Super Sunday
DESCRIPTION:There’s nothing like Big Game Sunday at Grails! Take in the biggest game of the year on our 70+ TVs! Watch the game in either our sneaker-themed dining area or the “Miami Vice” outdoor patio. Reserve your package containing an Ultra-Premium Open Bar & Gourmet Buffet curated by “Chopped” winner Giorgio Rapicavoli today! \nGrails Package\nPricing: $150 per person + tax & gratuity \nOpen Bar Liquor brands include: Johnnie Walker\, Don Julio Tequila\, Zacapa Rum\, Bulleit Bourbon\, Ciroc Vodka\, and Tanqueray No. 10 Gin \nVIP Packages\n»VIP 10 person table: $3\,000\nIncludes:\n· Includes Ultra Premium Open Bar from 6:30 pm until final whistle.\n· Includes Premium Food Buffet\n· Premium Open Bar Brands include: Johnnie Walker\, Don Julio\, Zacapa Rum\, Tanqueray No. 10 Gin\, Bulleit Bourbon\, Ciroc Vodka and more\n· Any 4 bottles from the premium liquor brands for the table\n· 1 bottle of champagne\n· VIP Seating\n· Dedicated server \n»VIP 15 person table: $4\,500\nIncludes:\n· Includes Ultra Premium Open Bar from 6:30 pm until final whistle.\n· Includes Premium Food Buffet\n· Premium Open Bar Brands include: Johnnie Walker\, Don Julio\, Zacapa Rum\, Tanqueray No. 10 Gin\, Bulleit Bourbon\, Ciroc Vodka and more\n· Any 6 bottles from the premium liquor brands for the table\n· 2 bottles of champagne\n· VIP Seating\n· Dedicated server \n»VIP 20 person table: $6\,000\nIncludes:\n· Includes Ultra Premium Open Bar from 6:30 pm until final whistle.\n· Includes Premium Food Buffet\n· Premium Open Bar Brands include: Johnnie Walker\, Don Julio\, Zacapa Rum\, Tanqueray No. 10 Gin\, Bulleit Bourbon\, Ciroc Vodka and more\n· Any 8 bottles from the premium liquor brands for the table\n· 3 bottles of champagne\n· VIP Seating\n· Dedicated server \nAddress: Grails\, 2800 N Miami Ave\, Miami\, FL 33127 (Get Directions)\nThe team: Chef Giorgio Rapicavoli (a James Beard award semifinalist and “Chopped” winner) with cocktails by the talented\, award-winning Cocktail Cartel group. \nPurchase Tickets at http://grailsmiami.com/superbowl/
URL:https://wynwoodmiami.com/event/super-sunday-2/
LOCATION:Grails Sports Bar\, 2800 North Miami Avenue\, Miami\, FL\, 33127\, United States
CATEGORIES:Family + Community,Food + Drink
ATTACH;FMTTYPE=image/jpeg:https://wynwoodmiami.com/wp-content/uploads/grails-sb-scaled.jpg
ORGANIZER;CN="Grails Sports Bar":MAILTO:hello@grailssportsbar.com
GEO:25.803195;-80.1952
X-APPLE-STRUCTURED-LOCATION;VALUE=URI;X-ADDRESS=Grails Sports Bar 2800 North Miami Avenue Miami FL 33127 United States;X-APPLE-RADIUS=500;X-TITLE=2800 North Miami Avenue:geo:-80.1952,25.803195
END:VEVENT
BEGIN:VEVENT
DTSTART;TZID=America/New_York:20200207T110000
DTEND;TZID=America/New_York:20200207T190000
DTSTAMP:20260423T232530
CREATED:20200109T180438Z
LAST-MODIFIED:20200109T180438Z
UID:30971-1581073200-1581102000@wynwoodmiami.com
SUMMARY:Rue De Seine Trunk Show
DESCRIPTION:What: Rue De Seine Moonrise Canyon\nDuring the Trunk Show get an additional 10% off your gown! \nWhen: Feb 7 – February 9 2020 \nDetails: Book your appointment online as spots are limited. You can book online or give us a call to reserve your spot. \nAbout: Rue De Seine is the bohemian queen! Every lace used in a Rue de Seine gown is designed in-house and is exclusive to Rue de Seine\, ensuring Michele and her Design Team can continue to create unique\, fashion forward gowns that embody the bohemian spirit and set Rue apart from the rest of the bridal world.
URL:https://wynwoodmiami.com/event/rue-de-seine-trunk-show-3/2020-02-07/
LOCATION:Lovely Bride\, 175 NW 25th Street\, Miami\, FL\, 33127\, United States
CATEGORIES:Family + Community,Fashion + Design
ATTACH;FMTTYPE=image/jpeg:https://wynwoodmiami.com/wp-content/uploads/ARIZONA_0361-4-1-scaled.jpg
ORGANIZER;CN="Lovely Bride":MAILTO:BIZ@LOVELYBRIDE.COM
GEO:25.8009445;-80.1985514
X-APPLE-STRUCTURED-LOCATION;VALUE=URI;X-ADDRESS=Lovely Bride 175 NW 25th Street Miami FL 33127 United States;X-APPLE-RADIUS=500;X-TITLE=175 NW 25th Street:geo:-80.1985514,25.8009445
END:VEVENT
BEGIN:VEVENT
DTSTART;TZID=America/New_York:20200207T120000
DTEND;TZID=America/New_York:20200207T190000
DTSTAMP:20260423T232530
CREATED:20191118T193213Z
LAST-MODIFIED:20191118T193213Z
UID:28403-1581076800-1581102000@wynwoodmiami.com
SUMMARY:Life Time Miami Marathon & Half Marathon Expo
DESCRIPTION:The Life Time Miami Marathon & Half Marathon Expo promises to provide the best opportunity to promote and market your company’s products and services in South Florida. The Expo is held in conjunction with the Life Time Miami Marathon & Half Marathon with an expected 40\,000 visitors to this two-day event. \nThe Expo will serve as the pickup location for race numbers\, T-shirts and goody bags for all participants. Participants must visit the Expo to pick up their bib numbers\, as there is no race-day pickup. The Expo is free and open to the general public.
URL:https://wynwoodmiami.com/event/life-time-miami-marathon-half-marathon-expo/2020-02-07/
LOCATION:Mana Wynwood\, 318 NW 23rd St\, Miami\, FL\, 33127\, United States
CATEGORIES:Family + Community,Food + Drink,Health + Fitness
ATTACH;FMTTYPE=image/png:https://wynwoodmiami.com/wp-content/uploads/Miami-expo.png
GEO:25.7982206;-80.2019551
X-APPLE-STRUCTURED-LOCATION;VALUE=URI;X-ADDRESS=Mana Wynwood 318 NW 23rd St Miami FL 33127 United States;X-APPLE-RADIUS=500;X-TITLE=318 NW 23rd St:geo:-80.2019551,25.7982206
END:VEVENT
BEGIN:VEVENT
DTSTART;TZID=America/New_York:20200219T110000
DTEND;TZID=America/New_York:20200219T133000
DTSTAMP:20260423T232530
CREATED:20190821T184223Z
LAST-MODIFIED:20200207T170131Z
UID:27095-1582110000-1582119000@wynwoodmiami.com
SUMMARY:Wynwood BID Board Meeting
DESCRIPTION:The Wynwood BID will be holding its monthly board meeting at 11:00 am. All are welcome to attend. For the agenda or past meeting minutes\, visit: https://wynwoodmiami.com/learn/meeting-agenda/
URL:https://wynwoodmiami.com/event/wynwood-bid-board-meeting-3-2020-02-12/
LOCATION:WeWork Wynwood Garage\, 360 Northwest 27 Street\, Miami\, FL\, 33127\, United States
CATEGORIES:Family + Community,Learning + Enrichment
ATTACH;FMTTYPE=image/jpeg:https://wynwoodmiami.com/wp-content/uploads/dmargherite_WBID_juneboardmeeting-8622.jpg
END:VEVENT
END:VCALENDAR